Back to Multiple platform build/check report for BioC 3.13 experimental data
ABCDEFGHIJKLMNOPQR[S]TUVWXYZ

INSTALL report for SCLCBam on riesling1

This page was generated on 2021-01-14 15:59:11 -0500 (Thu, 14 Jan 2021).

TO THE DEVELOPERS/MAINTAINERS OF THE SCLCBam PACKAGE: Please make sure to use the following settings in order to reproduce any error or warning you see on this page.
Package 322/385HostnameOS / ArchINSTALLBUILDCHECK
SCLCBam 1.23.0
Oscar Krijgsman
Snapshot Date: 2021-01-14 09:00:13 -0500 (Thu, 14 Jan 2021)
URL: https://git.bioconductor.org/packages/SCLCBam
Branch: master
Last Commit: e3082d6
Last Changed Date: 2020-10-27 10:12:47 -0500 (Tue, 27 Oct 2020)
malbec2 Linux (Ubuntu 20.04.1 LTS) / x86_64  OK  OK  OK UNNEEDED, same version exists in internal repository
riesling1 Windows Server 2019 Standard / x64 [ OK ] OK  OK 

Summary

Package: SCLCBam
Version: 1.23.0
Command: C:\cygwin\bin\curl.exe -O http://172.29.0.4/BBS/3.13/data-experiment/src/contrib/SCLCBam_1.23.0.tar.gz && rm -rf SCLCBam.buildbin-libdir && mkdir SCLCBam.buildbin-libdir && D:\biocbuild\bbs-3.13-bioc\R\bin\R.exe CMD INSTALL --merge-multiarch --build --library=SCLCBam.buildbin-libdir SCLCBam_1.23.0.tar.gz && D:\biocbuild\bbs-3.13-bioc\R\bin\R.exe CMD INSTALL SCLCBam_1.23.0.zip && rm SCLCBam_1.23.0.tar.gz SCLCBam_1.23.0.zip
StartedAt: 2021-01-14 09:50:34 -0500 (Thu, 14 Jan 2021)
EndedAt: 2021-01-14 09:51:04 -0500 (Thu, 14 Jan 2021)
EllapsedTime: 29.7 seconds
RetCode: 0
Status:  OK  

Command output

##############################################################################
##############################################################################
###
### Running command:
###
###   C:\cygwin\bin\curl.exe -O http://172.29.0.4/BBS/3.13/data-experiment/src/contrib/SCLCBam_1.23.0.tar.gz && rm -rf SCLCBam.buildbin-libdir && mkdir SCLCBam.buildbin-libdir && D:\biocbuild\bbs-3.13-bioc\R\bin\R.exe CMD INSTALL --merge-multiarch --build --library=SCLCBam.buildbin-libdir SCLCBam_1.23.0.tar.gz && D:\biocbuild\bbs-3.13-bioc\R\bin\R.exe CMD INSTALL SCLCBam_1.23.0.zip && rm SCLCBam_1.23.0.tar.gz SCLCBam_1.23.0.zip
###
##############################################################################
##############################################################################


  % Total    % Received % Xferd  Average Speed   Time    Time     Time  Current
                                 Dload  Upload   Total   Spent    Left  Speed

  0     0    0     0    0     0      0      0 --:--:-- --:--:-- --:--:--     0
  0 57.7M    0  263k    0     0   237k      0  0:04:08  0:00:01  0:04:07  238k
  4 57.7M    4 2650k    0     0  1164k      0  0:00:50  0:00:02  0:00:48 1164k
  5 57.7M    5 3433k    0     0  1060k      0  0:00:55  0:00:03  0:00:52 1060k
  5 57.7M    5 3467k    0     0   816k      0  0:01:12  0:00:04  0:01:08  817k
  6 57.7M    6 3859k    0     0   729k      0  0:01:21  0:00:05  0:01:16  729k
  7 57.7M    7 4264k    0     0   669k      0  0:01:28  0:00:06  0:01:22  760k
  7 57.7M    7 4617k    0     0   650k      0  0:01:30  0:00:07  0:01:23  408k
  9 57.7M    9 5849k    0     0   740k      0  0:01:19  0:00:07  0:01:12  518k
 22 57.7M   22 13.0M    0     0  1464k      0  0:00:40  0:00:09  0:00:31 2025k
 52 57.7M   52 30.0M    0     0  3027k      0  0:00:19  0:00:10  0:00:09 5526k
 66 57.7M   66 38.1M    0     0  3329k      0  0:00:17  0:00:11  0:00:06 6483k
 66 57.7M   66 38.1M    0     0  3254k      0  0:00:18  0:00:12  0:00:06 7006k
 73 57.7M   73 42.3M    0     0  3289k      0  0:00:17  0:00:13  0:00:04 7101k
 77 57.7M   77 44.9M    0     0  3217k      0  0:00:18  0:00:14  0:00:04 6319k
 80 57.7M   80 46.2M    0     0  3175k      0  0:00:18  0:00:14  0:00:04 3489k
 82 57.7M   82 47.5M    0     0  2984k      0  0:00:19  0:00:16  0:00:03 2096k
 84 57.7M   84 48.9M    0     0  2891k      0  0:00:20  0:00:17  0:00:03 2069k
 84 57.7M   84 48.9M    0     0  2670k      0  0:00:22  0:00:18  0:00:04 1204k
 84 57.7M   84 48.9M    0     0  2642k      0  0:00:22  0:00:18  0:00:04  877k
 93 57.7M   93 54.1M    0     0  2697k      0  0:00:21  0:00:20  0:00:01 1429k
100 57.7M  100 57.7M    0     0  2856k      0  0:00:20  0:00:20 --:--:-- 2382k

install for i386

* installing *source* package 'SCLCBam' ...
** using staged installation
** R
** inst
** byte-compile and prepare package for lazy loading
** help
*** installing help indices
  converting help for package 'SCLCBam'
    finding HTML links ... done
    getPathBamFolder                        html  
REDIRECT:topic	 getPathBamFolder -> getPathBamFolder.html [ SUCCESS ]
REDIRECT:topic	 SCLCBam -> getPathBamFolder.html [ SUCCESS ]
** building package indices
** installing vignettes
** testing if installed package can be loaded from temporary location
** testing if installed package can be loaded from final location
** testing if installed package keeps a record of temporary installation path

install for x64

* installing *source* package 'SCLCBam' ...
** testing if installed package can be loaded
* MD5 sums
packaged installation of 'SCLCBam' as SCLCBam_1.23.0.zip
* DONE (SCLCBam)
* installing to library 'D:/biocbuild/bbs-3.13-bioc/R/library'
package 'SCLCBam' successfully unpacked and MD5 sums checked