Back to Multiple platform build/check report for BioC 3.13 experimental data
ABCDEFGHIJKLMNOPQR[S]TUVWXYZ

INSTALL report for SCATEData on riesling1

This page was generated on 2021-01-18 15:58:51 -0500 (Mon, 18 Jan 2021).

TO THE DEVELOPERS/MAINTAINERS OF THE SCATEData PACKAGE: Please make sure to use the following settings in order to reproduce any error or warning you see on this page.
Package 321/385HostnameOS / ArchINSTALLBUILDCHECK
SCATEData 1.1.0
Wenpin Hou
Snapshot Date: 2021-01-18 09:00:15 -0500 (Mon, 18 Jan 2021)
URL: https://git.bioconductor.org/packages/SCATEData
Branch: master
Last Commit: 21918ad
Last Changed Date: 2020-10-27 10:32:09 -0500 (Tue, 27 Oct 2020)
malbec2 Linux (Ubuntu 20.04.1 LTS) / x86_64  OK  OK  OK UNNEEDED, same version exists in internal repository
riesling1 Windows Server 2019 Standard / x64 [ OK ] OK  OK 

Summary

Package: SCATEData
Version: 1.1.0
Command: C:\cygwin\bin\curl.exe -O http://172.29.0.4/BBS/3.13/data-experiment/src/contrib/SCATEData_1.1.0.tar.gz && rm -rf SCATEData.buildbin-libdir && mkdir SCATEData.buildbin-libdir && D:\biocbuild\bbs-3.13-bioc\R\bin\R.exe CMD INSTALL --merge-multiarch --build --library=SCATEData.buildbin-libdir SCATEData_1.1.0.tar.gz && D:\biocbuild\bbs-3.13-bioc\R\bin\R.exe CMD INSTALL SCATEData_1.1.0.zip && rm SCATEData_1.1.0.tar.gz SCATEData_1.1.0.zip
StartedAt: 2021-01-18 10:13:15 -0500 (Mon, 18 Jan 2021)
EndedAt: 2021-01-18 10:14:13 -0500 (Mon, 18 Jan 2021)
EllapsedTime: 58.2 seconds
RetCode: 0
Status:  OK  

Command output

##############################################################################
##############################################################################
###
### Running command:
###
###   C:\cygwin\bin\curl.exe -O http://172.29.0.4/BBS/3.13/data-experiment/src/contrib/SCATEData_1.1.0.tar.gz && rm -rf SCATEData.buildbin-libdir && mkdir SCATEData.buildbin-libdir && D:\biocbuild\bbs-3.13-bioc\R\bin\R.exe CMD INSTALL --merge-multiarch --build --library=SCATEData.buildbin-libdir SCATEData_1.1.0.tar.gz && D:\biocbuild\bbs-3.13-bioc\R\bin\R.exe CMD INSTALL SCATEData_1.1.0.zip && rm SCATEData_1.1.0.tar.gz SCATEData_1.1.0.zip
###
##############################################################################
##############################################################################


  % Total    % Received % Xferd  Average Speed   Time    Time     Time  Current
                                 Dload  Upload   Total   Spent    Left  Speed

  0     0    0     0    0     0      0      0 --:--:-- --:--:-- --:--:--     0
 40  159M   40 64.7M    0     0   107M      0  0:00:01 --:--:--  0:00:01  107M
 99  159M   99  159M    0     0  99.3M      0  0:00:01  0:00:01 --:--:-- 99.3M
100  159M  100  159M    0     0  99.3M      0  0:00:01  0:00:01 --:--:-- 99.2M

install for i386

* installing *source* package 'SCATEData' ...
** using staged installation
** R
** inst
** byte-compile and prepare package for lazy loading
** help
*** installing help indices
  converting help for package 'SCATEData'
    finding HTML links ... done
    GSM1596831.bam                          html  
REDIRECT:topic	 GSM1596831.bam -> GSM1596831.bam.html [ SUCCESS ]
    GSM1596840.bam                          html  
REDIRECT:topic	 GSM1596840.bam -> GSM1596840.bam.html [ SUCCESS ]
    GSM1596874.bam                          html  
REDIRECT:topic	 GSM1596874.bam -> GSM1596874.bam.html [ SUCCESS ]
    GSM1596881.bam                          html  
REDIRECT:topic	 GSM1596881.bam -> GSM1596881.bam.html [ SUCCESS ]
    GSM1596940.bam                          html  
REDIRECT:topic	 GSM1596940.bam -> GSM1596940.bam.html [ SUCCESS ]
    GSM1596942.bam                          html  
REDIRECT:topic	 GSM1596942.bam -> GSM1596942.bam.html [ SUCCESS ]
    GSM1596944.bam                          html  
REDIRECT:topic	 GSM1596944.bam -> GSM1596944.bam.html [ SUCCESS ]
    GSM1596961.bam                          html  
REDIRECT:topic	 GSM1596961.bam -> GSM1596961.bam.html [ SUCCESS ]
    GSM1597041.bam                          html  
REDIRECT:topic	 GSM1597041.bam -> GSM1597041.bam.html [ SUCCESS ]
    GSM1597096.bam                          html  
REDIRECT:topic	 GSM1597096.bam -> GSM1597096.bam.html [ SUCCESS ]
    SCATEData-package                       html  
REDIRECT:topic	 SCATEData -> SCATEData-package.html [ SUCCESS ]
REDIRECT:topic	 SCATEData-package -> SCATEData-package.html [ SUCCESS ]
    finding level-2 HTML links ... done

    SRR1779746.bam                          html  
REDIRECT:topic	 SRR1779746.bam -> SRR1779746.bam.html [ SUCCESS ]
    SRR1779805.bam                          html  
REDIRECT:topic	 SRR1779805.bam -> SRR1779805.bam.html [ SUCCESS ]
    SRR1779856.bam                          html  
REDIRECT:topic	 SRR1779856.bam -> SRR1779856.bam.html [ SUCCESS ]
    SRR1779874.bam                          html  
REDIRECT:topic	 SRR1779874.bam -> SRR1779874.bam.html [ SUCCESS ]
    SRR1779956.bam                          html  
REDIRECT:topic	 SRR1779956.bam -> SRR1779956.bam.html [ SUCCESS ]
    SRR1779959.bam                          html  
REDIRECT:topic	 SRR1779959.bam -> SRR1779959.bam.html [ SUCCESS ]
    SRR1779973.bam                          html  
REDIRECT:topic	 SRR1779973.bam -> SRR1779973.bam.html [ SUCCESS ]
    SRR1780018.bam                          html  
REDIRECT:topic	 SRR1780018.bam -> SRR1780018.bam.html [ SUCCESS ]
    SRR1780020.bam                          html  
REDIRECT:topic	 SRR1780020.bam -> SRR1780020.bam.html [ SUCCESS ]
    SRR1780054.bam                          html  
REDIRECT:topic	 SRR1780054.bam -> SRR1780054.bam.html [ SUCCESS ]
    hg19.rds                                html  
REDIRECT:topic	 hg19.rds -> hg19.rds.html [ SUCCESS ]
REDIRECT:topic	 hg19 annotation file -> hg19.rds.html [ SUCCESS ]
    mm10.rds                                html  
REDIRECT:topic	 mm10.rds -> mm10.rds.html [ SUCCESS ]
REDIRECT:topic	 mm10 annotation file -> mm10.rds.html [ SUCCESS ]
** building package indices
** installing vignettes
** testing if installed package can be loaded from temporary location
snapshotDate(): 2021-01-15
** testing if installed package can be loaded from final location
snapshotDate(): 2021-01-15
** testing if installed package keeps a record of temporary installation path

install for x64

* installing *source* package 'SCATEData' ...
** testing if installed package can be loaded
snapshotDate(): 2021-01-15
* MD5 sums
packaged installation of 'SCATEData' as SCATEData_1.1.0.zip
* DONE (SCATEData)
* installing to library 'D:/biocbuild/bbs-3.13-bioc/R/library'
package 'SCATEData' successfully unpacked and MD5 sums checked