Back to Multiple platform build/check report for BioC 3.13 experimental data |
|
This page was generated on 2021-01-11 15:59:33 -0500 (Mon, 11 Jan 2021).
TO THE DEVELOPERS/MAINTAINERS OF THE RnaSeqSampleSizeData PACKAGE: Please make sure to use the following settings in order to reproduce any error or warning you see on this page. |
Package 302/385 | Hostname | OS / Arch | INSTALL | BUILD | CHECK | ||||||
RnaSeqSampleSizeData 1.23.0 Shilin Zhao
| malbec2 | Linux (Ubuntu 20.04.1 LTS) / x86_64 | OK | OK | OK | ![]() | |||||
riesling1 | Windows Server 2019 Standard / x64 | OK | OK | [ OK ] |
Package: RnaSeqSampleSizeData |
Version: 1.23.0 |
Command: D:\biocbuild\bbs-3.13-bioc\R\bin\R.exe CMD check --force-multiarch --install=check:RnaSeqSampleSizeData.install-out.txt --library=D:\biocbuild\bbs-3.13-bioc\R\library --no-vignettes --timings RnaSeqSampleSizeData_1.23.0.tar.gz |
StartedAt: 2021-01-11 11:43:17 -0500 (Mon, 11 Jan 2021) |
EndedAt: 2021-01-11 11:43:47 -0500 (Mon, 11 Jan 2021) |
EllapsedTime: 30.0 seconds |
RetCode: 0 |
Status: OK |
CheckDir: RnaSeqSampleSizeData.Rcheck |
Warnings: 0 |
############################################################################## ############################################################################## ### ### Running command: ### ### D:\biocbuild\bbs-3.13-bioc\R\bin\R.exe CMD check --force-multiarch --install=check:RnaSeqSampleSizeData.install-out.txt --library=D:\biocbuild\bbs-3.13-bioc\R\library --no-vignettes --timings RnaSeqSampleSizeData_1.23.0.tar.gz ### ############################################################################## ############################################################################## * using log directory 'D:/biocbuild/bbs-3.13-data-experiment/meat/RnaSeqSampleSizeData.Rcheck' * using R Under development (unstable) (2020-12-30 r79736) * using platform: x86_64-w64-mingw32 (64-bit) * using session charset: ISO8859-1 * using option '--no-vignettes' * checking for file 'RnaSeqSampleSizeData/DESCRIPTION' ... OK * checking extension type ... Package * this is package 'RnaSeqSampleSizeData' version '1.23.0' * checking package namespace information ... OK * checking package dependencies ... OK * checking if this is a source package ... OK * checking if there is a namespace ... OK * checking for hidden files and directories ... OK * checking for portable file names ... OK * checking whether package 'RnaSeqSampleSizeData' can be installed ... OK * checking installed package size ... NOTE installed size is 6.0Mb sub-directories of 1Mb or more: data 5.9Mb * checking package directory ... OK * checking 'build' directory ... OK * checking DESCRIPTION meta-information ... OK * checking top-level files ... OK * checking for left-over files ... OK * checking index information ... OK * checking package subdirectories ... OK * checking R files for non-ASCII characters ... OK * checking R files for syntax errors ... OK * loading checks for arch 'i386' ** checking whether the package can be loaded ... OK ** checking whether the package can be loaded with stated dependencies ... OK ** checking whether the package can be unloaded cleanly ... OK ** checking whether the namespace can be loaded with stated dependencies ... OK ** checking whether the namespace can be unloaded cleanly ... OK * loading checks for arch 'x64' ** checking whether the package can be loaded ... OK ** checking whether the package can be loaded with stated dependencies ... OK ** checking whether the package can be unloaded cleanly ... OK ** checking whether the namespace can be loaded with stated dependencies ... OK ** checking whether the namespace can be unloaded cleanly ... OK * checking dependencies in R code ... OK * checking S3 generic/method consistency ... OK * checking replacement functions ... OK * checking foreign function calls ... OK * checking R code for possible problems ... OK * checking Rd files ... OK * checking Rd metadata ... OK * checking Rd cross-references ... OK * checking for missing documentation entries ... OK * checking for code/documentation mismatches ... OK * checking Rd \usage sections ... OK * checking Rd contents ... OK * checking for unstated dependencies in examples ... OK * checking contents of 'data' directory ... OK * checking data for non-ASCII characters ... OK * checking data for ASCII and uncompressed saves ... OK * checking files in 'vignettes' ... OK * checking examples ... NONE * checking for unstated dependencies in vignettes ... OK * checking package vignettes in 'inst/doc' ... OK * checking running R code from vignettes ... SKIPPED * checking re-building of vignette outputs ... SKIPPED * checking PDF version of manual ... OK * DONE Status: 1 NOTE See 'D:/biocbuild/bbs-3.13-data-experiment/meat/RnaSeqSampleSizeData.Rcheck/00check.log' for details.
RnaSeqSampleSizeData.Rcheck/00install.out
############################################################################## ############################################################################## ### ### Running command: ### ### C:\cygwin\bin\curl.exe -O http://172.29.0.4/BBS/3.13/data-experiment/src/contrib/RnaSeqSampleSizeData_1.23.0.tar.gz && rm -rf RnaSeqSampleSizeData.buildbin-libdir && mkdir RnaSeqSampleSizeData.buildbin-libdir && D:\biocbuild\bbs-3.13-bioc\R\bin\R.exe CMD INSTALL --merge-multiarch --build --library=RnaSeqSampleSizeData.buildbin-libdir RnaSeqSampleSizeData_1.23.0.tar.gz && D:\biocbuild\bbs-3.13-bioc\R\bin\R.exe CMD INSTALL RnaSeqSampleSizeData_1.23.0.zip && rm RnaSeqSampleSizeData_1.23.0.tar.gz RnaSeqSampleSizeData_1.23.0.zip ### ############################################################################## ############################################################################## % Total % Received % Xferd Average Speed Time Time Time Current Dload Upload Total Spent Left Speed 0 0 0 0 0 0 0 0 --:--:-- --:--:-- --:--:-- 0 0 6021k 0 1215 0 0 71470 0 0:01:26 --:--:-- 0:01:26 67500 100 6021k 100 6021k 0 0 71.7M 0 --:--:-- --:--:-- --:--:-- 70.8M install for i386 * installing *source* package 'RnaSeqSampleSizeData' ... ** using staged installation ** R ** data ** byte-compile and prepare package for lazy loading ** help *** installing help indices converting help for package 'RnaSeqSampleSizeData' finding HTML links ... done TCGA_BLCA html REDIRECT:topic TCGA_BLCA -> TCGA_BLCA.html [ SUCCESS ] TCGA_BRCA html REDIRECT:topic TCGA_BRCA -> TCGA_BRCA.html [ SUCCESS ] TCGA_CESC html REDIRECT:topic TCGA_CESC -> TCGA_CESC.html [ SUCCESS ] TCGA_COAD html REDIRECT:topic TCGA_COAD -> TCGA_COAD.html [ SUCCESS ] TCGA_HNSC html REDIRECT:topic TCGA_HNSC -> TCGA_HNSC.html [ SUCCESS ] TCGA_KIRC html REDIRECT:topic TCGA_KIRC -> TCGA_KIRC.html [ SUCCESS ] TCGA_LGG html REDIRECT:topic TCGA_LGG -> TCGA_LGG.html [ SUCCESS ] TCGA_LUAD html REDIRECT:topic TCGA_LUAD -> TCGA_LUAD.html [ SUCCESS ] TCGA_LUSC html REDIRECT:topic TCGA_LUSC -> TCGA_LUSC.html [ SUCCESS ] TCGA_PRAD html REDIRECT:topic TCGA_PRAD -> TCGA_PRAD.html [ SUCCESS ] TCGA_READ html REDIRECT:topic TCGA_READ -> TCGA_READ.html [ SUCCESS ] TCGA_THCA html REDIRECT:topic TCGA_THCA -> TCGA_THCA.html [ SUCCESS ] TCGA_UCEC html REDIRECT:topic TCGA_UCEC -> TCGA_UCEC.html [ SUCCESS ] ** building package indices ** installing vignettes ** testing if installed package can be loaded from temporary location ** testing if installed package can be loaded from final location ** testing if installed package keeps a record of temporary installation path install for x64 * installing *source* package 'RnaSeqSampleSizeData' ... ** testing if installed package can be loaded * MD5 sums packaged installation of 'RnaSeqSampleSizeData' as RnaSeqSampleSizeData_1.23.0.zip * DONE (RnaSeqSampleSizeData) * installing to library 'D:/biocbuild/bbs-3.13-bioc/R/library' package 'RnaSeqSampleSizeData' successfully unpacked and MD5 sums checked