Back to Multiple platform build/check report for BioC 3.13 experimental data
ABCDEFGHIJKLMNOPQ[R]STUVWXYZ

BUILD report for RnaSeqSampleSizeData on riesling1

This page was generated on 2021-01-14 15:59:11 -0500 (Thu, 14 Jan 2021).

TO THE DEVELOPERS/MAINTAINERS OF THE RnaSeqSampleSizeData PACKAGE: Please make sure to use the following settings in order to reproduce any error or warning you see on this page.
Package 302/385HostnameOS / ArchINSTALLBUILDCHECK
RnaSeqSampleSizeData 1.23.0
Shilin Zhao
Snapshot Date: 2021-01-14 09:00:13 -0500 (Thu, 14 Jan 2021)
URL: https://git.bioconductor.org/packages/RnaSeqSampleSizeData
Branch: master
Last Commit: d4bd78e
Last Changed Date: 2020-10-27 10:11:01 -0500 (Tue, 27 Oct 2020)
malbec2 Linux (Ubuntu 20.04.1 LTS) / x86_64  OK  OK  OK UNNEEDED, same version exists in internal repository
riesling1 Windows Server 2019 Standard / x64  OK [ OK ] OK 

Summary

Package: RnaSeqSampleSizeData
Version: 1.23.0
Command: chmod a+r RnaSeqSampleSizeData -R && D:\biocbuild\bbs-3.13-bioc\R\bin\R.exe CMD build --keep-empty-dirs --no-resave-data RnaSeqSampleSizeData
StartedAt: 2021-01-14 10:51:23 -0500 (Thu, 14 Jan 2021)
EndedAt: 2021-01-14 10:51:36 -0500 (Thu, 14 Jan 2021)
EllapsedTime: 12.9 seconds
RetCode: 0
Status:  OK  
PackageFile: RnaSeqSampleSizeData_1.23.0.tar.gz
PackageFileSize: 6.03 MiB

Command output

##############################################################################
##############################################################################
###
### Running command:
###
###   chmod a+r RnaSeqSampleSizeData -R && D:\biocbuild\bbs-3.13-bioc\R\bin\R.exe CMD build --keep-empty-dirs --no-resave-data RnaSeqSampleSizeData
###
##############################################################################
##############################################################################


* checking for file 'RnaSeqSampleSizeData/DESCRIPTION' ... OK
* preparing 'RnaSeqSampleSizeData':
* checking DESCRIPTION meta-information ... OK
* installing the package to build vignettes
* creating vignettes ... OK
* checking for LF line-endings in source and make files and shell scripts
* checking for empty or unneeded directories
* looking to see if a 'data/datalist' file should be added
* building 'RnaSeqSampleSizeData_1.23.0.tar.gz'