Back to Multiple platform build/check report for BioC 3.13 experimental data
ABCDEFGHIJKLMNOPQ[R]STUVWXYZ

INSTALL report for RnBeads.rn5 on riesling1

This page was generated on 2021-01-18 15:58:50 -0500 (Mon, 18 Jan 2021).

TO THE DEVELOPERS/MAINTAINERS OF THE RnBeads.rn5 PACKAGE: Please make sure to use the following settings in order to reproduce any error or warning you see on this page.
Package 307/385HostnameOS / ArchINSTALLBUILDCHECK
RnBeads.rn5 1.23.0
RnBeadsAnnotationCreator
Snapshot Date: 2021-01-18 09:00:15 -0500 (Mon, 18 Jan 2021)
URL: https://git.bioconductor.org/packages/RnBeads.rn5
Branch: master
Last Commit: 00a36db
Last Changed Date: 2020-10-27 10:13:16 -0500 (Tue, 27 Oct 2020)
malbec2 Linux (Ubuntu 20.04.1 LTS) / x86_64  OK  OK  OK UNNEEDED, same version exists in internal repository
riesling1 Windows Server 2019 Standard / x64 [ OK ] OK  OK 

Summary

Package: RnBeads.rn5
Version: 1.23.0
Command: C:\cygwin\bin\curl.exe -O http://172.29.0.4/BBS/3.13/data-experiment/src/contrib/RnBeads.rn5_1.23.0.tar.gz && rm -rf RnBeads.rn5.buildbin-libdir && mkdir RnBeads.rn5.buildbin-libdir && D:\biocbuild\bbs-3.13-bioc\R\bin\R.exe CMD INSTALL --merge-multiarch --build --library=RnBeads.rn5.buildbin-libdir RnBeads.rn5_1.23.0.tar.gz && D:\biocbuild\bbs-3.13-bioc\R\bin\R.exe CMD INSTALL RnBeads.rn5_1.23.0.zip && rm RnBeads.rn5_1.23.0.tar.gz RnBeads.rn5_1.23.0.zip
StartedAt: 2021-01-18 10:07:49 -0500 (Mon, 18 Jan 2021)
EndedAt: 2021-01-18 10:08:42 -0500 (Mon, 18 Jan 2021)
EllapsedTime: 52.7 seconds
RetCode: 0
Status:  OK  

Command output

##############################################################################
##############################################################################
###
### Running command:
###
###   C:\cygwin\bin\curl.exe -O http://172.29.0.4/BBS/3.13/data-experiment/src/contrib/RnBeads.rn5_1.23.0.tar.gz && rm -rf RnBeads.rn5.buildbin-libdir && mkdir RnBeads.rn5.buildbin-libdir && D:\biocbuild\bbs-3.13-bioc\R\bin\R.exe CMD INSTALL --merge-multiarch --build --library=RnBeads.rn5.buildbin-libdir RnBeads.rn5_1.23.0.tar.gz && D:\biocbuild\bbs-3.13-bioc\R\bin\R.exe CMD INSTALL RnBeads.rn5_1.23.0.zip && rm RnBeads.rn5_1.23.0.tar.gz RnBeads.rn5_1.23.0.zip
###
##############################################################################
##############################################################################


  % Total    % Received % Xferd  Average Speed   Time    Time     Time  Current
                                 Dload  Upload   Total   Spent    Left  Speed

  0     0    0     0    0     0      0      0 --:--:-- --:--:-- --:--:--     0
 53  106M   53 57.3M    0     0  58.5M      0  0:00:01 --:--:--  0:00:01 58.5M
100  106M  100  106M    0     0  72.8M      0  0:00:01  0:00:01 --:--:-- 72.8M

install for i386

* installing *source* package 'RnBeads.rn5' ...
** using staged installation
** R
** data
** inst
** byte-compile and prepare package for lazy loading
** help
*** installing help indices
  converting help for package 'RnBeads.rn5'
    finding HTML links ... done
    rn5                                     html  
REDIRECT:topic	 rn5 -> rn5.html [ SUCCESS ]
REDIRECT:topic	 regions -> rn5.html [ SUCCESS ]
REDIRECT:topic	 sites -> rn5.html [ SUCCESS ]
** building package indices
** testing if installed package can be loaded from temporary location
** testing if installed package can be loaded from final location
** testing if installed package keeps a record of temporary installation path

install for x64

* installing *source* package 'RnBeads.rn5' ...
** testing if installed package can be loaded
* MD5 sums
packaged installation of 'RnBeads.rn5' as RnBeads.rn5_1.23.0.zip
* DONE (RnBeads.rn5)
* installing to library 'D:/biocbuild/bbs-3.13-bioc/R/library'
package 'RnBeads.rn5' successfully unpacked and MD5 sums checked