Back to Multiple platform build/check report for BioC 3.13 experimental data
ABCDEFGHIJKLMNOPQ[R]STUVWXYZ

BUILD report for RnBeads.rn5 on riesling1

This page was generated on 2021-01-14 15:59:11 -0500 (Thu, 14 Jan 2021).

TO THE DEVELOPERS/MAINTAINERS OF THE RnBeads.rn5 PACKAGE: Please make sure to use the following settings in order to reproduce any error or warning you see on this page.
Package 307/385HostnameOS / ArchINSTALLBUILDCHECK
RnBeads.rn5 1.23.0
RnBeadsAnnotationCreator
Snapshot Date: 2021-01-14 09:00:13 -0500 (Thu, 14 Jan 2021)
URL: https://git.bioconductor.org/packages/RnBeads.rn5
Branch: master
Last Commit: 00a36db
Last Changed Date: 2020-10-27 10:13:16 -0500 (Tue, 27 Oct 2020)
malbec2 Linux (Ubuntu 20.04.1 LTS) / x86_64  OK  OK  OK UNNEEDED, same version exists in internal repository
riesling1 Windows Server 2019 Standard / x64  OK [ OK ] OK 

Summary

Package: RnBeads.rn5
Version: 1.23.0
Command: chmod a+r RnBeads.rn5 -R && D:\biocbuild\bbs-3.13-bioc\R\bin\R.exe CMD build --keep-empty-dirs --no-resave-data RnBeads.rn5
StartedAt: 2021-01-14 10:51:40 -0500 (Thu, 14 Jan 2021)
EndedAt: 2021-01-14 10:51:51 -0500 (Thu, 14 Jan 2021)
EllapsedTime: 10.4 seconds
RetCode: 0
Status:  OK  
PackageFile: RnBeads.rn5_1.23.0.tar.gz
PackageFileSize: 106.8 MiB

Command output

##############################################################################
##############################################################################
###
### Running command:
###
###   chmod a+r RnBeads.rn5 -R && D:\biocbuild\bbs-3.13-bioc\R\bin\R.exe CMD build --keep-empty-dirs --no-resave-data RnBeads.rn5
###
##############################################################################
##############################################################################


* checking for file 'RnBeads.rn5/DESCRIPTION' ... OK
* preparing 'RnBeads.rn5':
* checking DESCRIPTION meta-information ... OK
* checking for LF line-endings in source and make files and shell scripts
* checking for empty or unneeded directories
* looking to see if a 'data/datalist' file should be added
* building 'RnBeads.rn5_1.23.0.tar.gz'