Back to Multiple platform build/check report for BioC 3.13 experimental data |
|
This page was generated on 2021-01-18 15:58:50 -0500 (Mon, 18 Jan 2021).
TO THE DEVELOPERS/MAINTAINERS OF THE RnBeads.hg38 PACKAGE: Please make sure to use the following settings in order to reproduce any error or warning you see on this page. |
Package 304/385 | Hostname | OS / Arch | INSTALL | BUILD | CHECK | ||||||
RnBeads.hg38 1.23.0 RnBeadsAnnotationCreator
| malbec2 | Linux (Ubuntu 20.04.1 LTS) / x86_64 | OK | OK | OK | ![]() | |||||
riesling1 | Windows Server 2019 Standard / x64 | [ OK ] | OK | OK |
Package: RnBeads.hg38 |
Version: 1.23.0 |
Command: C:\cygwin\bin\curl.exe -O http://172.29.0.4/BBS/3.13/data-experiment/src/contrib/RnBeads.hg38_1.23.0.tar.gz && rm -rf RnBeads.hg38.buildbin-libdir && mkdir RnBeads.hg38.buildbin-libdir && D:\biocbuild\bbs-3.13-bioc\R\bin\R.exe CMD INSTALL --merge-multiarch --build --library=RnBeads.hg38.buildbin-libdir RnBeads.hg38_1.23.0.tar.gz && D:\biocbuild\bbs-3.13-bioc\R\bin\R.exe CMD INSTALL RnBeads.hg38_1.23.0.zip && rm RnBeads.hg38_1.23.0.tar.gz RnBeads.hg38_1.23.0.zip |
StartedAt: 2021-01-18 10:07:38 -0500 (Mon, 18 Jan 2021) |
EndedAt: 2021-01-18 10:08:14 -0500 (Mon, 18 Jan 2021) |
EllapsedTime: 35.3 seconds |
RetCode: 0 |
Status: OK |
############################################################################## ############################################################################## ### ### Running command: ### ### C:\cygwin\bin\curl.exe -O http://172.29.0.4/BBS/3.13/data-experiment/src/contrib/RnBeads.hg38_1.23.0.tar.gz && rm -rf RnBeads.hg38.buildbin-libdir && mkdir RnBeads.hg38.buildbin-libdir && D:\biocbuild\bbs-3.13-bioc\R\bin\R.exe CMD INSTALL --merge-multiarch --build --library=RnBeads.hg38.buildbin-libdir RnBeads.hg38_1.23.0.tar.gz && D:\biocbuild\bbs-3.13-bioc\R\bin\R.exe CMD INSTALL RnBeads.hg38_1.23.0.zip && rm RnBeads.hg38_1.23.0.tar.gz RnBeads.hg38_1.23.0.zip ### ############################################################################## ############################################################################## % Total % Received % Xferd Average Speed Time Time Time Current Dload Upload Total Spent Left Speed 0 0 0 0 0 0 0 0 --:--:-- --:--:-- --:--:-- 0 28 66.8M 28 19.3M 0 0 25.4M 0 0:00:02 --:--:-- 0:00:02 25.4M 100 66.8M 100 66.8M 0 0 45.8M 0 0:00:01 0:00:01 --:--:-- 45.8M install for i386 * installing *source* package 'RnBeads.hg38' ... ** using staged installation ** data ** inst ** help *** installing help indices converting help for package 'RnBeads.hg38' finding HTML links ... done hg38 html REDIRECT:topic hg38 -> hg38.html [ SUCCESS ] REDIRECT:topic regions -> hg38.html [ SUCCESS ] REDIRECT:topic sites -> hg38.html [ SUCCESS ] ** building package indices ** testing if installed package can be loaded from temporary location ** testing if installed package can be loaded from final location ** testing if installed package keeps a record of temporary installation path install for x64 * installing *source* package 'RnBeads.hg38' ... ** testing if installed package can be loaded * MD5 sums packaged installation of 'RnBeads.hg38' as RnBeads.hg38_1.23.0.zip * DONE (RnBeads.hg38) * installing to library 'D:/biocbuild/bbs-3.13-bioc/R/library' package 'RnBeads.hg38' successfully unpacked and MD5 sums checked