Back to Multiple platform build/check report for BioC 3.13 experimental data
ABCDEFGHIJKLMNOPQ[R]STUVWXYZ

CHECK report for RnBeads.hg38 on riesling1

This page was generated on 2021-01-14 15:59:11 -0500 (Thu, 14 Jan 2021).

TO THE DEVELOPERS/MAINTAINERS OF THE RnBeads.hg38 PACKAGE: Please make sure to use the following settings in order to reproduce any error or warning you see on this page.
Package 304/385HostnameOS / ArchINSTALLBUILDCHECK
RnBeads.hg38 1.23.0
RnBeadsAnnotationCreator
Snapshot Date: 2021-01-14 09:00:13 -0500 (Thu, 14 Jan 2021)
URL: https://git.bioconductor.org/packages/RnBeads.hg38
Branch: master
Last Commit: bc8c719
Last Changed Date: 2020-10-27 10:13:38 -0500 (Tue, 27 Oct 2020)
malbec2 Linux (Ubuntu 20.04.1 LTS) / x86_64  OK  OK  OK UNNEEDED, same version exists in internal repository
riesling1 Windows Server 2019 Standard / x64  OK  OK [ OK ]

Summary

Package: RnBeads.hg38
Version: 1.23.0
Command: D:\biocbuild\bbs-3.13-bioc\R\bin\R.exe CMD check --force-multiarch --install=check:RnBeads.hg38.install-out.txt --library=D:\biocbuild\bbs-3.13-bioc\R\library --no-vignettes --timings RnBeads.hg38_1.23.0.tar.gz
StartedAt: 2021-01-14 11:39:09 -0500 (Thu, 14 Jan 2021)
EndedAt: 2021-01-14 11:40:24 -0500 (Thu, 14 Jan 2021)
EllapsedTime: 74.4 seconds
RetCode: 0
Status:  OK  
CheckDir: RnBeads.hg38.Rcheck
Warnings: 0

Command output

##############################################################################
##############################################################################
###
### Running command:
###
###   D:\biocbuild\bbs-3.13-bioc\R\bin\R.exe CMD check --force-multiarch --install=check:RnBeads.hg38.install-out.txt --library=D:\biocbuild\bbs-3.13-bioc\R\library --no-vignettes --timings RnBeads.hg38_1.23.0.tar.gz
###
##############################################################################
##############################################################################


* using log directory 'D:/biocbuild/bbs-3.13-data-experiment/meat/RnBeads.hg38.Rcheck'
* using R Under development (unstable) (2020-12-30 r79736)
* using platform: x86_64-w64-mingw32 (64-bit)
* using session charset: ISO8859-1
* using option '--no-vignettes'
* checking for file 'RnBeads.hg38/DESCRIPTION' ... OK
* this is package 'RnBeads.hg38' version '1.23.0'
* checking package namespace information ... OK
* checking package dependencies ... OK
* checking if this is a source package ... OK
* checking if there is a namespace ... OK
* checking for hidden files and directories ... OK
* checking for portable file names ... OK
* checking whether package 'RnBeads.hg38' can be installed ... OK
* checking installed package size ... NOTE
  installed size is 66.9Mb
  sub-directories of 1Mb or more:
    data  66.9Mb
* checking package directory ... OK
* checking DESCRIPTION meta-information ... OK
* checking top-level files ... OK
* checking for left-over files ... OK
* checking index information ... OK
* checking package subdirectories ... OK
* loading checks for arch 'i386'
** checking whether the package can be loaded ... OK
** checking whether the package can be loaded with stated dependencies ... OK
** checking whether the package can be unloaded cleanly ... OK
** checking whether the namespace can be loaded with stated dependencies ... OK
** checking whether the namespace can be unloaded cleanly ... OK
* loading checks for arch 'x64'
** checking whether the package can be loaded ... OK
** checking whether the package can be loaded with stated dependencies ... OK
** checking whether the package can be unloaded cleanly ... OK
** checking whether the namespace can be loaded with stated dependencies ... OK
** checking whether the namespace can be unloaded cleanly ... OK
* checking Rd files ... OK
* checking Rd metadata ... OK
* checking Rd cross-references ... OK
* checking for missing documentation entries ... OK
* checking for code/documentation mismatches ... OK
* checking Rd \usage sections ... OK
* checking Rd contents ... OK
* checking for unstated dependencies in examples ... OK
* checking contents of 'data' directory ... OK
* checking data for non-ASCII characters ... OK
* checking data for ASCII and uncompressed saves ... OK
* checking examples ... NONE
* checking PDF version of manual ... OK
* DONE

Status: 1 NOTE
See
  'D:/biocbuild/bbs-3.13-data-experiment/meat/RnBeads.hg38.Rcheck/00check.log'
for details.



Installation output

RnBeads.hg38.Rcheck/00install.out

##############################################################################
##############################################################################
###
### Running command:
###
###   C:\cygwin\bin\curl.exe -O http://172.29.0.4/BBS/3.13/data-experiment/src/contrib/RnBeads.hg38_1.23.0.tar.gz && rm -rf RnBeads.hg38.buildbin-libdir && mkdir RnBeads.hg38.buildbin-libdir && D:\biocbuild\bbs-3.13-bioc\R\bin\R.exe CMD INSTALL --merge-multiarch --build --library=RnBeads.hg38.buildbin-libdir RnBeads.hg38_1.23.0.tar.gz && D:\biocbuild\bbs-3.13-bioc\R\bin\R.exe CMD INSTALL RnBeads.hg38_1.23.0.zip && rm RnBeads.hg38_1.23.0.tar.gz RnBeads.hg38_1.23.0.zip
###
##############################################################################
##############################################################################


  % Total    % Received % Xferd  Average Speed   Time    Time     Time  Current
                                 Dload  Upload   Total   Spent    Left  Speed

  0     0    0     0    0     0      0      0 --:--:-- --:--:-- --:--:--     0
 89 66.8M   89 59.6M    0     0  60.1M      0  0:00:01 --:--:--  0:00:01 60.0M
100 66.8M  100 66.8M    0     0  60.8M      0  0:00:01  0:00:01 --:--:-- 60.8M

install for i386

* installing *source* package 'RnBeads.hg38' ...
** using staged installation
** data
** inst
** help
*** installing help indices
  converting help for package 'RnBeads.hg38'
    finding HTML links ... done
    hg38                                    html  
REDIRECT:topic	 hg38 -> hg38.html [ SUCCESS ]
REDIRECT:topic	 regions -> hg38.html [ SUCCESS ]
REDIRECT:topic	 sites -> hg38.html [ SUCCESS ]
** building package indices
** testing if installed package can be loaded from temporary location
** testing if installed package can be loaded from final location
** testing if installed package keeps a record of temporary installation path

install for x64

* installing *source* package 'RnBeads.hg38' ...
** testing if installed package can be loaded
* MD5 sums
packaged installation of 'RnBeads.hg38' as RnBeads.hg38_1.23.0.zip
* DONE (RnBeads.hg38)
* installing to library 'D:/biocbuild/bbs-3.13-bioc/R/library'
package 'RnBeads.hg38' successfully unpacked and MD5 sums checked

Tests output


Example timings