Back to Multiple platform build/check report for BioC 3.13 experimental data
ABCDEFGHIJKLMNOPQ[R]STUVWXYZ

INSTALL report for RegParallel on riesling1

This page was generated on 2021-01-18 15:58:50 -0500 (Mon, 18 Jan 2021).

TO THE DEVELOPERS/MAINTAINERS OF THE RegParallel PACKAGE: Please make sure to use the following settings in order to reproduce any error or warning you see on this page.
Package 291/385HostnameOS / ArchINSTALLBUILDCHECK
RegParallel 1.9.0
Kevin Blighe
Snapshot Date: 2021-01-18 09:00:15 -0500 (Mon, 18 Jan 2021)
URL: https://git.bioconductor.org/packages/RegParallel
Branch: master
Last Commit: fec40a5
Last Changed Date: 2020-10-27 10:27:59 -0500 (Tue, 27 Oct 2020)
malbec2 Linux (Ubuntu 20.04.1 LTS) / x86_64  OK  OK  OK UNNEEDED, same version exists in internal repository
riesling1 Windows Server 2019 Standard / x64 [ OK ] OK  OK 

Summary

Package: RegParallel
Version: 1.9.0
Command: C:\cygwin\bin\curl.exe -O http://172.29.0.4/BBS/3.13/data-experiment/src/contrib/RegParallel_1.9.0.tar.gz && rm -rf RegParallel.buildbin-libdir && mkdir RegParallel.buildbin-libdir && D:\biocbuild\bbs-3.13-bioc\R\bin\R.exe CMD INSTALL --merge-multiarch --build --library=RegParallel.buildbin-libdir RegParallel_1.9.0.tar.gz && D:\biocbuild\bbs-3.13-bioc\R\bin\R.exe CMD INSTALL RegParallel_1.9.0.zip && rm RegParallel_1.9.0.tar.gz RegParallel_1.9.0.zip
StartedAt: 2021-01-18 10:20:25 -0500 (Mon, 18 Jan 2021)
EndedAt: 2021-01-18 10:21:11 -0500 (Mon, 18 Jan 2021)
EllapsedTime: 45.8 seconds
RetCode: 0
Status:  OK  

Command output

##############################################################################
##############################################################################
###
### Running command:
###
###   C:\cygwin\bin\curl.exe -O http://172.29.0.4/BBS/3.13/data-experiment/src/contrib/RegParallel_1.9.0.tar.gz && rm -rf RegParallel.buildbin-libdir && mkdir RegParallel.buildbin-libdir && D:\biocbuild\bbs-3.13-bioc\R\bin\R.exe CMD INSTALL --merge-multiarch --build --library=RegParallel.buildbin-libdir RegParallel_1.9.0.tar.gz && D:\biocbuild\bbs-3.13-bioc\R\bin\R.exe CMD INSTALL RegParallel_1.9.0.zip && rm RegParallel_1.9.0.tar.gz RegParallel_1.9.0.zip
###
##############################################################################
##############################################################################


  % Total    % Received % Xferd  Average Speed   Time    Time     Time  Current
                                 Dload  Upload   Total   Spent    Left  Speed

  0     0    0     0    0     0      0      0 --:--:-- --:--:-- --:--:--     0
100  166k  100  166k    0     0  3623k      0 --:--:-- --:--:-- --:--:-- 3623k

install for i386

* installing *source* package 'RegParallel' ...
** using staged installation
** R
** inst
** byte-compile and prepare package for lazy loading
** help
*** installing help indices
  converting help for package 'RegParallel'
    finding HTML links ... done
    RegParallel-package                     html  
REDIRECT:file	 RegParallel-package.html -> RegParallel-package.html [ SUCCESS ]
    RegParallel                             html  
REDIRECT:topic	 RegParallel -> RegParallel.html [ SUCCESS ]
    finding level-2 HTML links ... done

    bayesglmParallel                        html  
REDIRECT:topic	 bayesglmParallel -> bayesglmParallel.html [ SUCCESS ]
    clogitParallel                          html  
REDIRECT:topic	 clogitParallel -> clogitParallel.html [ SUCCESS ]
    coxphParallel                           html  
REDIRECT:topic	 coxphParallel -> coxphParallel.html [ SUCCESS ]
    glmParallel                             html  
REDIRECT:topic	 glmParallel -> glmParallel.html [ SUCCESS ]
    lmParallel                              html  
REDIRECT:topic	 lmParallel -> lmParallel.html [ SUCCESS ]
    svyglmParallel                          html  
REDIRECT:topic	 svyglmParallel -> svyglmParallel.html [ SUCCESS ]
** building package indices
** installing vignettes
** testing if installed package can be loaded from temporary location
** testing if installed package can be loaded from final location
** testing if installed package keeps a record of temporary installation path

install for x64

* installing *source* package 'RegParallel' ...
** testing if installed package can be loaded
* MD5 sums
packaged installation of 'RegParallel' as RegParallel_1.9.0.zip
* DONE (RegParallel)
* installing to library 'D:/biocbuild/bbs-3.13-bioc/R/library'
package 'RegParallel' successfully unpacked and MD5 sums checked