Back to Multiple platform build/check report for BioC 3.13 experimental data
ABCDEFGHIJKLMNOPQ[R]STUVWXYZ

BUILD report for RegParallel on riesling1

This page was generated on 2021-01-14 15:59:11 -0500 (Thu, 14 Jan 2021).

TO THE DEVELOPERS/MAINTAINERS OF THE RegParallel PACKAGE: Please make sure to use the following settings in order to reproduce any error or warning you see on this page.
Package 291/385HostnameOS / ArchINSTALLBUILDCHECK
RegParallel 1.9.0
Kevin Blighe
Snapshot Date: 2021-01-14 09:00:13 -0500 (Thu, 14 Jan 2021)
URL: https://git.bioconductor.org/packages/RegParallel
Branch: master
Last Commit: fec40a5
Last Changed Date: 2020-10-27 10:27:59 -0500 (Tue, 27 Oct 2020)
malbec2 Linux (Ubuntu 20.04.1 LTS) / x86_64  OK  OK  OK UNNEEDED, same version exists in internal repository
riesling1 Windows Server 2019 Standard / x64  OK [ OK ] OK 

Summary

Package: RegParallel
Version: 1.9.0
Command: chmod a+r RegParallel -R && D:\biocbuild\bbs-3.13-bioc\R\bin\R.exe CMD build --keep-empty-dirs --no-resave-data RegParallel
StartedAt: 2021-01-14 10:50:51 -0500 (Thu, 14 Jan 2021)
EndedAt: 2021-01-14 11:06:39 -0500 (Thu, 14 Jan 2021)
EllapsedTime: 948.5 seconds
RetCode: 0
Status:  OK  
PackageFile: RegParallel_1.9.0.tar.gz
PackageFileSize: 476 KiB

Command output

##############################################################################
##############################################################################
###
### Running command:
###
###   chmod a+r RegParallel -R && D:\biocbuild\bbs-3.13-bioc\R\bin\R.exe CMD build --keep-empty-dirs --no-resave-data RegParallel
###
##############################################################################
##############################################################################


* checking for file 'RegParallel/DESCRIPTION' ... OK
* preparing 'RegParallel':
* checking DESCRIPTION meta-information ... OK
* installing the package to build vignettes
* creating vignettes ... OK
* checking for LF line-endings in source and make files and shell scripts
* checking for empty or unneeded directories
* building 'RegParallel_1.9.0.tar.gz'