Back to Multiple platform build/check report for BioC 3.13 experimental data |
|
This page was generated on 2021-01-14 15:59:11 -0500 (Thu, 14 Jan 2021).
TO THE DEVELOPERS/MAINTAINERS OF THE ReactomeGSA.data PACKAGE: Please make sure to use the following settings in order to reproduce any error or warning you see on this page. |
Package 290/385 | Hostname | OS / Arch | INSTALL | BUILD | CHECK | ||||||
ReactomeGSA.data 1.5.0 Johannes Griss
| malbec2 | Linux (Ubuntu 20.04.1 LTS) / x86_64 | OK | OK | OK | ![]() | |||||
riesling1 | Windows Server 2019 Standard / x64 | OK | [ OK ] | OK |
Package: ReactomeGSA.data |
Version: 1.5.0 |
Command: chmod a+r ReactomeGSA.data -R && D:\biocbuild\bbs-3.13-bioc\R\bin\R.exe CMD build --keep-empty-dirs --no-resave-data ReactomeGSA.data |
StartedAt: 2021-01-14 10:50:47 -0500 (Thu, 14 Jan 2021) |
EndedAt: 2021-01-14 10:50:53 -0500 (Thu, 14 Jan 2021) |
EllapsedTime: 6.2 seconds |
RetCode: 0 |
Status: OK |
PackageFile: ReactomeGSA.data_1.5.0.tar.gz |
PackageFileSize: 12.7 MiB |
############################################################################## ############################################################################## ### ### Running command: ### ### chmod a+r ReactomeGSA.data -R && D:\biocbuild\bbs-3.13-bioc\R\bin\R.exe CMD build --keep-empty-dirs --no-resave-data ReactomeGSA.data ### ############################################################################## ############################################################################## * checking for file 'ReactomeGSA.data/DESCRIPTION' ... OK * preparing 'ReactomeGSA.data': * checking DESCRIPTION meta-information ... OK * checking for LF line-endings in source and make files and shell scripts * checking for empty or unneeded directories * looking to see if a 'data/datalist' file should be added * building 'ReactomeGSA.data_1.5.0.tar.gz'