Back to Multiple platform build/check report for BioC 3.13 experimental data |
|
This page was generated on 2021-01-11 15:59:33 -0500 (Mon, 11 Jan 2021).
TO THE DEVELOPERS/MAINTAINERS OF THE RcisTarget.hg19.motifDBs.cisbpOnly.500bp PACKAGE: Please make sure to use the following settings in order to reproduce any error or warning you see on this page. |
Package 289/385 | Hostname | OS / Arch | INSTALL | BUILD | CHECK | ||||||
RcisTarget.hg19.motifDBs.cisbpOnly.500bp 1.11.0 Sara Aibar
| malbec2 | Linux (Ubuntu 20.04.1 LTS) / x86_64 | OK | OK | OK | ![]() | |||||
riesling1 | Windows Server 2019 Standard / x64 | [ OK ] | OK | OK |
Package: RcisTarget.hg19.motifDBs.cisbpOnly.500bp |
Version: 1.11.0 |
Command: C:\cygwin\bin\curl.exe -O http://172.29.0.4/BBS/3.13/data-experiment/src/contrib/RcisTarget.hg19.motifDBs.cisbpOnly.500bp_1.11.0.tar.gz && rm -rf RcisTarget.hg19.motifDBs.cisbpOnly.500bp.buildbin-libdir && mkdir RcisTarget.hg19.motifDBs.cisbpOnly.500bp.buildbin-libdir && D:\biocbuild\bbs-3.13-bioc\R\bin\R.exe CMD INSTALL --merge-multiarch --build --library=RcisTarget.hg19.motifDBs.cisbpOnly.500bp.buildbin-libdir RcisTarget.hg19.motifDBs.cisbpOnly.500bp_1.11.0.tar.gz && D:\biocbuild\bbs-3.13-bioc\R\bin\R.exe CMD INSTALL RcisTarget.hg19.motifDBs.cisbpOnly.500bp_1.11.0.zip && rm RcisTarget.hg19.motifDBs.cisbpOnly.500bp_1.11.0.tar.gz RcisTarget.hg19.motifDBs.cisbpOnly.500bp_1.11.0.zip |
StartedAt: 2021-01-11 10:03:16 -0500 (Mon, 11 Jan 2021) |
EndedAt: 2021-01-11 10:03:46 -0500 (Mon, 11 Jan 2021) |
EllapsedTime: 30.6 seconds |
RetCode: 0 |
Status: OK |
############################################################################## ############################################################################## ### ### Running command: ### ### C:\cygwin\bin\curl.exe -O http://172.29.0.4/BBS/3.13/data-experiment/src/contrib/RcisTarget.hg19.motifDBs.cisbpOnly.500bp_1.11.0.tar.gz && rm -rf RcisTarget.hg19.motifDBs.cisbpOnly.500bp.buildbin-libdir && mkdir RcisTarget.hg19.motifDBs.cisbpOnly.500bp.buildbin-libdir && D:\biocbuild\bbs-3.13-bioc\R\bin\R.exe CMD INSTALL --merge-multiarch --build --library=RcisTarget.hg19.motifDBs.cisbpOnly.500bp.buildbin-libdir RcisTarget.hg19.motifDBs.cisbpOnly.500bp_1.11.0.tar.gz && D:\biocbuild\bbs-3.13-bioc\R\bin\R.exe CMD INSTALL RcisTarget.hg19.motifDBs.cisbpOnly.500bp_1.11.0.zip && rm RcisTarget.hg19.motifDBs.cisbpOnly.500bp_1.11.0.tar.gz RcisTarget.hg19.motifDBs.cisbpOnly.500bp_1.11.0.zip ### ############################################################################## ############################################################################## % Total % Received % Xferd Average Speed Time Time Time Current Dload Upload Total Spent Left Speed 0 0 0 0 0 0 0 0 --:--:-- --:--:-- --:--:-- 0 83 53.4M 83 44.6M 0 0 100M 0 --:--:-- --:--:-- --:--:-- 100M 100 53.4M 100 53.4M 0 0 102M 0 --:--:-- --:--:-- --:--:-- 102M install for i386 * installing *source* package 'RcisTarget.hg19.motifDBs.cisbpOnly.500bp' ... ** using staged installation ** data ** help *** installing help indices converting help for package 'RcisTarget.hg19.motifDBs.cisbpOnly.500bp' finding HTML links ... done RcisTarget.hg19.motifDBs html REDIRECT:topic RcisTarget.hg19.motifDBs.cisbpOnly.500bp -> RcisTarget.hg19.motifDBs.html [ SUCCESS ] REDIRECT:topic hg19_500bpUpstream_motifRanking_cispbOnly -> RcisTarget.hg19.motifDBs.html [ SUCCESS ] REDIRECT:topic hg19_motifAnnotation_cisbpOnly -> RcisTarget.hg19.motifDBs.html [ SUCCESS ] REDIRECT:file RcisTarget.hg19.motifDBs.html -> RcisTarget.hg19.motifDBs.html [ SUCCESS ] ** building package indices ** testing if installed package can be loaded from temporary location ** testing if installed package can be loaded from final location ** testing if installed package keeps a record of temporary installation path install for x64 * installing *source* package 'RcisTarget.hg19.motifDBs.cisbpOnly.500bp' ... ** testing if installed package can be loaded * MD5 sums packaged installation of 'RcisTarget.hg19.motifDBs.cisbpOnly.500bp' as RcisTarget.hg19.motifDBs.cisbpOnly.500bp_1.11.0.zip * DONE (RcisTarget.hg19.motifDBs.cisbpOnly.500bp) * installing to library 'D:/biocbuild/bbs-3.13-bioc/R/library' package 'RcisTarget.hg19.motifDBs.cisbpOnly.500bp' successfully unpacked and MD5 sums checked