Back to Multiple platform build/check report for BioC 3.13 experimental data
ABCDEFGHIJKLMNOPQ[R]STUVWXYZ

BUILD report for RcisTarget.hg19.motifDBs.cisbpOnly.500bp on riesling1

This page was generated on 2021-01-14 15:59:11 -0500 (Thu, 14 Jan 2021).

TO THE DEVELOPERS/MAINTAINERS OF THE RcisTarget.hg19.motifDBs.cisbpOnly.500bp PACKAGE: Please make sure to use the following settings in order to reproduce any error or warning you see on this page.
Package 289/385HostnameOS / ArchINSTALLBUILDCHECK
RcisTarget.hg19.motifDBs.cisbpOnly.500bp 1.11.0
Sara Aibar
Snapshot Date: 2021-01-14 09:00:13 -0500 (Thu, 14 Jan 2021)
URL: https://git.bioconductor.org/packages/RcisTarget.hg19.motifDBs.cisbpOnly.500bp
Branch: master
Last Commit: 785eefa
Last Changed Date: 2020-10-27 10:25:56 -0500 (Tue, 27 Oct 2020)
malbec2 Linux (Ubuntu 20.04.1 LTS) / x86_64  OK  OK  OK UNNEEDED, same version exists in internal repository
riesling1 Windows Server 2019 Standard / x64  OK [ OK ] OK 

Summary

Package: RcisTarget.hg19.motifDBs.cisbpOnly.500bp
Version: 1.11.0
Command: chmod a+r RcisTarget.hg19.motifDBs.cisbpOnly.500bp -R && D:\biocbuild\bbs-3.13-bioc\R\bin\R.exe CMD build --keep-empty-dirs --no-resave-data RcisTarget.hg19.motifDBs.cisbpOnly.500bp
StartedAt: 2021-01-14 10:50:45 -0500 (Thu, 14 Jan 2021)
EndedAt: 2021-01-14 10:50:57 -0500 (Thu, 14 Jan 2021)
EllapsedTime: 12.5 seconds
RetCode: 0
Status:  OK  
PackageFile: RcisTarget.hg19.motifDBs.cisbpOnly.500bp_1.11.0.tar.gz
PackageFileSize: 53.48 MiB

Command output

##############################################################################
##############################################################################
###
### Running command:
###
###   chmod a+r RcisTarget.hg19.motifDBs.cisbpOnly.500bp -R && D:\biocbuild\bbs-3.13-bioc\R\bin\R.exe CMD build --keep-empty-dirs --no-resave-data RcisTarget.hg19.motifDBs.cisbpOnly.500bp
###
##############################################################################
##############################################################################


* checking for file 'RcisTarget.hg19.motifDBs.cisbpOnly.500bp/DESCRIPTION' ... OK
* preparing 'RcisTarget.hg19.motifDBs.cisbpOnly.500bp':
* checking DESCRIPTION meta-information ... OK
* checking for LF line-endings in source and make files and shell scripts
* checking for empty or unneeded directories
* looking to see if a 'data/datalist' file should be added
* building 'RcisTarget.hg19.motifDBs.cisbpOnly.500bp_1.11.0.tar.gz'