Index of /checkResults/3.13/data-experiment-LATEST/RcisTarget.hg19.motifDBs.cisbpOnly.500bp/raw-results
Name
Last modified
Size
Description
Parent Directory
-
info.dcf
17-Oct-2021 04:58
341
malbec2/
17-Oct-2021 04:58
-