Back to Multiple platform build/check report for BioC 3.13 experimental data |
|
This page was generated on 2021-01-14 15:59:11 -0500 (Thu, 14 Jan 2021).
TO THE DEVELOPERS/MAINTAINERS OF THE RUVnormalizeData PACKAGE: Please make sure to use the following settings in order to reproduce any error or warning you see on this page. |
Package 319/385 | Hostname | OS / Arch | INSTALL | BUILD | CHECK | ||||||
RUVnormalizeData 1.11.0 Laurent Jacob
| malbec2 | Linux (Ubuntu 20.04.1 LTS) / x86_64 | OK | OK | OK | ![]() | |||||
riesling1 | Windows Server 2019 Standard / x64 | [ OK ] | OK | OK |
Package: RUVnormalizeData |
Version: 1.11.0 |
Command: C:\cygwin\bin\curl.exe -O http://172.29.0.4/BBS/3.13/data-experiment/src/contrib/RUVnormalizeData_1.11.0.tar.gz && rm -rf RUVnormalizeData.buildbin-libdir && mkdir RUVnormalizeData.buildbin-libdir && D:\biocbuild\bbs-3.13-bioc\R\bin\R.exe CMD INSTALL --merge-multiarch --build --library=RUVnormalizeData.buildbin-libdir RUVnormalizeData_1.11.0.tar.gz && D:\biocbuild\bbs-3.13-bioc\R\bin\R.exe CMD INSTALL RUVnormalizeData_1.11.0.zip && rm RUVnormalizeData_1.11.0.tar.gz RUVnormalizeData_1.11.0.zip |
StartedAt: 2021-01-14 10:02:00 -0500 (Thu, 14 Jan 2021) |
EndedAt: 2021-01-14 10:02:14 -0500 (Thu, 14 Jan 2021) |
EllapsedTime: 13.3 seconds |
RetCode: 0 |
Status: OK |
############################################################################## ############################################################################## ### ### Running command: ### ### C:\cygwin\bin\curl.exe -O http://172.29.0.4/BBS/3.13/data-experiment/src/contrib/RUVnormalizeData_1.11.0.tar.gz && rm -rf RUVnormalizeData.buildbin-libdir && mkdir RUVnormalizeData.buildbin-libdir && D:\biocbuild\bbs-3.13-bioc\R\bin\R.exe CMD INSTALL --merge-multiarch --build --library=RUVnormalizeData.buildbin-libdir RUVnormalizeData_1.11.0.tar.gz && D:\biocbuild\bbs-3.13-bioc\R\bin\R.exe CMD INSTALL RUVnormalizeData_1.11.0.zip && rm RUVnormalizeData_1.11.0.tar.gz RUVnormalizeData_1.11.0.zip ### ############################################################################## ############################################################################## % Total % Received % Xferd Average Speed Time Time Time Current Dload Upload Total Spent Left Speed 0 0 0 0 0 0 0 0 --:--:-- --:--:-- --:--:-- 0 100 7817k 100 7817k 0 0 40.6M 0 --:--:-- --:--:-- --:--:-- 40.6M install for i386 * installing *source* package 'RUVnormalizeData' ... ** using staged installation ** data ** help *** installing help indices converting help for package 'RUVnormalizeData' finding HTML links ... done gender html REDIRECT:topic gender -> gender.html [ SUCCESS ] ** building package indices ** installing vignettes ** testing if installed package can be loaded from temporary location ** testing if installed package can be loaded from final location ** testing if installed package keeps a record of temporary installation path install for x64 * installing *source* package 'RUVnormalizeData' ... ** testing if installed package can be loaded * MD5 sums packaged installation of 'RUVnormalizeData' as RUVnormalizeData_1.11.0.zip * DONE (RUVnormalizeData) * installing to library 'D:/biocbuild/bbs-3.13-bioc/R/library' package 'RUVnormalizeData' successfully unpacked and MD5 sums checked