Back to Multiple platform build/check report for BioC 3.13 experimental data
ABCDEFGHIJKLMNOPQ[R]STUVWXYZ

BUILD report for RUVnormalizeData on riesling1

This page was generated on 2021-01-14 15:59:11 -0500 (Thu, 14 Jan 2021).

TO THE DEVELOPERS/MAINTAINERS OF THE RUVnormalizeData PACKAGE: Please make sure to use the following settings in order to reproduce any error or warning you see on this page.
Package 319/385HostnameOS / ArchINSTALLBUILDCHECK
RUVnormalizeData 1.11.0
Laurent Jacob
Snapshot Date: 2021-01-14 09:00:13 -0500 (Thu, 14 Jan 2021)
URL: https://git.bioconductor.org/packages/RUVnormalizeData
Branch: master
Last Commit: b96b40c
Last Changed Date: 2020-10-27 10:09:52 -0500 (Tue, 27 Oct 2020)
malbec2 Linux (Ubuntu 20.04.1 LTS) / x86_64  OK  OK  OK UNNEEDED, same version exists in internal repository
riesling1 Windows Server 2019 Standard / x64  OK [ OK ] OK 

Summary

Package: RUVnormalizeData
Version: 1.11.0
Command: chmod a+r RUVnormalizeData -R && D:\biocbuild\bbs-3.13-bioc\R\bin\R.exe CMD build --keep-empty-dirs --no-resave-data RUVnormalizeData
StartedAt: 2021-01-14 10:52:31 -0500 (Thu, 14 Jan 2021)
EndedAt: 2021-01-14 10:52:44 -0500 (Thu, 14 Jan 2021)
EllapsedTime: 12.2 seconds
RetCode: 0
Status:  OK  
PackageFile: RUVnormalizeData_1.11.0.tar.gz
PackageFileSize: 7.744 MiB

Command output

##############################################################################
##############################################################################
###
### Running command:
###
###   chmod a+r RUVnormalizeData -R && D:\biocbuild\bbs-3.13-bioc\R\bin\R.exe CMD build --keep-empty-dirs --no-resave-data RUVnormalizeData
###
##############################################################################
##############################################################################


* checking for file 'RUVnormalizeData/DESCRIPTION' ... OK
* preparing 'RUVnormalizeData':
* checking DESCRIPTION meta-information ... OK
* installing the package to build vignettes
* creating vignettes ... OK
* checking for LF line-endings in source and make files and shell scripts
* checking for empty or unneeded directories
* looking to see if a 'data/datalist' file should be added
* building 'RUVnormalizeData_1.11.0.tar.gz'