This page was generated on 2021-01-21 16:01:37 -0500 (Thu, 21 Jan 2021).
RTCGA.miRNASeq 1.19.0 Marcin Kosinski
Snapshot Date: 2021-01-21 09:00:14 -0500 (Thu, 21 Jan 2021) |
URL: https://git.bioconductor.org/packages/RTCGA.miRNASeq |
Branch: master |
Last Commit: 1d366ac |
Last Changed Date: 2020-10-27 10:16:49 -0500 (Tue, 27 Oct 2020) |
| malbec2 | Linux (Ubuntu 20.04.1 LTS) / x86_64 | OK | OK | OK |  |
riesling1 | Windows Server 2019 Standard / x64 | [ OK ] | OK | WARNINGS | |
##############################################################################
##############################################################################
###
### Running command:
###
### C:\cygwin\bin\curl.exe -O http://172.29.0.4/BBS/3.13/data-experiment/src/contrib/RTCGA.miRNASeq_1.19.0.tar.gz && rm -rf RTCGA.miRNASeq.buildbin-libdir && mkdir RTCGA.miRNASeq.buildbin-libdir && D:\biocbuild\bbs-3.13-bioc\R\bin\R.exe CMD INSTALL --merge-multiarch --build --library=RTCGA.miRNASeq.buildbin-libdir RTCGA.miRNASeq_1.19.0.tar.gz && D:\biocbuild\bbs-3.13-bioc\R\bin\R.exe CMD INSTALL RTCGA.miRNASeq_1.19.0.zip && rm RTCGA.miRNASeq_1.19.0.tar.gz RTCGA.miRNASeq_1.19.0.zip
###
##############################################################################
##############################################################################
% Total % Received % Xferd Average Speed Time Time Time Current
Dload Upload Total Spent Left Speed
0 0 0 0 0 0 0 0 --:--:-- --:--:-- --:--:-- 0
37 45.2M 37 16.8M 0 0 49.6M 0 --:--:-- --:--:-- --:--:-- 49.4M
87 45.2M 87 39.6M 0 0 26.4M 0 0:00:01 0:00:01 --:--:-- 26.4M
100 45.2M 100 45.2M 0 0 29.1M 0 0:00:01 0:00:01 --:--:-- 29.1M
install for i386
* installing *source* package 'RTCGA.miRNASeq' ...
** using staged installation
** R
** data
*** moving datasets to lazyload DB
** byte-compile and prepare package for lazy loading
** help
*** installing help indices
converting help for package 'RTCGA.miRNASeq'
finding HTML links ... done
miRNASeq html
REDIRECT:topic ACC.miRNASeq -> miRNASeq.html [ SUCCESS ]
REDIRECT:topic ACC.miRNASeq,BLCA.miRNASeq,BRCA.miRNASeq,CESC.miRNASeq,CHOL.miRNASeq,COAD.miRNASeq,COADREAD.miRNASeq,DLBC.miRNASeq,ESCA.miRNASeq,FPPP.miRNASeq,GBM.miRNASeq,GBMLGG.miRNASeq,HNSC.miRNASeq,KICH.miRNASeq,KIPAN.miRNASeq,KIRC.miRNASeq,KIRP.miRNASeq,LAML.miRNASeq,LGG.miRNASeq,LIHC.miRNASeq,LUAD.miRNASeq,LUSC.miRNASeq,MESO.miRNASeq,OV.miRNASeq,PAAD.miRNASeq,PCPG.miRNASeq,PRAD.miRNASeq,READ.miRNASeq,SARC.miRNASeq,SKCM.miRNASeq,STAD.miRNASeq,STES.miRNASeq,TGCT.miRNASeq,THCA.miRNASeq,THYM.miRNASeq,UCEC.miRNASeq,UCS.miRNASeq,UVM.miRNASeq -> miRNASeq.html [ FAIL ]
REDIRECT:topic BLCA.miRNASeq -> miRNASeq.html [ SUCCESS ]
REDIRECT:topic BRCA.miRNASeq -> miRNASeq.html [ SUCCESS ]
REDIRECT:topic CESC.miRNASeq -> miRNASeq.html [ SUCCESS ]
REDIRECT:topic CHOL.miRNASeq -> miRNASeq.html [ SUCCESS ]
REDIRECT:topic COAD.miRNASeq -> miRNASeq.html [ SUCCESS ]
REDIRECT:topic COADREAD.miRNASeq -> miRNASeq.html [ SUCCESS ]
REDIRECT:topic DLBC.miRNASeq -> miRNASeq.html [ SUCCESS ]
REDIRECT:topic ESCA.miRNASeq -> miRNASeq.html [ SUCCESS ]
REDIRECT:topic FPPP.miRNASeq -> miRNASeq.html [ SUCCESS ]
REDIRECT:topic GBM.miRNASeq -> miRNASeq.html [ SUCCESS ]
REDIRECT:topic GBMLGG.miRNASeq -> miRNASeq.html [ SUCCESS ]
REDIRECT:topic HNSC.miRNASeq -> miRNASeq.html [ SUCCESS ]
REDIRECT:topic KICH.miRNASeq -> miRNASeq.html [ SUCCESS ]
REDIRECT:topic KIPAN.miRNASeq -> miRNASeq.html [ SUCCESS ]
REDIRECT:topic KIRC.miRNASeq -> miRNASeq.html [ SUCCESS ]
REDIRECT:topic KIRP.miRNASeq -> miRNASeq.html [ SUCCESS ]
REDIRECT:topic LAML.miRNASeq -> miRNASeq.html [ SUCCESS ]
REDIRECT:topic LGG.miRNASeq -> miRNASeq.html [ SUCCESS ]
REDIRECT:topic LIHC.miRNASeq -> miRNASeq.html [ SUCCESS ]
REDIRECT:topic LUAD.miRNASeq -> miRNASeq.html [ SUCCESS ]
REDIRECT:topic LUSC.miRNASeq -> miRNASeq.html [ SUCCESS ]
REDIRECT:topic MESO.miRNASeq -> miRNASeq.html [ SUCCESS ]
REDIRECT:topic OV.miRNASeq -> miRNASeq.html [ SUCCESS ]
REDIRECT:topic PAAD.miRNASeq -> miRNASeq.html [ SUCCESS ]
REDIRECT:topic PCPG.miRNASeq -> miRNASeq.html [ SUCCESS ]
REDIRECT:topic PRAD.miRNASeq -> miRNASeq.html [ SUCCESS ]
REDIRECT:topic READ.miRNASeq -> miRNASeq.html [ SUCCESS ]
REDIRECT:topic SARC.miRNASeq -> miRNASeq.html [ SUCCESS ]
REDIRECT:topic SKCM.miRNASeq -> miRNASeq.html [ SUCCESS ]
REDIRECT:topic STAD.miRNASeq -> miRNASeq.html [ SUCCESS ]
REDIRECT:topic STES.miRNASeq -> miRNASeq.html [ SUCCESS ]
REDIRECT:topic TGCT.miRNASeq -> miRNASeq.html [ SUCCESS ]
REDIRECT:topic THCA.miRNASeq -> miRNASeq.html [ SUCCESS ]
REDIRECT:topic THYM.miRNASeq -> miRNASeq.html [ SUCCESS ]
REDIRECT:topic UCEC.miRNASeq -> miRNASeq.html [ SUCCESS ]
REDIRECT:topic UCS.miRNASeq -> miRNASeq.html [ SUCCESS ]
REDIRECT:topic UVM.miRNASeq -> miRNASeq.html [ SUCCESS ]
REDIRECT:topic miRNASeq -> miRNASeq.html [ SUCCESS ]
finding level-2 HTML links ... done
Rd warning: cannot open file 'D:/biocbuild/bbs-3.13-data-experiment/meat/RTCGA.miRNASeq.buildbin-libdir/00LOCK-RTCGA.miRNASeq/00new/RTCGA.miRNASeq/help/ACC.miRNASeq,BLCA.miRNASeq,BRCA.miRNASeq,CESC.miRNASeq,CHOL.miRNASeq,COAD.miRNASeq,COADREAD.miRNASeq,DLBC.miRNASeq,ESCA.miRNASeq,FPPP.miRNASeq,GBM.miRNASeq,GBMLGG.miRNASeq,HNSC.miRNASeq,KICH.miRNASeq,KIPAN.miRNASeq,KIRC.miRNASeq,KIRP.miRNASeq,LAML.miRNASeq,LGG.miRNASeq,LIHC.miRNASeq,LUAD.miRNASeq,LUSC.miRNASeq,MESO.miRNASeq,OV.miRNASeq,PAAD.miRNASeq,PCPG.miRNASeq,PRAD.miRNASeq,READ.miRNASeq,SARC.miRNASeq,SKCM.miRNASeq,STAD.miRNASeq,STES.miRNASeq,TGCT.miRNASeq,THCA.miRNASeq,THYM.miRNASeq,UCEC.miRNASeq,UCS.miRNASeq,UVM.miRNASeq.html': No such file or directory
** building package indices
** installing vignettes
** testing if installed package can be loaded from temporary location
** testing if installed package can be loaded from final location
** testing if installed package keeps a record of temporary installation path
install for x64
* installing *source* package 'RTCGA.miRNASeq' ...
** testing if installed package can be loaded
* MD5 sums
packaged installation of 'RTCGA.miRNASeq' as RTCGA.miRNASeq_1.19.0.zip
* DONE (RTCGA.miRNASeq)
* installing to library 'D:/biocbuild/bbs-3.13-bioc/R/library'
package 'RTCGA.miRNASeq' successfully unpacked and MD5 sums checked