Back to Multiple platform build/check report for BioC 3.13 experimental data
ABCDEFGHIJKLMNOPQ[R]STUVWXYZ

BUILD report for RTCGA.methylation on riesling1

This page was generated on 2021-01-14 15:59:11 -0500 (Thu, 14 Jan 2021).

TO THE DEVELOPERS/MAINTAINERS OF THE RTCGA.methylation PACKAGE: Please make sure to use the following settings in order to reproduce any error or warning you see on this page.
Package 312/385HostnameOS / ArchINSTALLBUILDCHECK
RTCGA.methylation 1.19.0
Marcin Kosinski
Snapshot Date: 2021-01-14 09:00:13 -0500 (Thu, 14 Jan 2021)
URL: https://git.bioconductor.org/packages/RTCGA.methylation
Branch: master
Last Commit: 7e0854d
Last Changed Date: 2020-10-27 10:16:33 -0500 (Tue, 27 Oct 2020)
malbec2 Linux (Ubuntu 20.04.1 LTS) / x86_64  OK  OK  OK UNNEEDED, same version exists in internal repository
riesling1 Windows Server 2019 Standard / x64  OK [ OK ] WARNINGS 

Summary

Package: RTCGA.methylation
Version: 1.19.0
Command: chmod a+r RTCGA.methylation -R && D:\biocbuild\bbs-3.13-bioc\R\bin\R.exe CMD build --keep-empty-dirs --no-resave-data RTCGA.methylation
StartedAt: 2021-01-14 10:52:02 -0500 (Thu, 14 Jan 2021)
EndedAt: 2021-01-14 10:55:29 -0500 (Thu, 14 Jan 2021)
EllapsedTime: 207.9 seconds
RetCode: 0
Status:  OK  
PackageFile: RTCGA.methylation_1.19.0.tar.gz
PackageFileSize: 622.8 MiB

Command output

##############################################################################
##############################################################################
###
### Running command:
###
###   chmod a+r RTCGA.methylation -R && D:\biocbuild\bbs-3.13-bioc\R\bin\R.exe CMD build --keep-empty-dirs --no-resave-data RTCGA.methylation
###
##############################################################################
##############################################################################


* checking for file 'RTCGA.methylation/DESCRIPTION' ... OK
* preparing 'RTCGA.methylation':
* checking DESCRIPTION meta-information ... OK
* installing the package to build vignettes
* creating vignettes ... OK
* checking for LF line-endings in source and make files and shell scripts
* checking for empty or unneeded directories
* building 'RTCGA.methylation_1.19.0.tar.gz'