Back to Multiple platform build/check report for BioC 3.13 experimental data
ABCDEFGHIJKLMNOPQ[R]STUVWXYZ

CHECK report for RTCGA.mRNA on riesling1

This page was generated on 2021-01-21 16:01:37 -0500 (Thu, 21 Jan 2021).

TO THE DEVELOPERS/MAINTAINERS OF THE RTCGA.mRNA PACKAGE: Please make sure to use the following settings in order to reproduce any error or warning you see on this page.
Package 314/386HostnameOS / ArchINSTALLBUILDCHECK
RTCGA.mRNA 1.19.0
Marcin Kosinski
Snapshot Date: 2021-01-21 09:00:14 -0500 (Thu, 21 Jan 2021)
URL: https://git.bioconductor.org/packages/RTCGA.mRNA
Branch: master
Last Commit: 7a968a0
Last Changed Date: 2020-10-27 10:16:52 -0500 (Tue, 27 Oct 2020)
malbec2 Linux (Ubuntu 20.04.1 LTS) / x86_64  OK  OK  OK UNNEEDED, same version exists in internal repository
riesling1 Windows Server 2019 Standard / x64  OK  OK [ OK ]

Summary

Package: RTCGA.mRNA
Version: 1.19.0
Command: D:\biocbuild\bbs-3.13-bioc\R\bin\R.exe CMD check --force-multiarch --install=check:RTCGA.mRNA.install-out.txt --library=D:\biocbuild\bbs-3.13-bioc\R\library --no-vignettes --timings RTCGA.mRNA_1.19.0.tar.gz
StartedAt: 2021-01-21 11:45:11 -0500 (Thu, 21 Jan 2021)
EndedAt: 2021-01-21 11:46:37 -0500 (Thu, 21 Jan 2021)
EllapsedTime: 86.1 seconds
RetCode: 0
Status:  OK  
CheckDir: RTCGA.mRNA.Rcheck
Warnings: 0

Command output

##############################################################################
##############################################################################
###
### Running command:
###
###   D:\biocbuild\bbs-3.13-bioc\R\bin\R.exe CMD check --force-multiarch --install=check:RTCGA.mRNA.install-out.txt --library=D:\biocbuild\bbs-3.13-bioc\R\library --no-vignettes --timings RTCGA.mRNA_1.19.0.tar.gz
###
##############################################################################
##############################################################################


* using log directory 'D:/biocbuild/bbs-3.13-data-experiment/meat/RTCGA.mRNA.Rcheck'
* using R Under development (unstable) (2020-12-30 r79736)
* using platform: x86_64-w64-mingw32 (64-bit)
* using session charset: ISO8859-1
* using option '--no-vignettes'
* checking for file 'RTCGA.mRNA/DESCRIPTION' ... OK
* checking extension type ... Package
* this is package 'RTCGA.mRNA' version '1.19.0'
* checking package namespace information ... OK
* checking package dependencies ... OK
* checking if this is a source package ... OK
* checking if there is a namespace ... OK
* checking for hidden files and directories ... OK
* checking for portable file names ... OK
* checking whether package 'RTCGA.mRNA' can be installed ... OK
* checking installed package size ... NOTE
  installed size is 130.3Mb
  sub-directories of 1Mb or more:
    data  130.2Mb
* checking package directory ... OK
* checking 'build' directory ... OK
* checking DESCRIPTION meta-information ... OK
* checking top-level files ... OK
* checking for left-over files ... OK
* checking index information ... OK
* checking package subdirectories ... OK
* checking R files for non-ASCII characters ... OK
* checking R files for syntax errors ... OK
* loading checks for arch 'i386'
** checking whether the package can be loaded ... OK
** checking whether the package can be loaded with stated dependencies ... OK
** checking whether the package can be unloaded cleanly ... OK
** checking whether the namespace can be loaded with stated dependencies ... OK
** checking whether the namespace can be unloaded cleanly ... OK
* loading checks for arch 'x64'
** checking whether the package can be loaded ... OK
** checking whether the package can be loaded with stated dependencies ... OK
** checking whether the package can be unloaded cleanly ... OK
** checking whether the namespace can be loaded with stated dependencies ... OK
** checking whether the namespace can be unloaded cleanly ... OK
* checking dependencies in R code ... OK
* checking S3 generic/method consistency ... OK
* checking replacement functions ... OK
* checking foreign function calls ... OK
* checking R code for possible problems ... OK
* checking Rd files ... OK
* checking Rd metadata ... OK
* checking Rd cross-references ... OK
* checking for missing documentation entries ... OK
* checking for code/documentation mismatches ... OK
* checking Rd \usage sections ... OK
* checking Rd contents ... OK
* checking for unstated dependencies in examples ... OK
* checking contents of 'data' directory ... OK
* checking data for non-ASCII characters ... OK
* checking data for ASCII and uncompressed saves ... OK
* checking files in 'vignettes' ... OK
* checking examples ...
** running examples for arch 'i386' ... OK
** running examples for arch 'x64' ... OK
* checking for unstated dependencies in vignettes ... OK
* checking package vignettes in 'inst/doc' ... OK
* checking running R code from vignettes ... SKIPPED
* checking re-building of vignette outputs ... SKIPPED
* checking PDF version of manual ... OK
* DONE

Status: 1 NOTE
See
  'D:/biocbuild/bbs-3.13-data-experiment/meat/RTCGA.mRNA.Rcheck/00check.log'
for details.



Installation output

RTCGA.mRNA.Rcheck/00install.out

##############################################################################
##############################################################################
###
### Running command:
###
###   C:\cygwin\bin\curl.exe -O http://172.29.0.4/BBS/3.13/data-experiment/src/contrib/RTCGA.mRNA_1.19.0.tar.gz && rm -rf RTCGA.mRNA.buildbin-libdir && mkdir RTCGA.mRNA.buildbin-libdir && D:\biocbuild\bbs-3.13-bioc\R\bin\R.exe CMD INSTALL --merge-multiarch --build --library=RTCGA.mRNA.buildbin-libdir RTCGA.mRNA_1.19.0.tar.gz && D:\biocbuild\bbs-3.13-bioc\R\bin\R.exe CMD INSTALL RTCGA.mRNA_1.19.0.zip && rm RTCGA.mRNA_1.19.0.tar.gz RTCGA.mRNA_1.19.0.zip
###
##############################################################################
##############################################################################


  % Total    % Received % Xferd  Average Speed   Time    Time     Time  Current
                                 Dload  Upload   Total   Spent    Left  Speed

  0     0    0     0    0     0      0      0 --:--:-- --:--:-- --:--:--     0
 28 84.9M   28 23.9M    0     0  41.1M      0  0:00:02 --:--:--  0:00:02 41.0M
100 84.9M  100 84.9M    0     0  65.8M      0  0:00:01  0:00:01 --:--:-- 65.9M

install for i386

* installing *source* package 'RTCGA.mRNA' ...
** using staged installation
** R
** data
*** moving datasets to lazyload DB
** byte-compile and prepare package for lazy loading
** help
*** installing help indices
  converting help for package 'RTCGA.mRNA'
    finding HTML links ... done
    mRNA                                    html  
REDIRECT:topic	 BRCA.mRNA -> mRNA.html [ SUCCESS ]
REDIRECT:topic	 BRCA.mRNA,COAD.mRNA,COADREAD.mRNA,GBMLGG.mRNA,KIPAN.mRNA,KIRC.mRNA,KIRP.mRNA,LGG.mRNA,LUAD.mRNA,LUSC.mRNA,OV.mRNA,READ.mRNA,UCEC.mRNA -> mRNA.html [ SUCCESS ]
REDIRECT:topic	 COAD.mRNA -> mRNA.html [ SUCCESS ]
REDIRECT:topic	 COADREAD.mRNA -> mRNA.html [ SUCCESS ]
REDIRECT:topic	 GBMLGG.mRNA -> mRNA.html [ SUCCESS ]
REDIRECT:topic	 KIPAN.mRNA -> mRNA.html [ SUCCESS ]
REDIRECT:topic	 KIRC.mRNA -> mRNA.html [ SUCCESS ]
REDIRECT:topic	 KIRP.mRNA -> mRNA.html [ SUCCESS ]
REDIRECT:topic	 LGG.mRNA -> mRNA.html [ SUCCESS ]
REDIRECT:topic	 LUAD.mRNA -> mRNA.html [ SUCCESS ]
REDIRECT:topic	 LUSC.mRNA -> mRNA.html [ SUCCESS ]
REDIRECT:topic	 OV.mRNA -> mRNA.html [ SUCCESS ]
REDIRECT:topic	 READ.mRNA -> mRNA.html [ SUCCESS ]
REDIRECT:topic	 UCEC.mRNA -> mRNA.html [ SUCCESS ]
REDIRECT:topic	 mRNA -> mRNA.html [ SUCCESS ]
    finding level-2 HTML links ... done

** building package indices
** installing vignettes
** testing if installed package can be loaded from temporary location
** testing if installed package can be loaded from final location
** testing if installed package keeps a record of temporary installation path

install for x64

* installing *source* package 'RTCGA.mRNA' ...
** testing if installed package can be loaded
* MD5 sums
packaged installation of 'RTCGA.mRNA' as RTCGA.mRNA_1.19.0.zip
* DONE (RTCGA.mRNA)
* installing to library 'D:/biocbuild/bbs-3.13-bioc/R/library'
package 'RTCGA.mRNA' successfully unpacked and MD5 sums checked

Tests output


Example timings

RTCGA.mRNA.Rcheck/examples_i386/RTCGA.mRNA-Ex.timings

nameusersystemelapsed
mRNA000

RTCGA.mRNA.Rcheck/examples_x64/RTCGA.mRNA-Ex.timings

nameusersystemelapsed
mRNA000