CHECK report for RTCGA.RPPA on riesling1
This page was generated on 2021-01-14 15:59:11 -0500 (Thu, 14 Jan 2021).
|
TO THE DEVELOPERS/MAINTAINERS OF THE RTCGA.RPPA PACKAGE: Please make sure to use the following settings in order to reproduce any error or warning you see on this page.
|
|
RTCGA.RPPA 1.19.0 Marcin Kosinski
Snapshot Date: 2021-01-14 09:00:13 -0500 (Thu, 14 Jan 2021) |
URL: https://git.bioconductor.org/packages/RTCGA.RPPA |
Branch: master |
Last Commit: 34eb110 |
Last Changed Date: 2020-10-27 10:17:03 -0500 (Tue, 27 Oct 2020) |
| malbec2 | Linux (Ubuntu 20.04.1 LTS) / x86_64 | OK | OK | OK |  |
riesling1 | Windows Server 2019 Standard / x64 | OK | OK | [ WARNINGS ] | |
Summary
Command output
Installation output
RTCGA.RPPA.Rcheck/00install.out
##############################################################################
##############################################################################
###
### Running command:
###
### C:\cygwin\bin\curl.exe -O http://172.29.0.4/BBS/3.13/data-experiment/src/contrib/RTCGA.RPPA_1.19.0.tar.gz && rm -rf RTCGA.RPPA.buildbin-libdir && mkdir RTCGA.RPPA.buildbin-libdir && D:\biocbuild\bbs-3.13-bioc\R\bin\R.exe CMD INSTALL --merge-multiarch --build --library=RTCGA.RPPA.buildbin-libdir RTCGA.RPPA_1.19.0.tar.gz && D:\biocbuild\bbs-3.13-bioc\R\bin\R.exe CMD INSTALL RTCGA.RPPA_1.19.0.zip && rm RTCGA.RPPA_1.19.0.tar.gz RTCGA.RPPA_1.19.0.zip
###
##############################################################################
##############################################################################
% Total % Received % Xferd Average Speed Time Time Time Current
Dload Upload Total Spent Left Speed
0 0 0 0 0 0 0 0 --:--:-- --:--:-- --:--:-- 0
0 13.0M 0 109k 0 0 207k 0 0:01:04 --:--:-- 0:01:04 207k
100 13.0M 100 13.0M 0 0 15.2M 0 --:--:-- --:--:-- --:--:-- 15.2M
install for i386
* installing *source* package 'RTCGA.RPPA' ...
** using staged installation
** R
** data
*** moving datasets to lazyload DB
** byte-compile and prepare package for lazy loading
** help
*** installing help indices
converting help for package 'RTCGA.RPPA'
finding HTML links ... done
RPPA html
REDIRECT:topic ACC.RPPA -> RPPA.html [ SUCCESS ]
REDIRECT:topic ACC.RPPA,BLCA.RPPA,BRCA.RPPA,CESC.RPPA,CHOL.RPPA,COAD.RPPA,COADREAD.RPPA,DLBC.RPPA,ESCA.RPPA,GBM.RPPA,GBMLGG.RPPA,HNSC.RPPA,KICH.RPPA,KIPAN.RPPA,KIRC.RPPA,KIRP.RPPA,LGG.RPPA,LIHC.RPPA,LUAD.RPPA,LUSC.RPPA,MESO.RPPA,OV.RPPA,PAAD.RPPA,PCPG.RPPA,PRAD.RPPA,READ.RPPA,SARC.RPPA,SKCM.RPPA,STAD.RPPA,STES.RPPA,TGCT.RPPA,THCA.RPPA,THYM.RPPA,UCEC.RPPA,UCS.RPPA,UVM.RPPA -> RPPA.html [ FAIL ]
REDIRECT:topic BLCA.RPPA -> RPPA.html [ SUCCESS ]
REDIRECT:topic BRCA.RPPA -> RPPA.html [ SUCCESS ]
REDIRECT:topic CESC.RPPA -> RPPA.html [ SUCCESS ]
REDIRECT:topic CHOL.RPPA -> RPPA.html [ SUCCESS ]
REDIRECT:topic COAD.RPPA -> RPPA.html [ SUCCESS ]
REDIRECT:topic COADREAD.RPPA -> RPPA.html [ SUCCESS ]
REDIRECT:topic DLBC.RPPA -> RPPA.html [ SUCCESS ]
REDIRECT:topic ESCA.RPPA -> RPPA.html [ SUCCESS ]
REDIRECT:topic GBM.RPPA -> RPPA.html [ SUCCESS ]
REDIRECT:topic GBMLGG.RPPA -> RPPA.html [ SUCCESS ]
REDIRECT:topic HNSC.RPPA -> RPPA.html [ SUCCESS ]
REDIRECT:topic KICH.RPPA -> RPPA.html [ SUCCESS ]
REDIRECT:topic KIPAN.RPPA -> RPPA.html [ SUCCESS ]
REDIRECT:topic KIRC.RPPA -> RPPA.html [ SUCCESS ]
REDIRECT:topic KIRP.RPPA -> RPPA.html [ SUCCESS ]
REDIRECT:topic LGG.RPPA -> RPPA.html [ SUCCESS ]
REDIRECT:topic LIHC.RPPA -> RPPA.html [ SUCCESS ]
REDIRECT:topic LUAD.RPPA -> RPPA.html [ SUCCESS ]
REDIRECT:topic LUSC.RPPA -> RPPA.html [ SUCCESS ]
REDIRECT:topic MESO.RPPA -> RPPA.html [ SUCCESS ]
REDIRECT:topic OV.RPPA -> RPPA.html [ SUCCESS ]
REDIRECT:topic PAAD.RPPA -> RPPA.html [ SUCCESS ]
REDIRECT:topic PCPG.RPPA -> RPPA.html [ SUCCESS ]
REDIRECT:topic PRAD.RPPA -> RPPA.html [ SUCCESS ]
REDIRECT:topic READ.RPPA -> RPPA.html [ SUCCESS ]
REDIRECT:topic RPPA -> RPPA.html [ SUCCESS ]
REDIRECT:topic SARC.RPPA -> RPPA.html [ SUCCESS ]
REDIRECT:topic SKCM.RPPA -> RPPA.html [ SUCCESS ]
REDIRECT:topic STAD.RPPA -> RPPA.html [ SUCCESS ]
REDIRECT:topic STES.RPPA -> RPPA.html [ SUCCESS ]
REDIRECT:topic TGCT.RPPA -> RPPA.html [ SUCCESS ]
REDIRECT:topic THCA.RPPA -> RPPA.html [ SUCCESS ]
REDIRECT:topic THYM.RPPA -> RPPA.html [ SUCCESS ]
REDIRECT:topic UCEC.RPPA -> RPPA.html [ SUCCESS ]
REDIRECT:topic UCS.RPPA -> RPPA.html [ SUCCESS ]
REDIRECT:topic UVM.RPPA -> RPPA.html [ SUCCESS ]
finding level-2 HTML links ... done
Rd warning: cannot open file 'D:/biocbuild/bbs-3.13-data-experiment/meat/RTCGA.RPPA.buildbin-libdir/00LOCK-RTCGA.RPPA/00new/RTCGA.RPPA/help/ACC.RPPA,BLCA.RPPA,BRCA.RPPA,CESC.RPPA,CHOL.RPPA,COAD.RPPA,COADREAD.RPPA,DLBC.RPPA,ESCA.RPPA,GBM.RPPA,GBMLGG.RPPA,HNSC.RPPA,KICH.RPPA,KIPAN.RPPA,KIRC.RPPA,KIRP.RPPA,LGG.RPPA,LIHC.RPPA,LUAD.RPPA,LUSC.RPPA,MESO.RPPA,OV.RPPA,PAAD.RPPA,PCPG.RPPA,PRAD.RPPA,READ.RPPA,SARC.RPPA,SKCM.RPPA,STAD.RPPA,STES.RPPA,TGCT.RPPA,THCA.RPPA,THYM.RPPA,UCEC.RPPA,UCS.RPPA,UVM.RPPA.html': No such file or directory
** building package indices
** installing vignettes
** testing if installed package can be loaded from temporary location
** testing if installed package can be loaded from final location
** testing if installed package keeps a record of temporary installation path
install for x64
* installing *source* package 'RTCGA.RPPA' ...
** testing if installed package can be loaded
* MD5 sums
packaged installation of 'RTCGA.RPPA' as RTCGA.RPPA_1.19.0.zip
* DONE (RTCGA.RPPA)
* installing to library 'D:/biocbuild/bbs-3.13-bioc/R/library'
package 'RTCGA.RPPA' successfully unpacked and MD5 sums checked
Tests output
Example timings
RTCGA.RPPA.Rcheck/examples_i386/RTCGA.RPPA-Ex.timings
|
RTCGA.RPPA.Rcheck/examples_x64/RTCGA.RPPA-Ex.timings
|