Back to Multiple platform build/check report for BioC 3.13 experimental data
ABCDEFGHIJKLMNOPQ[R]STUVWXYZ

BUILD report for RTCGA.PANCAN12 on riesling1

This page was generated on 2021-01-14 15:59:11 -0500 (Thu, 14 Jan 2021).

TO THE DEVELOPERS/MAINTAINERS OF THE RTCGA.PANCAN12 PACKAGE: Please make sure to use the following settings in order to reproduce any error or warning you see on this page.
Package 316/385HostnameOS / ArchINSTALLBUILDCHECK
RTCGA.PANCAN12 1.19.0
Marcin Kosinski
Snapshot Date: 2021-01-14 09:00:13 -0500 (Thu, 14 Jan 2021)
URL: https://git.bioconductor.org/packages/RTCGA.PANCAN12
Branch: master
Last Commit: 062e24d
Last Changed Date: 2020-10-27 10:16:56 -0500 (Tue, 27 Oct 2020)
malbec2 Linux (Ubuntu 20.04.1 LTS) / x86_64  OK  OK  OK UNNEEDED, same version exists in internal repository
riesling1 Windows Server 2019 Standard / x64  OK [ OK ] OK 

Summary

Package: RTCGA.PANCAN12
Version: 1.19.0
Command: chmod a+r RTCGA.PANCAN12 -R && D:\biocbuild\bbs-3.13-bioc\R\bin\R.exe CMD build --keep-empty-dirs --no-resave-data RTCGA.PANCAN12
StartedAt: 2021-01-14 10:52:16 -0500 (Thu, 14 Jan 2021)
EndedAt: 2021-01-14 10:53:01 -0500 (Thu, 14 Jan 2021)
EllapsedTime: 45.1 seconds
RetCode: 0
Status:  OK  
PackageFile: RTCGA.PANCAN12_1.19.0.tar.gz
PackageFileSize: 213.9 MiB

Command output

##############################################################################
##############################################################################
###
### Running command:
###
###   chmod a+r RTCGA.PANCAN12 -R && D:\biocbuild\bbs-3.13-bioc\R\bin\R.exe CMD build --keep-empty-dirs --no-resave-data RTCGA.PANCAN12
###
##############################################################################
##############################################################################


* checking for file 'RTCGA.PANCAN12/DESCRIPTION' ... OK
* preparing 'RTCGA.PANCAN12':
* checking DESCRIPTION meta-information ... OK
* installing the package to build vignettes
* creating vignettes ... OK
* checking for LF line-endings in source and make files and shell scripts
* checking for empty or unneeded directories
* looking to see if a 'data/datalist' file should be added
* building 'RTCGA.PANCAN12_1.19.0.tar.gz'