Back to Multiple platform build/check report for BioC 3.13 experimental data
ABCDEFGHIJKLMNOPQ[R]STUVWXYZ

INSTALL report for RRBSdata on riesling1

This page was generated on 2021-01-11 15:59:33 -0500 (Mon, 11 Jan 2021).

TO THE DEVELOPERS/MAINTAINERS OF THE RRBSdata PACKAGE: Please make sure to use the following settings in order to reproduce any error or warning you see on this page.
Package 308/385HostnameOS / ArchINSTALLBUILDCHECK
RRBSdata 1.11.0
Katja Hebestreit
Snapshot Date: 2021-01-11 09:00:09 -0500 (Mon, 11 Jan 2021)
URL: https://git.bioconductor.org/packages/RRBSdata
Branch: master
Last Commit: 4cdc648
Last Changed Date: 2020-10-27 10:10:42 -0500 (Tue, 27 Oct 2020)
malbec2 Linux (Ubuntu 20.04.1 LTS) / x86_64  OK  OK  OK UNNEEDED, same version exists in internal repository
riesling1 Windows Server 2019 Standard / x64 [ OK ] OK  OK 

Summary

Package: RRBSdata
Version: 1.11.0
Command: C:\cygwin\bin\curl.exe -O http://172.29.0.4/BBS/3.13/data-experiment/src/contrib/RRBSdata_1.11.0.tar.gz && rm -rf RRBSdata.buildbin-libdir && mkdir RRBSdata.buildbin-libdir && D:\biocbuild\bbs-3.13-bioc\R\bin\R.exe CMD INSTALL --merge-multiarch --build --library=RRBSdata.buildbin-libdir RRBSdata_1.11.0.tar.gz && D:\biocbuild\bbs-3.13-bioc\R\bin\R.exe CMD INSTALL RRBSdata_1.11.0.zip && rm RRBSdata_1.11.0.tar.gz RRBSdata_1.11.0.zip
StartedAt: 2021-01-11 10:15:17 -0500 (Mon, 11 Jan 2021)
EndedAt: 2021-01-11 10:15:51 -0500 (Mon, 11 Jan 2021)
EllapsedTime: 34.0 seconds
RetCode: 0
Status:  OK  

Command output

##############################################################################
##############################################################################
###
### Running command:
###
###   C:\cygwin\bin\curl.exe -O http://172.29.0.4/BBS/3.13/data-experiment/src/contrib/RRBSdata_1.11.0.tar.gz && rm -rf RRBSdata.buildbin-libdir && mkdir RRBSdata.buildbin-libdir && D:\biocbuild\bbs-3.13-bioc\R\bin\R.exe CMD INSTALL --merge-multiarch --build --library=RRBSdata.buildbin-libdir RRBSdata_1.11.0.tar.gz && D:\biocbuild\bbs-3.13-bioc\R\bin\R.exe CMD INSTALL RRBSdata_1.11.0.zip && rm RRBSdata_1.11.0.tar.gz RRBSdata_1.11.0.zip
###
##############################################################################
##############################################################################


  % Total    % Received % Xferd  Average Speed   Time    Time     Time  Current
                                 Dload  Upload   Total   Spent    Left  Speed

  0     0    0     0    0     0      0      0 --:--:-- --:--:-- --:--:--     0
  0 73.8M    0  199k    0     0  1374k      0  0:00:55 --:--:--  0:00:55 1365k
100 73.8M  100 73.8M    0     0  65.0M      0  0:00:01  0:00:01 --:--:-- 65.0M

install for i386

* installing *source* package 'RRBSdata' ...
** using staged installation
** data
** inst
** help
*** installing help indices
  converting help for package 'RRBSdata'
    finding HTML links ... done
    diffMethCpGs                            html  
REDIRECT:topic	 diffMethCpGs -> diffMethCpGs.html [ SUCCESS ]
    islands                                 html  
REDIRECT:topic	 islands -> islands.html [ SUCCESS ]
    rrbs                                    html  
REDIRECT:topic	 rrbs -> rrbs.html [ SUCCESS ]
** building package indices
** installing vignettes
** testing if installed package can be loaded from temporary location
** testing if installed package can be loaded from final location
** testing if installed package keeps a record of temporary installation path

install for x64

* installing *source* package 'RRBSdata' ...
** testing if installed package can be loaded
* MD5 sums
packaged installation of 'RRBSdata' as RRBSdata_1.11.0.zip
* DONE (RRBSdata)
* installing to library 'D:/biocbuild/bbs-3.13-bioc/R/library'
package 'RRBSdata' successfully unpacked and MD5 sums checked