Back to Multiple platform build/check report for BioC 3.13 experimental data
ABCDEFGHIJKLMNOPQ[R]STUVWXYZ

INSTALL report for RNAseqData.HNRNPC.bam.chr14 on riesling1

This page was generated on 2021-01-14 15:59:11 -0500 (Thu, 14 Jan 2021).

TO THE DEVELOPERS/MAINTAINERS OF THE RNAseqData.HNRNPC.bam.chr14 PACKAGE: Please make sure to use the following settings in order to reproduce any error or warning you see on this page.
Package 300/385HostnameOS / ArchINSTALLBUILDCHECK
RNAseqData.HNRNPC.bam.chr14 0.29.0
Hervé Pagès
Snapshot Date: 2021-01-14 09:00:13 -0500 (Thu, 14 Jan 2021)
URL: https://git.bioconductor.org/packages/RNAseqData.HNRNPC.bam.chr14
Branch: master
Last Commit: 0fc7dd5
Last Changed Date: 2020-10-27 10:02:25 -0500 (Tue, 27 Oct 2020)
malbec2 Linux (Ubuntu 20.04.1 LTS) / x86_64  OK  OK  OK UNNEEDED, same version exists in internal repository
riesling1 Windows Server 2019 Standard / x64 [ OK ] OK  OK 

Summary

Package: RNAseqData.HNRNPC.bam.chr14
Version: 0.29.0
Command: C:\cygwin\bin\curl.exe -O http://172.29.0.4/BBS/3.13/data-experiment/src/contrib/RNAseqData.HNRNPC.bam.chr14_0.29.0.tar.gz && rm -rf RNAseqData.HNRNPC.bam.chr14.buildbin-libdir && mkdir RNAseqData.HNRNPC.bam.chr14.buildbin-libdir && D:\biocbuild\bbs-3.13-bioc\R\bin\R.exe CMD INSTALL --merge-multiarch --build --library=RNAseqData.HNRNPC.bam.chr14.buildbin-libdir RNAseqData.HNRNPC.bam.chr14_0.29.0.tar.gz && D:\biocbuild\bbs-3.13-bioc\R\bin\R.exe CMD INSTALL RNAseqData.HNRNPC.bam.chr14_0.29.0.zip && rm RNAseqData.HNRNPC.bam.chr14_0.29.0.tar.gz RNAseqData.HNRNPC.bam.chr14_0.29.0.zip
StartedAt: 2021-01-14 09:49:31 -0500 (Thu, 14 Jan 2021)
EndedAt: 2021-01-14 09:51:17 -0500 (Thu, 14 Jan 2021)
EllapsedTime: 106.7 seconds
RetCode: 0
Status:  OK  

Command output

##############################################################################
##############################################################################
###
### Running command:
###
###   C:\cygwin\bin\curl.exe -O http://172.29.0.4/BBS/3.13/data-experiment/src/contrib/RNAseqData.HNRNPC.bam.chr14_0.29.0.tar.gz && rm -rf RNAseqData.HNRNPC.bam.chr14.buildbin-libdir && mkdir RNAseqData.HNRNPC.bam.chr14.buildbin-libdir && D:\biocbuild\bbs-3.13-bioc\R\bin\R.exe CMD INSTALL --merge-multiarch --build --library=RNAseqData.HNRNPC.bam.chr14.buildbin-libdir RNAseqData.HNRNPC.bam.chr14_0.29.0.tar.gz && D:\biocbuild\bbs-3.13-bioc\R\bin\R.exe CMD INSTALL RNAseqData.HNRNPC.bam.chr14_0.29.0.zip && rm RNAseqData.HNRNPC.bam.chr14_0.29.0.tar.gz RNAseqData.HNRNPC.bam.chr14_0.29.0.zip
###
##############################################################################
##############################################################################


  % Total    % Received % Xferd  Average Speed   Time    Time     Time  Current
                                 Dload  Upload   Total   Spent    Left  Speed

  0     0    0     0    0     0      0      0 --:--:-- --:--:-- --:--:--     0
  0  332M    0 15811    0     0  27593      0  3:30:51 --:--:--  3:30:51 27593
  0  332M    0 1918k    0     0  1319k      0  0:04:18  0:00:01  0:04:17 1319k
  1  332M    1 4834k    0     0  1970k      0  0:02:52  0:00:02  0:02:50 1970k
  2  332M    2 7001k    0     0  1998k      0  0:02:50  0:00:03  0:02:47 1997k
  3  332M    3 12.1M    0     0  2738k      0  0:02:04  0:00:04  0:02:00 2737k
  5  332M    5 16.7M    0     0  3150k      0  0:01:48  0:00:05  0:01:43 3516k
 10  332M   10 34.0M    0     0  5369k      0  0:01:03  0:00:06  0:00:57 6538k
 16  332M   16 56.0M    0     0  7483k      0  0:00:45  0:00:07  0:00:38  9.8M
 18  332M   18 60.7M    0     0  7014k      0  0:00:48  0:00:08  0:00:40 10.0M
 19  332M   19 63.7M    0     0  6862k      0  0:00:49  0:00:09  0:00:40 10.3M
 23  332M   23 77.1M    0     0  7520k      0  0:00:45  0:00:10  0:00:35 11.9M
 30  332M   30  101M    0     0  8881k      0  0:00:38  0:00:11  0:00:27 12.9M
 38  332M   38  127M    0     0  10.0M      0  0:00:32  0:00:12  0:00:20 14.4M
 40  332M   40  135M    0     0  10.0M      0  0:00:33  0:00:13  0:00:20 16.2M
 41  332M   41  136M    0     0  9669k      0  0:00:35  0:00:14  0:00:21 14.6M
 42  332M   42  141M    0     0  9357k      0  0:00:36  0:00:15  0:00:21 12.8M
 49  332M   49  165M    0     0  10.0M      0  0:00:33  0:00:16  0:00:17 13.3M
 50  332M   50  167M    0     0  9811k      0  0:00:34  0:00:17  0:00:17 8455k
 54  332M   54  181M    0     0   9.8M      0  0:00:33  0:00:18  0:00:15 9404k
 59  332M   59  196M    0     0   9.9M      0  0:00:33  0:00:19  0:00:14 11.4M
 59  332M   59  198M    0     0  9906k      0  0:00:34  0:00:20  0:00:14 11.3M
 60  332M   60  201M    0     0  9540k      0  0:00:35  0:00:21  0:00:14 7225k
 67  332M   67  226M    0     0  10.0M      0  0:00:33  0:00:22  0:00:11 11.7M
 73  332M   73  246M    0     0  10.4M      0  0:00:31  0:00:23  0:00:08 12.5M
 83  332M   83  277M    0     0  11.2M      0  0:00:29  0:00:24  0:00:05 16.6M
 84  332M   84  280M    0     0  10.9M      0  0:00:30  0:00:25  0:00:05 15.7M
 84  332M   84  282M    0     0  10.5M      0  0:00:31  0:00:26  0:00:05 15.9M
 85  332M   85  283M    0     0  10.2M      0  0:00:32  0:00:27  0:00:05 10.9M
 86  332M   86  289M    0     0  10.1M      0  0:00:32  0:00:28  0:00:04 9188k
 90  332M   90  302M    0     0  10.1M      0  0:00:32  0:00:29  0:00:03 5063k
 91  332M   91  304M    0     0   9.9M      0  0:00:33  0:00:30  0:00:03 5125k
 91  332M   91  306M    0     0  9948k      0  0:00:34  0:00:31  0:00:03 5101k
 92  332M   92  309M    0     0  9735k      0  0:00:35  0:00:32  0:00:03 5466k
 93  332M   93  311M    0     0  9499k      0  0:00:35  0:00:33  0:00:02 4411k
 98  332M   98  328M    0     0  9764k      0  0:00:34  0:00:34 --:--:-- 5623k
100  332M  100  332M    0     0  9641k      0  0:00:35  0:00:35 --:--:-- 6009k

install for i386

* installing *source* package 'RNAseqData.HNRNPC.bam.chr14' ...
** using staged installation
** R
** inst
** byte-compile and prepare package for lazy loading
** help
*** installing help indices
  converting help for package 'RNAseqData.HNRNPC.bam.chr14'
    finding HTML links ... done
    RNAseqData.HNRNPC.bam.chr14-package     html  
REDIRECT:topic	 RNAseqData.HNRNPC.bam.chr14-package -> RNAseqData.HNRNPC.bam.chr14-package.html [ SUCCESS ]
REDIRECT:topic	 RNAseqData.HNRNPC.bam.chr14 -> RNAseqData.HNRNPC.bam.chr14-package.html [ SUCCESS ]
REDIRECT:topic	 RNAseqData.HNRNPC.bam.chr14_RUNNAMES -> RNAseqData.HNRNPC.bam.chr14-package.html [ SUCCESS ]
REDIRECT:topic	 RNAseqData.HNRNPC.bam.chr14_BAMFILES -> RNAseqData.HNRNPC.bam.chr14-package.html [ SUCCESS ]
** building package indices
** testing if installed package can be loaded from temporary location
** testing if installed package can be loaded from final location
** testing if installed package keeps a record of temporary installation path

install for x64

* installing *source* package 'RNAseqData.HNRNPC.bam.chr14' ...
** testing if installed package can be loaded
* MD5 sums
packaged installation of 'RNAseqData.HNRNPC.bam.chr14' as RNAseqData.HNRNPC.bam.chr14_0.29.0.zip
* DONE (RNAseqData.HNRNPC.bam.chr14)
* installing to library 'D:/biocbuild/bbs-3.13-bioc/R/library'
package 'RNAseqData.HNRNPC.bam.chr14' successfully unpacked and MD5 sums checked