Back to Multiple platform build/check report for BioC 3.13 experimental data
ABCDEFGHIJKLMNOPQ[R]STUVWXYZ

INSTALL report for RNAmodR.Data on riesling1

This page was generated on 2021-01-11 15:59:33 -0500 (Mon, 11 Jan 2021).

TO THE DEVELOPERS/MAINTAINERS OF THE RNAmodR.Data PACKAGE: Please make sure to use the following settings in order to reproduce any error or warning you see on this page.
Package 299/385HostnameOS / ArchINSTALLBUILDCHECK
RNAmodR.Data 1.5.0
Felix G.M. Ernst
Snapshot Date: 2021-01-11 09:00:09 -0500 (Mon, 11 Jan 2021)
URL: https://git.bioconductor.org/packages/RNAmodR.Data
Branch: master
Last Commit: f7833d3
Last Changed Date: 2020-10-27 10:30:16 -0500 (Tue, 27 Oct 2020)
malbec2 Linux (Ubuntu 20.04.1 LTS) / x86_64  OK  OK  OK UNNEEDED, same version exists in internal repository
riesling1 Windows Server 2019 Standard / x64 [ OK ] OK  OK 

Summary

Package: RNAmodR.Data
Version: 1.5.0
Command: C:\cygwin\bin\curl.exe -O http://172.29.0.4/BBS/3.13/data-experiment/src/contrib/RNAmodR.Data_1.5.0.tar.gz && rm -rf RNAmodR.Data.buildbin-libdir && mkdir RNAmodR.Data.buildbin-libdir && D:\biocbuild\bbs-3.13-bioc\R\bin\R.exe CMD INSTALL --merge-multiarch --build --library=RNAmodR.Data.buildbin-libdir RNAmodR.Data_1.5.0.tar.gz && D:\biocbuild\bbs-3.13-bioc\R\bin\R.exe CMD INSTALL RNAmodR.Data_1.5.0.zip && rm RNAmodR.Data_1.5.0.tar.gz RNAmodR.Data_1.5.0.zip
StartedAt: 2021-01-11 10:13:42 -0500 (Mon, 11 Jan 2021)
EndedAt: 2021-01-11 10:14:53 -0500 (Mon, 11 Jan 2021)
EllapsedTime: 70.7 seconds
RetCode: 0
Status:  OK  

Command output

##############################################################################
##############################################################################
###
### Running command:
###
###   C:\cygwin\bin\curl.exe -O http://172.29.0.4/BBS/3.13/data-experiment/src/contrib/RNAmodR.Data_1.5.0.tar.gz && rm -rf RNAmodR.Data.buildbin-libdir && mkdir RNAmodR.Data.buildbin-libdir && D:\biocbuild\bbs-3.13-bioc\R\bin\R.exe CMD INSTALL --merge-multiarch --build --library=RNAmodR.Data.buildbin-libdir RNAmodR.Data_1.5.0.tar.gz && D:\biocbuild\bbs-3.13-bioc\R\bin\R.exe CMD INSTALL RNAmodR.Data_1.5.0.zip && rm RNAmodR.Data_1.5.0.tar.gz RNAmodR.Data_1.5.0.zip
###
##############################################################################
##############################################################################


  % Total    % Received % Xferd  Average Speed   Time    Time     Time  Current
                                 Dload  Upload   Total   Spent    Left  Speed

  0     0    0     0    0     0      0      0 --:--:-- --:--:-- --:--:--     0
 15  7892   15  1220    0     0  71764      0 --:--:-- --:--:-- --:--:-- 67777
100  7892  100  7892    0     0   428k      0 --:--:-- --:--:-- --:--:--  428k

install for i386

* installing *source* package 'RNAmodR.Data' ...
** using staged installation
** R
** inst
** byte-compile and prepare package for lazy loading
** help
*** installing help indices
  converting help for package 'RNAmodR.Data'
    finding HTML links ... done
    RNAmodR.Data.AAS                        html  
REDIRECT:topic	 RNAmodR.Data.AAS -> RNAmodR.Data.AAS.html [ SUCCESS ]
REDIRECT:topic	 RNAmodR.Data.example.AAS.fasta -> RNAmodR.Data.AAS.html [ SUCCESS ]
REDIRECT:topic	 RNAmodR.Data.example.AAS.gff3 -> RNAmodR.Data.AAS.html [ SUCCESS ]
REDIRECT:topic	 RNAmodR.Data.example.bud23.1 -> RNAmodR.Data.AAS.html [ SUCCESS ]
REDIRECT:topic	 RNAmodR.Data.example.bud23.2 -> RNAmodR.Data.AAS.html [ SUCCESS ]
REDIRECT:topic	 RNAmodR.Data.example.trm8.1 -> RNAmodR.Data.AAS.html [ SUCCESS ]
REDIRECT:topic	 RNAmodR.Data.example.trm8.2 -> RNAmodR.Data.AAS.html [ SUCCESS ]
REDIRECT:topic	 RNAmodR.Data.example.wt.1 -> RNAmodR.Data.AAS.html [ SUCCESS ]
REDIRECT:topic	 RNAmodR.Data.example.wt.2 -> RNAmodR.Data.AAS.html [ SUCCESS ]
REDIRECT:topic	 RNAmodR.Data.example.wt.3 -> RNAmodR.Data.AAS.html [ SUCCESS ]
    RNAmodR.Data.RMS                        html  
REDIRECT:topic	 RNAmodR.Data.RMS -> RNAmodR.Data.RMS.html [ SUCCESS ]
REDIRECT:topic	 RNAmodR.Data.example.RMS.fasta -> RNAmodR.Data.RMS.html [ SUCCESS ]
REDIRECT:topic	 RNAmodR.Data.example.RMS.gff3 -> RNAmodR.Data.RMS.html [ SUCCESS ]
REDIRECT:topic	 RNAmodR.Data.example.RMS.1 -> RNAmodR.Data.RMS.html [ SUCCESS ]
REDIRECT:topic	 RNAmodR.Data.example.RMS.2 -> RNAmodR.Data.RMS.html [ SUCCESS ]
    RNAmodR.Data                            html  
REDIRECT:topic	 RNAmodR.Data -> RNAmodR.Data.html [ SUCCESS ]
    RNAmodR.Data.example                    html  
REDIRECT:topic	 RNAmodR.Data.example -> RNAmodR.Data.example.html [ SUCCESS ]
REDIRECT:topic	 RNAmodR.Data.example.fasta -> RNAmodR.Data.example.html [ SUCCESS ]
REDIRECT:topic	 RNAmodR.Data.example.gff3 -> RNAmodR.Data.example.html [ SUCCESS ]
REDIRECT:topic	 RNAmodR.Data.example.bam.1 -> RNAmodR.Data.example.html [ SUCCESS ]
REDIRECT:topic	 RNAmodR.Data.example.bam.2 -> RNAmodR.Data.example.html [ SUCCESS ]
REDIRECT:topic	 RNAmodR.Data.example.bam.3 -> RNAmodR.Data.example.html [ SUCCESS ]
    RNAmodR.Data.snoRNAdb                   html  
REDIRECT:topic	 RNAmodR.Data.snoRNAdb -> RNAmodR.Data.snoRNAdb.html [ SUCCESS ]
    example.man.fasta                       html  
REDIRECT:topic	 example.man.fasta -> example.man.fasta.html [ SUCCESS ]
REDIRECT:topic	 RNAmodR.Data.example.man.fasta -> example.man.fasta.html [ SUCCESS ]
REDIRECT:topic	 RNAmodR.Data.example.man.gff3 -> example.man.fasta.html [ SUCCESS ]
** building package indices
** installing vignettes
** testing if installed package can be loaded from temporary location
snapshotDate(): 2021-01-07
** testing if installed package can be loaded from final location
snapshotDate(): 2021-01-07
** testing if installed package keeps a record of temporary installation path

install for x64

* installing *source* package 'RNAmodR.Data' ...
** testing if installed package can be loaded
snapshotDate(): 2021-01-07
* MD5 sums
packaged installation of 'RNAmodR.Data' as RNAmodR.Data_1.5.0.zip
* DONE (RNAmodR.Data)
* installing to library 'D:/biocbuild/bbs-3.13-bioc/R/library'
package 'RNAmodR.Data' successfully unpacked and MD5 sums checked