Back to Multiple platform build/check report for BioC 3.13 experimental data
ABCDEFGHIJKLMNOPQ[R]STUVWXYZ

BUILD report for RNAmodR.Data on riesling1

This page was generated on 2021-01-21 16:01:37 -0500 (Thu, 21 Jan 2021).

TO THE DEVELOPERS/MAINTAINERS OF THE RNAmodR.Data PACKAGE: Please make sure to use the following settings in order to reproduce any error or warning you see on this page.
Package 299/386HostnameOS / ArchINSTALLBUILDCHECK
RNAmodR.Data 1.5.0
Felix G.M. Ernst
Snapshot Date: 2021-01-21 09:00:14 -0500 (Thu, 21 Jan 2021)
URL: https://git.bioconductor.org/packages/RNAmodR.Data
Branch: master
Last Commit: f7833d3
Last Changed Date: 2020-10-27 10:30:16 -0500 (Tue, 27 Oct 2020)
malbec2 Linux (Ubuntu 20.04.1 LTS) / x86_64  OK  OK  OK UNNEEDED, same version exists in internal repository
riesling1 Windows Server 2019 Standard / x64  OK [ OK ] OK 

Summary

Package: RNAmodR.Data
Version: 1.5.0
Command: chmod a+r RNAmodR.Data -R && D:\biocbuild\bbs-3.13-bioc\R\bin\R.exe CMD build --keep-empty-dirs --no-resave-data RNAmodR.Data
StartedAt: 2021-01-21 10:55:20 -0500 (Thu, 21 Jan 2021)
EndedAt: 2021-01-21 10:56:19 -0500 (Thu, 21 Jan 2021)
EllapsedTime: 58.9 seconds
RetCode: 0
Status:  OK  
PackageFile: RNAmodR.Data_1.5.0.tar.gz
PackageFileSize: 291.9 KiB

Command output

##############################################################################
##############################################################################
###
### Running command:
###
###   chmod a+r RNAmodR.Data -R && D:\biocbuild\bbs-3.13-bioc\R\bin\R.exe CMD build --keep-empty-dirs --no-resave-data RNAmodR.Data
###
##############################################################################
##############################################################################


* checking for file 'RNAmodR.Data/DESCRIPTION' ... OK
* preparing 'RNAmodR.Data':
* checking DESCRIPTION meta-information ... OK
* installing the package to build vignettes
* creating vignettes ... OK
* checking for LF line-endings in source and make files and shell scripts
* checking for empty or unneeded directories
* building 'RNAmodR.Data_1.5.0.tar.gz'