Back to Multiple platform build/check report for BioC 3.13 experimental data
ABCDEFGHIJKLMNOPQ[R]STUVWXYZ

INSTALL report for RITANdata on riesling1

This page was generated on 2021-01-21 16:01:36 -0500 (Thu, 21 Jan 2021).

TO THE DEVELOPERS/MAINTAINERS OF THE RITANdata PACKAGE: Please make sure to use the following settings in order to reproduce any error or warning you see on this page.
Package 296/386HostnameOS / ArchINSTALLBUILDCHECK
RITANdata 1.15.0
Michael Zimmermann
Snapshot Date: 2021-01-21 09:00:14 -0500 (Thu, 21 Jan 2021)
URL: https://git.bioconductor.org/packages/RITANdata
Branch: master
Last Commit: df319fe
Last Changed Date: 2020-10-27 10:23:00 -0500 (Tue, 27 Oct 2020)
malbec2 Linux (Ubuntu 20.04.1 LTS) / x86_64  OK  OK  OK UNNEEDED, same version exists in internal repository
riesling1 Windows Server 2019 Standard / x64 [ OK ] OK  OK 

Summary

Package: RITANdata
Version: 1.15.0
Command: C:\cygwin\bin\curl.exe -O http://172.29.0.4/BBS/3.13/data-experiment/src/contrib/RITANdata_1.15.0.tar.gz && rm -rf RITANdata.buildbin-libdir && mkdir RITANdata.buildbin-libdir && D:\biocbuild\bbs-3.13-bioc\R\bin\R.exe CMD INSTALL --merge-multiarch --build --library=RITANdata.buildbin-libdir RITANdata_1.15.0.tar.gz && D:\biocbuild\bbs-3.13-bioc\R\bin\R.exe CMD INSTALL RITANdata_1.15.0.zip && rm RITANdata_1.15.0.tar.gz RITANdata_1.15.0.zip
StartedAt: 2021-01-21 09:48:51 -0500 (Thu, 21 Jan 2021)
EndedAt: 2021-01-21 09:49:07 -0500 (Thu, 21 Jan 2021)
EllapsedTime: 15.7 seconds
RetCode: 0
Status:  OK  

Command output

##############################################################################
##############################################################################
###
### Running command:
###
###   C:\cygwin\bin\curl.exe -O http://172.29.0.4/BBS/3.13/data-experiment/src/contrib/RITANdata_1.15.0.tar.gz && rm -rf RITANdata.buildbin-libdir && mkdir RITANdata.buildbin-libdir && D:\biocbuild\bbs-3.13-bioc\R\bin\R.exe CMD INSTALL --merge-multiarch --build --library=RITANdata.buildbin-libdir RITANdata_1.15.0.tar.gz && D:\biocbuild\bbs-3.13-bioc\R\bin\R.exe CMD INSTALL RITANdata_1.15.0.zip && rm RITANdata_1.15.0.tar.gz RITANdata_1.15.0.zip
###
##############################################################################
##############################################################################


  % Total    % Received % Xferd  Average Speed   Time    Time     Time  Current
                                 Dload  Upload   Total   Spent    Left  Speed

  0     0    0     0    0     0      0      0 --:--:-- --:--:-- --:--:--     0
  0 7603k    0  1215    0     0   3894      0  0:33:19 --:--:--  0:33:19  3881
 18 7603k   18 1394k    0     0  1103k      0  0:00:06  0:00:01  0:00:05 1102k
 48 7603k   48 3712k    0     0  1570k      0  0:00:04  0:00:02  0:00:02 1569k
 84 7603k   84 6414k    0     0  1775k      0  0:00:04  0:00:03  0:00:01 1774k
100 7603k  100 7603k    0     0  1984k      0  0:00:03  0:00:03 --:--:-- 1983k

install for i386

* installing *source* package 'RITANdata' ...
** using staged installation
** R
** data
*** moving datasets to lazyload DB
** inst
** byte-compile and prepare package for lazy loading
** help
*** installing help indices
  converting help for package 'RITANdata'
    finding HTML links ... done
    RITANdata-package                       html  
REDIRECT:topic	 RITANdata-package -> RITANdata-package.html [ SUCCESS ]
REDIRECT:topic	 RITANdata -> RITANdata-package.html [ SUCCESS ]
    cached_coding_genes                     html  
REDIRECT:topic	 cached_coding_genes -> cached_coding_genes.html [ SUCCESS ]
    geneset_list                            html  
REDIRECT:topic	 geneset_list -> geneset_list.html [ SUCCESS ]
    network_list                            html  
REDIRECT:topic	 network_list -> network_list.html [ SUCCESS ]
** building package indices
** installing vignettes
** testing if installed package can be loaded from temporary location
** testing if installed package can be loaded from final location
** testing if installed package keeps a record of temporary installation path

install for x64

* installing *source* package 'RITANdata' ...
** testing if installed package can be loaded
* MD5 sums
packaged installation of 'RITANdata' as RITANdata_1.15.0.zip
* DONE (RITANdata)
* installing to library 'D:/biocbuild/bbs-3.13-bioc/R/library'
package 'RITANdata' successfully unpacked and MD5 sums checked