Back to Multiple platform build/check report for BioC 3.13 experimental data
ABCDEFGHIJKLMNOPQ[R]STUVWXYZ

INSTALL report for RGMQLlib on riesling1

This page was generated on 2021-01-21 16:01:36 -0500 (Thu, 21 Jan 2021).

TO THE DEVELOPERS/MAINTAINERS OF THE RGMQLlib PACKAGE: Please make sure to use the following settings in order to reproduce any error or warning you see on this page.
Package 294/386HostnameOS / ArchINSTALLBUILDCHECK
RGMQLlib 1.11.0
Simone Pallotta
Snapshot Date: 2021-01-21 09:00:14 -0500 (Thu, 21 Jan 2021)
URL: https://git.bioconductor.org/packages/RGMQLlib
Branch: master
Last Commit: ffa3e2e
Last Changed Date: 2020-10-27 10:24:41 -0500 (Tue, 27 Oct 2020)
malbec2 Linux (Ubuntu 20.04.1 LTS) / x86_64  OK  OK  OK UNNEEDED, same version exists in internal repository
riesling1 Windows Server 2019 Standard / x64 [ OK ] OK  WARNINGS 

Summary

Package: RGMQLlib
Version: 1.11.0
Command: C:\cygwin\bin\curl.exe -O http://172.29.0.4/BBS/3.13/data-experiment/src/contrib/RGMQLlib_1.11.0.tar.gz && rm -rf RGMQLlib.buildbin-libdir && mkdir RGMQLlib.buildbin-libdir && D:\biocbuild\bbs-3.13-bioc\R\bin\R.exe CMD INSTALL --merge-multiarch --build --library=RGMQLlib.buildbin-libdir RGMQLlib_1.11.0.tar.gz && D:\biocbuild\bbs-3.13-bioc\R\bin\R.exe CMD INSTALL RGMQLlib_1.11.0.zip && rm RGMQLlib_1.11.0.tar.gz RGMQLlib_1.11.0.zip
StartedAt: 2021-01-21 10:06:22 -0500 (Thu, 21 Jan 2021)
EndedAt: 2021-01-21 10:06:41 -0500 (Thu, 21 Jan 2021)
EllapsedTime: 19.6 seconds
RetCode: 0
Status:  OK  

Command output

##############################################################################
##############################################################################
###
### Running command:
###
###   C:\cygwin\bin\curl.exe -O http://172.29.0.4/BBS/3.13/data-experiment/src/contrib/RGMQLlib_1.11.0.tar.gz && rm -rf RGMQLlib.buildbin-libdir && mkdir RGMQLlib.buildbin-libdir && D:\biocbuild\bbs-3.13-bioc\R\bin\R.exe CMD INSTALL --merge-multiarch --build --library=RGMQLlib.buildbin-libdir RGMQLlib_1.11.0.tar.gz && D:\biocbuild\bbs-3.13-bioc\R\bin\R.exe CMD INSTALL RGMQLlib_1.11.0.zip && rm RGMQLlib_1.11.0.tar.gz RGMQLlib_1.11.0.zip
###
##############################################################################
##############################################################################


  % Total    % Received % Xferd  Average Speed   Time    Time     Time  Current
                                 Dload  Upload   Total   Spent    Left  Speed

  0     0    0     0    0     0      0      0 --:--:-- --:--:-- --:--:--     0
 50 86.2M   50 43.8M    0     0  46.8M      0  0:00:01 --:--:--  0:00:01 46.7M
100 86.2M  100 86.2M    0     0  63.2M      0  0:00:01  0:00:01 --:--:-- 63.2M

install for i386

* installing *source* package 'RGMQLlib' ...
** using staged installation
** R
** inst
** byte-compile and prepare package for lazy loading
** help
*** installing help indices
  converting help for package 'RGMQLlib'
    finding HTML links ... done
    RGMQLlib                                html  
REDIRECT:topic	 RGMQLlib -> RGMQLlib.html [ SUCCESS ]
REDIRECT:topic	 RGMQLlib-package -> RGMQLlib.html [ SUCCESS ]
REDIRECT:topic	 RGMQLlib-package -> RGMQLlib.html [ SUCCESS ]
Rd warning: Previous alias or file overwritten by alias: RGMQLlib-package
** building package indices
** installing vignettes
** testing if installed package can be loaded from temporary location
** testing if installed package can be loaded from final location
** testing if installed package keeps a record of temporary installation path

install for x64

* installing *source* package 'RGMQLlib' ...
** testing if installed package can be loaded
* MD5 sums
packaged installation of 'RGMQLlib' as RGMQLlib_1.11.0.zip
* DONE (RGMQLlib)
* installing to library 'D:/biocbuild/bbs-3.13-bioc/R/library'
package 'RGMQLlib' successfully unpacked and MD5 sums checked