Back to Multiple platform build/check report for BioC 3.13 experimental data |
|
This page was generated on 2021-01-21 16:01:35 -0500 (Thu, 21 Jan 2021).
TO THE DEVELOPERS/MAINTAINERS OF THE QUBICdata PACKAGE: Please make sure to use the following settings in order to reproduce any error or warning you see on this page. |
Package 287/386 | Hostname | OS / Arch | INSTALL | BUILD | CHECK | ||||||
QUBICdata 1.19.0 Yu Zhang
| malbec2 | Linux (Ubuntu 20.04.1 LTS) / x86_64 | OK | OK | OK | ![]() | |||||
riesling1 | Windows Server 2019 Standard / x64 | [ OK ] | OK | OK |
Package: QUBICdata |
Version: 1.19.0 |
Command: C:\cygwin\bin\curl.exe -O http://172.29.0.4/BBS/3.13/data-experiment/src/contrib/QUBICdata_1.19.0.tar.gz && rm -rf QUBICdata.buildbin-libdir && mkdir QUBICdata.buildbin-libdir && D:\biocbuild\bbs-3.13-bioc\R\bin\R.exe CMD INSTALL --merge-multiarch --build --library=QUBICdata.buildbin-libdir QUBICdata_1.19.0.tar.gz && D:\biocbuild\bbs-3.13-bioc\R\bin\R.exe CMD INSTALL QUBICdata_1.19.0.zip && rm QUBICdata_1.19.0.tar.gz QUBICdata_1.19.0.zip |
StartedAt: 2021-01-21 10:04:50 -0500 (Thu, 21 Jan 2021) |
EndedAt: 2021-01-21 10:04:57 -0500 (Thu, 21 Jan 2021) |
EllapsedTime: 6.8 seconds |
RetCode: 0 |
Status: OK |
############################################################################## ############################################################################## ### ### Running command: ### ### C:\cygwin\bin\curl.exe -O http://172.29.0.4/BBS/3.13/data-experiment/src/contrib/QUBICdata_1.19.0.tar.gz && rm -rf QUBICdata.buildbin-libdir && mkdir QUBICdata.buildbin-libdir && D:\biocbuild\bbs-3.13-bioc\R\bin\R.exe CMD INSTALL --merge-multiarch --build --library=QUBICdata.buildbin-libdir QUBICdata_1.19.0.tar.gz && D:\biocbuild\bbs-3.13-bioc\R\bin\R.exe CMD INSTALL QUBICdata_1.19.0.zip && rm QUBICdata_1.19.0.tar.gz QUBICdata_1.19.0.zip ### ############################################################################## ############################################################################## % Total % Received % Xferd Average Speed Time Time Time Current Dload Upload Total Spent Left Speed 0 0 0 0 0 0 0 0 --:--:-- --:--:-- --:--:-- 0 100 9920k 100 9920k 0 0 68.2M 0 --:--:-- --:--:-- --:--:-- 68.2M install for i386 * installing *source* package 'QUBICdata' ... ** using staged installation ** data ** help *** installing help indices converting help for package 'QUBICdata' finding HTML links ... done ecoli html REDIRECT:topic ecoli -> ecoli.html [ SUCCESS ] ecoli.weight html REDIRECT:topic ecoli.weight -> ecoli.weight.html [ SUCCESS ] ** building package indices ** installing vignettes ** testing if installed package can be loaded from temporary location ** testing if installed package can be loaded from final location ** testing if installed package keeps a record of temporary installation path install for x64 * installing *source* package 'QUBICdata' ... ** testing if installed package can be loaded * MD5 sums packaged installation of 'QUBICdata' as QUBICdata_1.19.0.zip * DONE (QUBICdata) * installing to library 'D:/biocbuild/bbs-3.13-bioc/R/library' package 'QUBICdata' successfully unpacked and MD5 sums checked