Back to Multiple platform build/check report for BioC 3.13 experimental data
ABCDEFGHIJKLMNOP[Q]RSTUVWXYZ

INSTALL report for QDNAseq.hg19 on riesling1

This page was generated on 2021-01-14 15:59:11 -0500 (Thu, 14 Jan 2021).

TO THE DEVELOPERS/MAINTAINERS OF THE QDNAseq.hg19 PACKAGE: Please make sure to use the following settings in order to reproduce any error or warning you see on this page.
Package 284/385HostnameOS / ArchINSTALLBUILDCHECK
QDNAseq.hg19 1.21.0
Daoud Sie
Snapshot Date: 2021-01-14 09:00:13 -0500 (Thu, 14 Jan 2021)
URL: https://git.bioconductor.org/packages/QDNAseq.hg19
Branch: master
Last Commit: ee8d568
Last Changed Date: 2020-10-27 10:14:40 -0500 (Tue, 27 Oct 2020)
malbec2 Linux (Ubuntu 20.04.1 LTS) / x86_64  OK  OK  OK UNNEEDED, same version exists in internal repository
riesling1 Windows Server 2019 Standard / x64 [ OK ] OK  OK 

Summary

Package: QDNAseq.hg19
Version: 1.21.0
Command: C:\cygwin\bin\curl.exe -O http://172.29.0.4/BBS/3.13/data-experiment/src/contrib/QDNAseq.hg19_1.21.0.tar.gz && rm -rf QDNAseq.hg19.buildbin-libdir && mkdir QDNAseq.hg19.buildbin-libdir && D:\biocbuild\bbs-3.13-bioc\R\bin\R.exe CMD INSTALL --merge-multiarch --build --library=QDNAseq.hg19.buildbin-libdir QDNAseq.hg19_1.21.0.tar.gz && D:\biocbuild\bbs-3.13-bioc\R\bin\R.exe CMD INSTALL QDNAseq.hg19_1.21.0.zip && rm QDNAseq.hg19_1.21.0.tar.gz QDNAseq.hg19_1.21.0.zip
StartedAt: 2021-01-14 10:07:46 -0500 (Thu, 14 Jan 2021)
EndedAt: 2021-01-14 10:08:06 -0500 (Thu, 14 Jan 2021)
EllapsedTime: 20.6 seconds
RetCode: 0
Status:  OK  

Command output

##############################################################################
##############################################################################
###
### Running command:
###
###   C:\cygwin\bin\curl.exe -O http://172.29.0.4/BBS/3.13/data-experiment/src/contrib/QDNAseq.hg19_1.21.0.tar.gz && rm -rf QDNAseq.hg19.buildbin-libdir && mkdir QDNAseq.hg19.buildbin-libdir && D:\biocbuild\bbs-3.13-bioc\R\bin\R.exe CMD INSTALL --merge-multiarch --build --library=QDNAseq.hg19.buildbin-libdir QDNAseq.hg19_1.21.0.tar.gz && D:\biocbuild\bbs-3.13-bioc\R\bin\R.exe CMD INSTALL QDNAseq.hg19_1.21.0.zip && rm QDNAseq.hg19_1.21.0.tar.gz QDNAseq.hg19_1.21.0.zip
###
##############################################################################
##############################################################################


  % Total    % Received % Xferd  Average Speed   Time    Time     Time  Current
                                 Dload  Upload   Total   Spent    Left  Speed

  0     0    0     0    0     0      0      0 --:--:-- --:--:-- --:--:--     0
 85 35.2M   85 30.2M    0     0  52.6M      0 --:--:-- --:--:-- --:--:-- 52.6M
100 35.2M  100 35.2M    0     0  56.9M      0 --:--:-- --:--:-- --:--:-- 56.9M

install for i386

* installing *source* package 'QDNAseq.hg19' ...
** using staged installation
** R
** data
** byte-compile and prepare package for lazy loading
** help
*** installing help indices
  converting help for package 'QDNAseq.hg19'
    finding HTML links ... done
    QDNAseq.hg19-package                    html  
REDIRECT:topic	 QDNAseq.hg19-package -> QDNAseq.hg19-package.html [ SUCCESS ]
REDIRECT:topic	 QDNAseq.hg19 -> QDNAseq.hg19-package.html [ SUCCESS ]
    hg19.1000kbp.SR50                       html  
REDIRECT:topic	 hg19.1000kbp.SR50 -> hg19.1000kbp.SR50.html [ SUCCESS ]
    hg19.100kbp.SR50                        html  
REDIRECT:topic	 hg19.100kbp.SR50 -> hg19.100kbp.SR50.html [ SUCCESS ]
    hg19.10kbp.SR50                         html  
REDIRECT:topic	 hg19.10kbp.SR50 -> hg19.10kbp.SR50.html [ SUCCESS ]
    hg19.15kbp.SR50                         html  
REDIRECT:topic	 hg19.15kbp.SR50 -> hg19.15kbp.SR50.html [ SUCCESS ]
    hg19.1kbp.SR50                          html  
REDIRECT:topic	 hg19.1kbp.SR50 -> hg19.1kbp.SR50.html [ SUCCESS ]
    hg19.30kbp.SR50                         html  
REDIRECT:topic	 hg19.30kbp.SR50 -> hg19.30kbp.SR50.html [ SUCCESS ]
    hg19.500kbp.SR50                        html  
REDIRECT:topic	 hg19.500kbp.SR50 -> hg19.500kbp.SR50.html [ SUCCESS ]
    hg19.50kbp.SR50                         html  
REDIRECT:topic	 hg19.50kbp.SR50 -> hg19.50kbp.SR50.html [ SUCCESS ]
    hg19.5kbp.SR50                          html  
REDIRECT:topic	 hg19.5kbp.SR50 -> hg19.5kbp.SR50.html [ SUCCESS ]
** building package indices
** testing if installed package can be loaded from temporary location
** testing if installed package can be loaded from final location
** testing if installed package keeps a record of temporary installation path

install for x64

* installing *source* package 'QDNAseq.hg19' ...
** testing if installed package can be loaded
* MD5 sums
packaged installation of 'QDNAseq.hg19' as QDNAseq.hg19_1.21.0.zip
* DONE (QDNAseq.hg19)
* installing to library 'D:/biocbuild/bbs-3.13-bioc/R/library'
package 'QDNAseq.hg19' successfully unpacked and MD5 sums checked