Back to Multiple platform build/check report for BioC 3.13 experimental data
ABCDEFGHIJKLMNO[P]QRSTUVWXYZ

INSTALL report for PtH2O2lipids on riesling1

This page was generated on 2021-01-14 15:59:10 -0500 (Thu, 14 Jan 2021).

TO THE DEVELOPERS/MAINTAINERS OF THE PtH2O2lipids PACKAGE: Please make sure to use the following settings in order to reproduce any error or warning you see on this page.
Package 278/385HostnameOS / ArchINSTALLBUILDCHECK
PtH2O2lipids 1.17.0
James Collins
Snapshot Date: 2021-01-14 09:00:13 -0500 (Thu, 14 Jan 2021)
URL: https://git.bioconductor.org/packages/PtH2O2lipids
Branch: master
Last Commit: 4f4a24b
Last Changed Date: 2020-10-27 10:21:27 -0500 (Tue, 27 Oct 2020)
malbec2 Linux (Ubuntu 20.04.1 LTS) / x86_64  OK  OK  WARNINGS UNNEEDED, same version exists in internal repository
riesling1 Windows Server 2019 Standard / x64 [ OK ] OK  WARNINGS 

Summary

Package: PtH2O2lipids
Version: 1.17.0
Command: C:\cygwin\bin\curl.exe -O http://172.29.0.4/BBS/3.13/data-experiment/src/contrib/PtH2O2lipids_1.17.0.tar.gz && rm -rf PtH2O2lipids.buildbin-libdir && mkdir PtH2O2lipids.buildbin-libdir && D:\biocbuild\bbs-3.13-bioc\R\bin\R.exe CMD INSTALL --merge-multiarch --build --library=PtH2O2lipids.buildbin-libdir PtH2O2lipids_1.17.0.tar.gz && D:\biocbuild\bbs-3.13-bioc\R\bin\R.exe CMD INSTALL PtH2O2lipids_1.17.0.zip && rm PtH2O2lipids_1.17.0.tar.gz PtH2O2lipids_1.17.0.zip
StartedAt: 2021-01-14 10:15:37 -0500 (Thu, 14 Jan 2021)
EndedAt: 2021-01-14 10:16:18 -0500 (Thu, 14 Jan 2021)
EllapsedTime: 40.2 seconds
RetCode: 0
Status:  OK  

Command output

##############################################################################
##############################################################################
###
### Running command:
###
###   C:\cygwin\bin\curl.exe -O http://172.29.0.4/BBS/3.13/data-experiment/src/contrib/PtH2O2lipids_1.17.0.tar.gz && rm -rf PtH2O2lipids.buildbin-libdir && mkdir PtH2O2lipids.buildbin-libdir && D:\biocbuild\bbs-3.13-bioc\R\bin\R.exe CMD INSTALL --merge-multiarch --build --library=PtH2O2lipids.buildbin-libdir PtH2O2lipids_1.17.0.tar.gz && D:\biocbuild\bbs-3.13-bioc\R\bin\R.exe CMD INSTALL PtH2O2lipids_1.17.0.zip && rm PtH2O2lipids_1.17.0.tar.gz PtH2O2lipids_1.17.0.zip
###
##############################################################################
##############################################################################


  % Total    % Received % Xferd  Average Speed   Time    Time     Time  Current
                                 Dload  Upload   Total   Spent    Left  Speed

  0     0    0     0    0     0      0      0 --:--:-- --:--:-- --:--:--     0
100 15.4M  100 15.4M    0     0  59.7M      0 --:--:-- --:--:-- --:--:-- 59.7M

install for i386

* installing *source* package 'PtH2O2lipids' ...
** using staged installation
** R
** data
** inst
** byte-compile and prepare package for lazy loading
Warning message:
multiple methods tables found for 'polarity<-' 
Warning: replacing previous import 'xcms::polarity<-' by 'LOBSTAHS::polarity<-' when loading 'PtH2O2lipids'
** help
*** installing help indices
  converting help for package 'PtH2O2lipids'
    finding HTML links ... done
    PtH2O2lipids                            html  
REDIRECT:topic	 PtH2O2lipids -> PtH2O2lipids.html [ SUCCESS ]
REDIRECT:topic	 ptH2O2lipids -> PtH2O2lipids.html [ SUCCESS ]
    finding level-2 HTML links ... done

Rd warning: Previous alias or file overwritten by alias: ptH2O2lipids
Rd warning: D:/biocbuild/bbs-3.13-data-experiment/tmpdir/Rtmp88VriE/R.INSTALL737826918c0/PtH2O2lipids/man/PtH2O2lipids.Rd:83: missing link 'LOBSet-class-class'
** building package indices
** testing if installed package can be loaded from temporary location
Warning: multiple methods tables found for 'polarity<-'
Warning: replacing previous import 'xcms::polarity<-' by 'LOBSTAHS::polarity<-' when loading 'PtH2O2lipids'
** testing if installed package can be loaded from final location
Warning: multiple methods tables found for 'polarity<-'
Warning: replacing previous import 'xcms::polarity<-' by 'LOBSTAHS::polarity<-' when loading 'PtH2O2lipids'
** testing if installed package keeps a record of temporary installation path

install for x64

* installing *source* package 'PtH2O2lipids' ...
** testing if installed package can be loaded
Warning: multiple methods tables found for 'polarity<-'
Warning: replacing previous import 'xcms::polarity<-' by 'LOBSTAHS::polarity<-' when loading 'PtH2O2lipids'
* MD5 sums
packaged installation of 'PtH2O2lipids' as PtH2O2lipids_1.17.0.zip
* DONE (PtH2O2lipids)
* installing to library 'D:/biocbuild/bbs-3.13-bioc/R/library'
package 'PtH2O2lipids' successfully unpacked and MD5 sums checked