Back to Multiple platform build/check report for BioC 3.13 experimental data
ABCDEFGHIJKLMNO[P]QRSTUVWXYZ

BUILD report for PtH2O2lipids on riesling1

This page was generated on 2021-01-21 16:01:35 -0500 (Thu, 21 Jan 2021).

TO THE DEVELOPERS/MAINTAINERS OF THE PtH2O2lipids PACKAGE: Please make sure to use the following settings in order to reproduce any error or warning you see on this page.
Package 278/386HostnameOS / ArchINSTALLBUILDCHECK
PtH2O2lipids 1.17.0
James Collins
Snapshot Date: 2021-01-21 09:00:14 -0500 (Thu, 21 Jan 2021)
URL: https://git.bioconductor.org/packages/PtH2O2lipids
Branch: master
Last Commit: 4f4a24b
Last Changed Date: 2020-10-27 10:21:27 -0500 (Tue, 27 Oct 2020)
malbec2 Linux (Ubuntu 20.04.1 LTS) / x86_64  OK  OK  WARNINGS UNNEEDED, same version exists in internal repository
riesling1 Windows Server 2019 Standard / x64  OK [ OK ] WARNINGS 

Summary

Package: PtH2O2lipids
Version: 1.17.0
Command: chmod a+r PtH2O2lipids -R && D:\biocbuild\bbs-3.13-bioc\R\bin\R.exe CMD build --keep-empty-dirs --no-resave-data PtH2O2lipids
StartedAt: 2021-01-21 10:54:28 -0500 (Thu, 21 Jan 2021)
EndedAt: 2021-01-21 10:54:31 -0500 (Thu, 21 Jan 2021)
EllapsedTime: 3.4 seconds
RetCode: 0
Status:  OK  
PackageFile: PtH2O2lipids_1.17.0.tar.gz
PackageFileSize: 15.48 MiB

Command output

##############################################################################
##############################################################################
###
### Running command:
###
###   chmod a+r PtH2O2lipids -R && D:\biocbuild\bbs-3.13-bioc\R\bin\R.exe CMD build --keep-empty-dirs --no-resave-data PtH2O2lipids
###
##############################################################################
##############################################################################


* checking for file 'PtH2O2lipids/DESCRIPTION' ... OK
* preparing 'PtH2O2lipids':
* checking DESCRIPTION meta-information ... OK
* checking for LF line-endings in source and make files and shell scripts
* checking for empty or unneeded directories
* looking to see if a 'data/datalist' file should be added
* building 'PtH2O2lipids_1.17.0.tar.gz'