Back to Multiple platform build/check report for BioC 3.13 experimental data
ABCDEFGHIJKLMNO[P]QRSTUVWXYZ

INSTALL report for ProData on riesling1

This page was generated on 2021-01-18 15:58:49 -0500 (Mon, 18 Jan 2021).

TO THE DEVELOPERS/MAINTAINERS OF THE ProData PACKAGE: Please make sure to use the following settings in order to reproduce any error or warning you see on this page.
Package 271/385HostnameOS / ArchINSTALLBUILDCHECK
ProData 1.29.0
Xiaochun Li
Snapshot Date: 2021-01-18 09:00:15 -0500 (Mon, 18 Jan 2021)
URL: https://git.bioconductor.org/packages/ProData
Branch: master
Last Commit: 90f517c
Last Changed Date: 2020-10-27 09:46:54 -0500 (Tue, 27 Oct 2020)
malbec2 Linux (Ubuntu 20.04.1 LTS) / x86_64  OK  OK  OK UNNEEDED, same version exists in internal repository
riesling1 Windows Server 2019 Standard / x64 [ OK ] OK  OK 

Summary

Package: ProData
Version: 1.29.0
Command: C:\cygwin\bin\curl.exe -O http://172.29.0.4/BBS/3.13/data-experiment/src/contrib/ProData_1.29.0.tar.gz && rm -rf ProData.buildbin-libdir && mkdir ProData.buildbin-libdir && D:\biocbuild\bbs-3.13-bioc\R\bin\R.exe CMD INSTALL --merge-multiarch --build --library=ProData.buildbin-libdir ProData_1.29.0.tar.gz && D:\biocbuild\bbs-3.13-bioc\R\bin\R.exe CMD INSTALL ProData_1.29.0.zip && rm ProData_1.29.0.tar.gz ProData_1.29.0.zip
StartedAt: 2021-01-18 10:03:36 -0500 (Mon, 18 Jan 2021)
EndedAt: 2021-01-18 10:03:50 -0500 (Mon, 18 Jan 2021)
EllapsedTime: 14.7 seconds
RetCode: 0
Status:  OK  

Command output

##############################################################################
##############################################################################
###
### Running command:
###
###   C:\cygwin\bin\curl.exe -O http://172.29.0.4/BBS/3.13/data-experiment/src/contrib/ProData_1.29.0.tar.gz && rm -rf ProData.buildbin-libdir && mkdir ProData.buildbin-libdir && D:\biocbuild\bbs-3.13-bioc\R\bin\R.exe CMD INSTALL --merge-multiarch --build --library=ProData.buildbin-libdir ProData_1.29.0.tar.gz && D:\biocbuild\bbs-3.13-bioc\R\bin\R.exe CMD INSTALL ProData_1.29.0.zip && rm ProData_1.29.0.tar.gz ProData_1.29.0.zip
###
##############################################################################
##############################################################################


  % Total    % Received % Xferd  Average Speed   Time    Time     Time  Current
                                 Dload  Upload   Total   Spent    Left  Speed

  0     0    0     0    0     0      0      0 --:--:-- --:--:-- --:--:--     0
  2 19.0M    2  501k    0     0   702k      0  0:00:27 --:--:--  0:00:27  701k
100 19.0M  100 19.0M    0     0  21.0M      0 --:--:-- --:--:-- --:--:-- 21.0M

install for i386

* installing *source* package 'ProData' ...
** using staged installation
** data
** inst
** help
*** installing help indices
  converting help for package 'ProData'
    finding HTML links ... done
    ProData                                 html  
REDIRECT:topic	 ProData -> ProData.html [ SUCCESS ]
    f45cbmk                                 html  
REDIRECT:topic	 f45cbmk -> f45cbmk.html [ SUCCESS ]
** building package indices
** testing if installed package can be loaded from temporary location
** testing if installed package can be loaded from final location
** testing if installed package keeps a record of temporary installation path

install for x64

* installing *source* package 'ProData' ...
** testing if installed package can be loaded
* MD5 sums
packaged installation of 'ProData' as ProData_1.29.0.zip
* DONE (ProData)
* installing to library 'D:/biocbuild/bbs-3.13-bioc/R/library'
package 'ProData' successfully unpacked and MD5 sums checked