Back to Multiple platform build/check report for BioC 3.13 experimental data
ABCDEFGHIJKLMNO[P]QRSTUVWXYZ

INSTALL report for PepsNMRData on riesling1

This page was generated on 2021-01-14 15:59:10 -0500 (Thu, 14 Jan 2021).

TO THE DEVELOPERS/MAINTAINERS OF THE PepsNMRData PACKAGE: Please make sure to use the following settings in order to reproduce any error or warning you see on this page.
Package 264/385HostnameOS / ArchINSTALLBUILDCHECK
PepsNMRData 1.9.0
Manon Martin
Snapshot Date: 2021-01-14 09:00:13 -0500 (Thu, 14 Jan 2021)
URL: https://git.bioconductor.org/packages/PepsNMRData
Branch: master
Last Commit: 3922255
Last Changed Date: 2020-10-27 10:28:45 -0500 (Tue, 27 Oct 2020)
malbec2 Linux (Ubuntu 20.04.1 LTS) / x86_64  OK  OK  OK UNNEEDED, same version exists in internal repository
riesling1 Windows Server 2019 Standard / x64 [ OK ] OK  OK 

Summary

Package: PepsNMRData
Version: 1.9.0
Command: C:\cygwin\bin\curl.exe -O http://172.29.0.4/BBS/3.13/data-experiment/src/contrib/PepsNMRData_1.9.0.tar.gz && rm -rf PepsNMRData.buildbin-libdir && mkdir PepsNMRData.buildbin-libdir && D:\biocbuild\bbs-3.13-bioc\R\bin\R.exe CMD INSTALL --merge-multiarch --build --library=PepsNMRData.buildbin-libdir PepsNMRData_1.9.0.tar.gz && D:\biocbuild\bbs-3.13-bioc\R\bin\R.exe CMD INSTALL PepsNMRData_1.9.0.zip && rm PepsNMRData_1.9.0.tar.gz PepsNMRData_1.9.0.zip
StartedAt: 2021-01-14 09:51:43 -0500 (Thu, 14 Jan 2021)
EndedAt: 2021-01-14 09:52:23 -0500 (Thu, 14 Jan 2021)
EllapsedTime: 40.3 seconds
RetCode: 0
Status:  OK  

Command output

##############################################################################
##############################################################################
###
### Running command:
###
###   C:\cygwin\bin\curl.exe -O http://172.29.0.4/BBS/3.13/data-experiment/src/contrib/PepsNMRData_1.9.0.tar.gz && rm -rf PepsNMRData.buildbin-libdir && mkdir PepsNMRData.buildbin-libdir && D:\biocbuild\bbs-3.13-bioc\R\bin\R.exe CMD INSTALL --merge-multiarch --build --library=PepsNMRData.buildbin-libdir PepsNMRData_1.9.0.tar.gz && D:\biocbuild\bbs-3.13-bioc\R\bin\R.exe CMD INSTALL PepsNMRData_1.9.0.zip && rm PepsNMRData_1.9.0.tar.gz PepsNMRData_1.9.0.zip
###
##############################################################################
##############################################################################


  % Total    % Received % Xferd  Average Speed   Time    Time     Time  Current
                                 Dload  Upload   Total   Spent    Left  Speed

  0     0    0     0    0     0      0      0 --:--:-- --:--:-- --:--:--     0
  0 32.1M    0  109k    0     0   193k      0  0:02:49 --:--:--  0:02:49  193k
 71 32.1M   71 22.9M    0     0  15.6M      0  0:00:02  0:00:01  0:00:01 15.6M
100 32.1M  100 32.1M    0     0  19.7M      0  0:00:01  0:00:01 --:--:-- 19.7M

install for i386

* installing *source* package 'PepsNMRData' ...
** using staged installation
** data
*** moving datasets to lazyload DB
** inst
** help
*** installing help indices
  converting help for package 'PepsNMRData'
    finding HTML links ... done
    Data_HS_sp                              html  
REDIRECT:topic	 Data_HS_sp -> Data_HS_sp.html [ SUCCESS ]
    Data_HU_sp                              html  
REDIRECT:topic	 Data_HU_sp -> Data_HU_sp.html [ SUCCESS ]
    FidData_HS                              html  
REDIRECT:topic	 FidData_HS -> FidData_HS.html [ SUCCESS ]
    FidData_HU                              html  
REDIRECT:topic	 FidData_HU -> FidData_HU.html [ SUCCESS ]
    FidInfo_HS                              html  
REDIRECT:topic	 FidInfo_HS -> FidInfo_HS.html [ SUCCESS ]
    FidInfo_HS_sp                           html  
REDIRECT:topic	 FidInfo_HS_sp -> FidInfo_HS_sp.html [ SUCCESS ]
    FidInfo_HU                              html  
REDIRECT:topic	 FidInfo_HU -> FidInfo_HU.html [ SUCCESS ]
    FidInfo_HU_sp                           html  
REDIRECT:topic	 FidInfo_HU_sp -> FidInfo_HU_sp.html [ SUCCESS ]
    FinalSpecta_HS                          html  
REDIRECT:topic	 FinalSpectra_HS -> FinalSpecta_HS.html [ SUCCESS ]
REDIRECT:file	 FinalSpecta_HS.html -> FinalSpecta_HS.html [ SUCCESS ]
    FinalSpecta_HU                          html  
REDIRECT:topic	 FinalSpectra_HU -> FinalSpecta_HU.html [ SUCCESS ]
REDIRECT:file	 FinalSpecta_HU.html -> FinalSpecta_HU.html [ SUCCESS ]
    Group_HS                                html  
REDIRECT:topic	 Group_HS -> Group_HS.html [ SUCCESS ]
    Group_HU                                html  
REDIRECT:topic	 Group_HU -> Group_HU.html [ SUCCESS ]
    PEPSNMRData-package                     html  
REDIRECT:topic	 PepsNMRData-package -> PEPSNMRData-package.html [ SUCCESS ]
REDIRECT:topic	 PepsNMRData -> PEPSNMRData-package.html [ SUCCESS ]
    RawFidData_HS                           html  
REDIRECT:topic	 RawFidData_HS -> RawFidData_HS.html [ SUCCESS ]
** building package indices
** testing if installed package can be loaded from temporary location
** testing if installed package can be loaded from final location
** testing if installed package keeps a record of temporary installation path

install for x64

* installing *source* package 'PepsNMRData' ...
** testing if installed package can be loaded
* MD5 sums
packaged installation of 'PepsNMRData' as PepsNMRData_1.9.0.zip
* DONE (PepsNMRData)
* installing to library 'D:/biocbuild/bbs-3.13-bioc/R/library'
package 'PepsNMRData' successfully unpacked and MD5 sums checked