Back to Multiple platform build/check report for BioC 3.13 experimental data
ABCDEFGHIJKLMNO[P]QRSTUVWXYZ

INSTALL report for PathNetData on riesling1

This page was generated on 2021-01-21 16:01:33 -0500 (Thu, 21 Jan 2021).

TO THE DEVELOPERS/MAINTAINERS OF THE PathNetData PACKAGE: Please make sure to use the following settings in order to reproduce any error or warning you see on this page.
Package 259/386HostnameOS / ArchINSTALLBUILDCHECK
PathNetData 1.27.1
Ludwig Geistlinger
Snapshot Date: 2021-01-21 09:00:14 -0500 (Thu, 21 Jan 2021)
URL: https://git.bioconductor.org/packages/PathNetData
Branch: master
Last Commit: c330b00
Last Changed Date: 2020-12-09 17:13:56 -0500 (Wed, 09 Dec 2020)
malbec2 Linux (Ubuntu 20.04.1 LTS) / x86_64  OK  OK  OK UNNEEDED, same version exists in internal repository
riesling1 Windows Server 2019 Standard / x64 [ OK ] OK  OK 

Summary

Package: PathNetData
Version: 1.27.1
Command: C:\cygwin\bin\curl.exe -O http://172.29.0.4/BBS/3.13/data-experiment/src/contrib/PathNetData_1.27.1.tar.gz && rm -rf PathNetData.buildbin-libdir && mkdir PathNetData.buildbin-libdir && D:\biocbuild\bbs-3.13-bioc\R\bin\R.exe CMD INSTALL --merge-multiarch --build --library=PathNetData.buildbin-libdir PathNetData_1.27.1.tar.gz && D:\biocbuild\bbs-3.13-bioc\R\bin\R.exe CMD INSTALL PathNetData_1.27.1.zip && rm PathNetData_1.27.1.tar.gz PathNetData_1.27.1.zip
StartedAt: 2021-01-21 10:09:05 -0500 (Thu, 21 Jan 2021)
EndedAt: 2021-01-21 10:09:30 -0500 (Thu, 21 Jan 2021)
EllapsedTime: 24.6 seconds
RetCode: 0
Status:  OK  

Command output

##############################################################################
##############################################################################
###
### Running command:
###
###   C:\cygwin\bin\curl.exe -O http://172.29.0.4/BBS/3.13/data-experiment/src/contrib/PathNetData_1.27.1.tar.gz && rm -rf PathNetData.buildbin-libdir && mkdir PathNetData.buildbin-libdir && D:\biocbuild\bbs-3.13-bioc\R\bin\R.exe CMD INSTALL --merge-multiarch --build --library=PathNetData.buildbin-libdir PathNetData_1.27.1.tar.gz && D:\biocbuild\bbs-3.13-bioc\R\bin\R.exe CMD INSTALL PathNetData_1.27.1.zip && rm PathNetData_1.27.1.tar.gz PathNetData_1.27.1.zip
###
##############################################################################
##############################################################################


  % Total    % Received % Xferd  Average Speed   Time    Time     Time  Current
                                 Dload  Upload   Total   Spent    Left  Speed

  0     0    0     0    0     0      0      0 --:--:-- --:--:-- --:--:--     0
100 2517k  100 2517k    0     0  11.7M      0 --:--:-- --:--:-- --:--:-- 11.7M

install for i386

* installing *source* package 'PathNetData' ...
** using staged installation
** data
** inst
** help
*** installing help indices
  converting help for package 'PathNetData'
    finding HTML links ... done
    A                                       html  
REDIRECT:topic	 A -> A.html [ SUCCESS ]
    PathNetData-package                     html  
REDIRECT:topic	 PathNetData-package -> PathNetData-package.html [ SUCCESS ]
REDIRECT:topic	 PathNetData -> PathNetData-package.html [ SUCCESS ]
    brain_regions                           html  
REDIRECT:topic	 brain_regions -> brain_regions.html [ SUCCESS ]
    disease_progression                     html  
REDIRECT:topic	 disease_progression -> disease_progression.html [ SUCCESS ]
    pathway                                 html  
REDIRECT:topic	 pathway -> pathway.html [ SUCCESS ]
** building package indices
** testing if installed package can be loaded from temporary location
** testing if installed package can be loaded from final location
** testing if installed package keeps a record of temporary installation path

install for x64

* installing *source* package 'PathNetData' ...
** testing if installed package can be loaded
* MD5 sums
packaged installation of 'PathNetData' as PathNetData_1.27.1.zip
* DONE (PathNetData)
* installing to library 'D:/biocbuild/bbs-3.13-bioc/R/library'
package 'PathNetData' successfully unpacked and MD5 sums checked