Back to Multiple platform build/check report for BioC 3.13 experimental data
ABCDEFGHIJKLMNO[P]QRSTUVWXYZ

BUILD report for PathNetData on riesling1

This page was generated on 2021-01-21 16:01:33 -0500 (Thu, 21 Jan 2021).

TO THE DEVELOPERS/MAINTAINERS OF THE PathNetData PACKAGE: Please make sure to use the following settings in order to reproduce any error or warning you see on this page.
Package 259/386HostnameOS / ArchINSTALLBUILDCHECK
PathNetData 1.27.1
Ludwig Geistlinger
Snapshot Date: 2021-01-21 09:00:14 -0500 (Thu, 21 Jan 2021)
URL: https://git.bioconductor.org/packages/PathNetData
Branch: master
Last Commit: c330b00
Last Changed Date: 2020-12-09 17:13:56 -0500 (Wed, 09 Dec 2020)
malbec2 Linux (Ubuntu 20.04.1 LTS) / x86_64  OK  OK  OK UNNEEDED, same version exists in internal repository
riesling1 Windows Server 2019 Standard / x64  OK [ OK ] OK 

Summary

Package: PathNetData
Version: 1.27.1
Command: chmod a+r PathNetData -R && D:\biocbuild\bbs-3.13-bioc\R\bin\R.exe CMD build --keep-empty-dirs --no-resave-data PathNetData
StartedAt: 2021-01-21 10:53:10 -0500 (Thu, 21 Jan 2021)
EndedAt: 2021-01-21 10:53:13 -0500 (Thu, 21 Jan 2021)
EllapsedTime: 2.3 seconds
RetCode: 0
Status:  OK  
PackageFile: PathNetData_1.27.1.tar.gz
PackageFileSize: 2.427 MiB

Command output

##############################################################################
##############################################################################
###
### Running command:
###
###   chmod a+r PathNetData -R && D:\biocbuild\bbs-3.13-bioc\R\bin\R.exe CMD build --keep-empty-dirs --no-resave-data PathNetData
###
##############################################################################
##############################################################################


* checking for file 'PathNetData/DESCRIPTION' ... OK
* preparing 'PathNetData':
* checking DESCRIPTION meta-information ... OK
* checking for LF line-endings in source and make files and shell scripts
* checking for empty or unneeded directories
* looking to see if a 'data/datalist' file should be added
* building 'PathNetData_1.27.1.tar.gz'