Back to Multiple platform build/check report for BioC 3.13 experimental data
ABCDEFGHIJKLMNO[P]QRSTUVWXYZ

BUILD report for PasillaTranscriptExpr on riesling1

This page was generated on 2021-01-18 15:58:49 -0500 (Mon, 18 Jan 2021).

TO THE DEVELOPERS/MAINTAINERS OF THE PasillaTranscriptExpr PACKAGE: Please make sure to use the following settings in order to reproduce any error or warning you see on this page.
Package 258/385HostnameOS / ArchINSTALLBUILDCHECK
PasillaTranscriptExpr 1.19.0
Malgorzata Nowicka
Snapshot Date: 2021-01-18 09:00:15 -0500 (Mon, 18 Jan 2021)
URL: https://git.bioconductor.org/packages/PasillaTranscriptExpr
Branch: master
Last Commit: 83b7f7f
Last Changed Date: 2020-10-27 10:18:56 -0500 (Tue, 27 Oct 2020)
malbec2 Linux (Ubuntu 20.04.1 LTS) / x86_64  OK  OK  OK UNNEEDED, same version exists in internal repository
riesling1 Windows Server 2019 Standard / x64  OK [ OK ] OK 

Summary

Package: PasillaTranscriptExpr
Version: 1.19.0
Command: chmod a+r PasillaTranscriptExpr -R && D:\biocbuild\bbs-3.13-bioc\R\bin\R.exe CMD build --keep-empty-dirs --no-resave-data PasillaTranscriptExpr
StartedAt: 2021-01-18 10:52:47 -0500 (Mon, 18 Jan 2021)
EndedAt: 2021-01-18 10:53:04 -0500 (Mon, 18 Jan 2021)
EllapsedTime: 16.8 seconds
RetCode: 0
Status:  OK  
PackageFile: PasillaTranscriptExpr_1.19.0.tar.gz
PackageFileSize: 776.9 KiB

Command output

##############################################################################
##############################################################################
###
### Running command:
###
###   chmod a+r PasillaTranscriptExpr -R && D:\biocbuild\bbs-3.13-bioc\R\bin\R.exe CMD build --keep-empty-dirs --no-resave-data PasillaTranscriptExpr
###
##############################################################################
##############################################################################


* checking for file 'PasillaTranscriptExpr/DESCRIPTION' ... OK
* preparing 'PasillaTranscriptExpr':
* checking DESCRIPTION meta-information ... OK
* installing the package to build vignettes
* creating vignettes ... OK
* checking for LF line-endings in source and make files and shell scripts
* checking for empty or unneeded directories
* building 'PasillaTranscriptExpr_1.19.0.tar.gz'