Name | Last modified | Size | Description | |
---|---|---|---|---|
Parent Directory | - | |||
install-summary.dcf | 17-Oct-2021 04:58 | 286 | ||
buildsrc-summary.dcf | 17-Oct-2021 04:58 | 459 | ||
checksrc-summary.dcf | 17-Oct-2021 04:58 | 478 | ||
buildsrc-out.txt | 17-Oct-2021 04:58 | 902 | ||
install-out.txt | 17-Oct-2021 04:58 | 1.0K | ||
checksrc-out.txt | 17-Oct-2021 04:58 | 2.7K | ||