Back to Multiple platform build/check report for BioC 3.13 experimental data
ABCDEFGHIJKLMNO[P]QRSTUVWXYZ

INSTALL report for PWMEnrich.Mmusculus.background on riesling1

This page was generated on 2021-01-21 16:01:35 -0500 (Thu, 21 Jan 2021).

TO THE DEVELOPERS/MAINTAINERS OF THE PWMEnrich.Mmusculus.background PACKAGE: Please make sure to use the following settings in order to reproduce any error or warning you see on this page.
Package 282/386HostnameOS / ArchINSTALLBUILDCHECK
PWMEnrich.Mmusculus.background 4.25.0
Diego Diez
Snapshot Date: 2021-01-21 09:00:14 -0500 (Thu, 21 Jan 2021)
URL: https://git.bioconductor.org/packages/PWMEnrich.Mmusculus.background
Branch: master
Last Commit: 87e7fcf
Last Changed Date: 2020-10-27 10:05:50 -0500 (Tue, 27 Oct 2020)
malbec2 Linux (Ubuntu 20.04.1 LTS) / x86_64  OK  OK  OK UNNEEDED, same version exists in internal repository
riesling1 Windows Server 2019 Standard / x64 [ OK ] OK  OK 

Summary

Package: PWMEnrich.Mmusculus.background
Version: 4.25.0
Command: C:\cygwin\bin\curl.exe -O http://172.29.0.4/BBS/3.13/data-experiment/src/contrib/PWMEnrich.Mmusculus.background_4.25.0.tar.gz && rm -rf PWMEnrich.Mmusculus.background.buildbin-libdir && mkdir PWMEnrich.Mmusculus.background.buildbin-libdir && D:\biocbuild\bbs-3.13-bioc\R\bin\R.exe CMD INSTALL --merge-multiarch --build --library=PWMEnrich.Mmusculus.background.buildbin-libdir PWMEnrich.Mmusculus.background_4.25.0.tar.gz && D:\biocbuild\bbs-3.13-bioc\R\bin\R.exe CMD INSTALL PWMEnrich.Mmusculus.background_4.25.0.zip && rm PWMEnrich.Mmusculus.background_4.25.0.tar.gz PWMEnrich.Mmusculus.background_4.25.0.zip
StartedAt: 2021-01-21 10:08:27 -0500 (Thu, 21 Jan 2021)
EndedAt: 2021-01-21 10:08:44 -0500 (Thu, 21 Jan 2021)
EllapsedTime: 17.5 seconds
RetCode: 0
Status:  OK  

Command output

##############################################################################
##############################################################################
###
### Running command:
###
###   C:\cygwin\bin\curl.exe -O http://172.29.0.4/BBS/3.13/data-experiment/src/contrib/PWMEnrich.Mmusculus.background_4.25.0.tar.gz && rm -rf PWMEnrich.Mmusculus.background.buildbin-libdir && mkdir PWMEnrich.Mmusculus.background.buildbin-libdir && D:\biocbuild\bbs-3.13-bioc\R\bin\R.exe CMD INSTALL --merge-multiarch --build --library=PWMEnrich.Mmusculus.background.buildbin-libdir PWMEnrich.Mmusculus.background_4.25.0.tar.gz && D:\biocbuild\bbs-3.13-bioc\R\bin\R.exe CMD INSTALL PWMEnrich.Mmusculus.background_4.25.0.zip && rm PWMEnrich.Mmusculus.background_4.25.0.tar.gz PWMEnrich.Mmusculus.background_4.25.0.zip
###
##############################################################################
##############################################################################


  % Total    % Received % Xferd  Average Speed   Time    Time     Time  Current
                                 Dload  Upload   Total   Spent    Left  Speed

  0     0    0     0    0     0      0      0 --:--:-- --:--:-- --:--:--     0
100 10.3M  100 10.3M    0     0  39.3M      0 --:--:-- --:--:-- --:--:-- 39.3M

install for i386

* installing *source* package 'PWMEnrich.Mmusculus.background' ...
** using staged installation
** data
** inst
** help
*** installing help indices
  converting help for package 'PWMEnrich.Mmusculus.background'
    finding HTML links ... done
    PWMEnrich.Mmusculus.background-package
                                            html  
REDIRECT:topic	 PWMEnrich.Mmusculus.background-package -> PWMEnrich.Mmusculus.background-package.html [ SUCCESS ]
REDIRECT:topic	 PWMEnrich.Mmusculus.background -> PWMEnrich.Mmusculus.background-package.html [ SUCCESS ]
REDIRECT:topic	 MotifDb.Mmus.PFM -> PWMEnrich.Mmusculus.background-package.html [ SUCCESS ]
REDIRECT:topic	 MotifDb.Mmus -> PWMEnrich.Mmusculus.background-package.html [ SUCCESS ]
REDIRECT:topic	 PWMLogn.mm9.MotifDb.Mmus -> PWMEnrich.Mmusculus.background-package.html [ SUCCESS ]
REDIRECT:topic	 PWMCutoff4.mm9.MotifDb.Mmus -> PWMEnrich.Mmusculus.background-package.html [ SUCCESS ]
REDIRECT:topic	 PWMCutoff5.mm9.MotifDb.Mmus -> PWMEnrich.Mmusculus.background-package.html [ SUCCESS ]
REDIRECT:topic	 PWMGEV.mm9.MotifDb.Mmus -> PWMEnrich.Mmusculus.background-package.html [ SUCCESS ]
REDIRECT:topic	 PWMPvalueCutoff1e2.mm9.MotifDb.Mmus -> PWMEnrich.Mmusculus.background-package.html [ SUCCESS ]
REDIRECT:topic	 PWMPvalueCutoff1e3.mm9.MotifDb.Mmus -> PWMEnrich.Mmusculus.background-package.html [ SUCCESS ]
REDIRECT:topic	 PWMPvalueCutoff1e4.mm9.MotifDb.Mmus -> PWMEnrich.Mmusculus.background-package.html [ SUCCESS ]
REDIRECT:topic	 mm9.upstream2000 -> PWMEnrich.Mmusculus.background-package.html [ SUCCESS ]
    finding level-2 HTML links ... done

** building package indices
** testing if installed package can be loaded from temporary location
Warning: replacing previous import 'Biostrings::pattern' by 'grid::pattern' when loading 'PWMEnrich'
** testing if installed package can be loaded from final location
Warning: replacing previous import 'Biostrings::pattern' by 'grid::pattern' when loading 'PWMEnrich'
** testing if installed package keeps a record of temporary installation path

install for x64

* installing *source* package 'PWMEnrich.Mmusculus.background' ...
** testing if installed package can be loaded
Warning: replacing previous import 'Biostrings::pattern' by 'grid::pattern' when loading 'PWMEnrich'
* MD5 sums
packaged installation of 'PWMEnrich.Mmusculus.background' as PWMEnrich.Mmusculus.background_4.25.0.zip
* DONE (PWMEnrich.Mmusculus.background)
* installing to library 'D:/biocbuild/bbs-3.13-bioc/R/library'
package 'PWMEnrich.Mmusculus.background' successfully unpacked and MD5 sums checked