Back to Multiple platform build/check report for BioC 3.13 experimental data
ABCDEFGHIJKLMNO[P]QRSTUVWXYZ

INSTALL report for PWMEnrich.Hsapiens.background on riesling1

This page was generated on 2021-01-14 15:59:11 -0500 (Thu, 14 Jan 2021).

TO THE DEVELOPERS/MAINTAINERS OF THE PWMEnrich.Hsapiens.background PACKAGE: Please make sure to use the following settings in order to reproduce any error or warning you see on this page.
Package 281/385HostnameOS / ArchINSTALLBUILDCHECK
PWMEnrich.Hsapiens.background 4.25.0
Diego Diez
Snapshot Date: 2021-01-14 09:00:13 -0500 (Thu, 14 Jan 2021)
URL: https://git.bioconductor.org/packages/PWMEnrich.Hsapiens.background
Branch: master
Last Commit: a4f474f
Last Changed Date: 2020-10-27 10:05:45 -0500 (Tue, 27 Oct 2020)
malbec2 Linux (Ubuntu 20.04.1 LTS) / x86_64  OK  OK  WARNINGS UNNEEDED, same version exists in internal repository
riesling1 Windows Server 2019 Standard / x64 [ OK ] OK  WARNINGS 

Summary

Package: PWMEnrich.Hsapiens.background
Version: 4.25.0
Command: C:\cygwin\bin\curl.exe -O http://172.29.0.4/BBS/3.13/data-experiment/src/contrib/PWMEnrich.Hsapiens.background_4.25.0.tar.gz && rm -rf PWMEnrich.Hsapiens.background.buildbin-libdir && mkdir PWMEnrich.Hsapiens.background.buildbin-libdir && D:\biocbuild\bbs-3.13-bioc\R\bin\R.exe CMD INSTALL --merge-multiarch --build --library=PWMEnrich.Hsapiens.background.buildbin-libdir PWMEnrich.Hsapiens.background_4.25.0.tar.gz && D:\biocbuild\bbs-3.13-bioc\R\bin\R.exe CMD INSTALL PWMEnrich.Hsapiens.background_4.25.0.zip && rm PWMEnrich.Hsapiens.background_4.25.0.tar.gz PWMEnrich.Hsapiens.background_4.25.0.zip
StartedAt: 2021-01-14 10:06:10 -0500 (Thu, 14 Jan 2021)
EndedAt: 2021-01-14 10:06:25 -0500 (Thu, 14 Jan 2021)
EllapsedTime: 14.5 seconds
RetCode: 0
Status:  OK  

Command output

##############################################################################
##############################################################################
###
### Running command:
###
###   C:\cygwin\bin\curl.exe -O http://172.29.0.4/BBS/3.13/data-experiment/src/contrib/PWMEnrich.Hsapiens.background_4.25.0.tar.gz && rm -rf PWMEnrich.Hsapiens.background.buildbin-libdir && mkdir PWMEnrich.Hsapiens.background.buildbin-libdir && D:\biocbuild\bbs-3.13-bioc\R\bin\R.exe CMD INSTALL --merge-multiarch --build --library=PWMEnrich.Hsapiens.background.buildbin-libdir PWMEnrich.Hsapiens.background_4.25.0.tar.gz && D:\biocbuild\bbs-3.13-bioc\R\bin\R.exe CMD INSTALL PWMEnrich.Hsapiens.background_4.25.0.zip && rm PWMEnrich.Hsapiens.background_4.25.0.tar.gz PWMEnrich.Hsapiens.background_4.25.0.zip
###
##############################################################################
##############################################################################


  % Total    % Received % Xferd  Average Speed   Time    Time     Time  Current
                                 Dload  Upload   Total   Spent    Left  Speed

  0     0    0     0    0     0      0      0 --:--:-- --:--:-- --:--:--     0
100 15.6M  100 15.6M    0     0  27.6M      0 --:--:-- --:--:-- --:--:-- 27.6M

install for i386

* installing *source* package 'PWMEnrich.Hsapiens.background' ...
** using staged installation
** data
** inst
** help
*** installing help indices
  converting help for package 'PWMEnrich.Hsapiens.background'
    finding HTML links ... done
    PWMEnrich.Hsapiens.background-package   html  
REDIRECT:topic	 PWMEnrich.Hsapiens.background-package -> PWMEnrich.Hsapiens.background-package.html [ SUCCESS ]
REDIRECT:topic	 PWMEnrich.Hsapiens.background -> PWMEnrich.Hsapiens.background-package.html [ SUCCESS ]
REDIRECT:topic	 MotifDb.Hsap.PFM -> PWMEnrich.Hsapiens.background-package.html [ SUCCESS ]
REDIRECT:topic	 MotifDb.Hsap -> PWMEnrich.Hsapiens.background-package.html [ SUCCESS ]
REDIRECT:topic	 PWMLogn.hg19.MotifDb.Hsap -> PWMEnrich.Hsapiens.background-package.html [ SUCCESS ]
REDIRECT:topic	 PWMCutoff4.hg19.MotifDb.Hsap -> PWMEnrich.Hsapiens.background-package.html [ SUCCESS ]
REDIRECT:topic	 PWMCutoff5.hg19.MotifDb.Hsap -> PWMEnrich.Hsapiens.background-package.html [ SUCCESS ]
REDIRECT:topic	 PWMGEV.hg19.MotifDb.Hsap -> PWMEnrich.Hsapiens.background-package.html [ SUCCESS ]
REDIRECT:topic	 PWMPvalueCutoff1e2.hg19.MotifDb.Hsap -> PWMEnrich.Hsapiens.background-package.html [ SUCCESS ]
REDIRECT:topic	 PWMPvalueCutoff1e3.hg19.MotifDb.Hsap -> PWMEnrich.Hsapiens.background-package.html [ SUCCESS ]
REDIRECT:topic	 PWMPvalueCutoff1e4.hg19.MotifDb.Hsap -> PWMEnrich.Hsapiens.background-package.html [ SUCCESS ]
REDIRECT:topic	 hg19.upstream2000 -> PWMEnrich.Hsapiens.background-package.html [ SUCCESS ]
    finding level-2 HTML links ... done

** building package indices
** testing if installed package can be loaded from temporary location
Warning: replacing previous import 'Biostrings::pattern' by 'grid::pattern' when loading 'PWMEnrich'
** testing if installed package can be loaded from final location
Warning: replacing previous import 'Biostrings::pattern' by 'grid::pattern' when loading 'PWMEnrich'
** testing if installed package keeps a record of temporary installation path

install for x64

* installing *source* package 'PWMEnrich.Hsapiens.background' ...
** testing if installed package can be loaded
Warning: replacing previous import 'Biostrings::pattern' by 'grid::pattern' when loading 'PWMEnrich'
* MD5 sums
packaged installation of 'PWMEnrich.Hsapiens.background' as PWMEnrich.Hsapiens.background_4.25.0.zip
* DONE (PWMEnrich.Hsapiens.background)
* installing to library 'D:/biocbuild/bbs-3.13-bioc/R/library'
package 'PWMEnrich.Hsapiens.background' successfully unpacked and MD5 sums checked