Back to Multiple platform build/check report for BioC 3.13 experimental data |
|
This page was generated on 2021-01-14 15:59:11 -0500 (Thu, 14 Jan 2021).
TO THE DEVELOPERS/MAINTAINERS OF THE PWMEnrich.Hsapiens.background PACKAGE: Please make sure to use the following settings in order to reproduce any error or warning you see on this page. |
Package 281/385 | Hostname | OS / Arch | INSTALL | BUILD | CHECK | ||||||
PWMEnrich.Hsapiens.background 4.25.0 Diego Diez
| malbec2 | Linux (Ubuntu 20.04.1 LTS) / x86_64 | OK | OK | WARNINGS | ![]() | |||||
riesling1 | Windows Server 2019 Standard / x64 | OK | [ OK ] | WARNINGS |
Package: PWMEnrich.Hsapiens.background |
Version: 4.25.0 |
Command: chmod a+r PWMEnrich.Hsapiens.background -R && D:\biocbuild\bbs-3.13-bioc\R\bin\R.exe CMD build --keep-empty-dirs --no-resave-data PWMEnrich.Hsapiens.background |
StartedAt: 2021-01-14 10:50:29 -0500 (Thu, 14 Jan 2021) |
EndedAt: 2021-01-14 10:50:31 -0500 (Thu, 14 Jan 2021) |
EllapsedTime: 2.3 seconds |
RetCode: 0 |
Status: OK |
PackageFile: PWMEnrich.Hsapiens.background_4.25.0.tar.gz |
PackageFileSize: 15.6 MiB |
############################################################################## ############################################################################## ### ### Running command: ### ### chmod a+r PWMEnrich.Hsapiens.background -R && D:\biocbuild\bbs-3.13-bioc\R\bin\R.exe CMD build --keep-empty-dirs --no-resave-data PWMEnrich.Hsapiens.background ### ############################################################################## ############################################################################## * checking for file 'PWMEnrich.Hsapiens.background/DESCRIPTION' ... OK * preparing 'PWMEnrich.Hsapiens.background': * checking DESCRIPTION meta-information ... OK * checking for LF line-endings in source and make files and shell scripts * checking for empty or unneeded directories * looking to see if a 'data/datalist' file should be added * building 'PWMEnrich.Hsapiens.background_4.25.0.tar.gz'