Back to Multiple platform build/check report for BioC 3.13 experimental data
ABCDEFGHIJKLMNO[P]QRSTUVWXYZ

INSTALL report for PREDAsampledata on riesling1

This page was generated on 2021-01-14 15:59:10 -0500 (Thu, 14 Jan 2021).

TO THE DEVELOPERS/MAINTAINERS OF THE PREDAsampledata PACKAGE: Please make sure to use the following settings in order to reproduce any error or warning you see on this page.
Package 270/385HostnameOS / ArchINSTALLBUILDCHECK
PREDAsampledata 0.31.0
Francesco Ferrari
Snapshot Date: 2021-01-14 09:00:13 -0500 (Thu, 14 Jan 2021)
URL: https://git.bioconductor.org/packages/PREDAsampledata
Branch: master
Last Commit: 17ef1f0
Last Changed Date: 2020-10-27 09:53:39 -0500 (Tue, 27 Oct 2020)
malbec2 Linux (Ubuntu 20.04.1 LTS) / x86_64  OK  OK  OK UNNEEDED, same version exists in internal repository
riesling1 Windows Server 2019 Standard / x64 [ OK ] OK  OK 

Summary

Package: PREDAsampledata
Version: 0.31.0
Command: C:\cygwin\bin\curl.exe -O http://172.29.0.4/BBS/3.13/data-experiment/src/contrib/PREDAsampledata_0.31.0.tar.gz && rm -rf PREDAsampledata.buildbin-libdir && mkdir PREDAsampledata.buildbin-libdir && D:\biocbuild\bbs-3.13-bioc\R\bin\R.exe CMD INSTALL --merge-multiarch --build --library=PREDAsampledata.buildbin-libdir PREDAsampledata_0.31.0.tar.gz && D:\biocbuild\bbs-3.13-bioc\R\bin\R.exe CMD INSTALL PREDAsampledata_0.31.0.zip && rm PREDAsampledata_0.31.0.tar.gz PREDAsampledata_0.31.0.zip
StartedAt: 2021-01-14 10:08:10 -0500 (Thu, 14 Jan 2021)
EndedAt: 2021-01-14 10:08:58 -0500 (Thu, 14 Jan 2021)
EllapsedTime: 47.4 seconds
RetCode: 0
Status:  OK  

Command output

##############################################################################
##############################################################################
###
### Running command:
###
###   C:\cygwin\bin\curl.exe -O http://172.29.0.4/BBS/3.13/data-experiment/src/contrib/PREDAsampledata_0.31.0.tar.gz && rm -rf PREDAsampledata.buildbin-libdir && mkdir PREDAsampledata.buildbin-libdir && D:\biocbuild\bbs-3.13-bioc\R\bin\R.exe CMD INSTALL --merge-multiarch --build --library=PREDAsampledata.buildbin-libdir PREDAsampledata_0.31.0.tar.gz && D:\biocbuild\bbs-3.13-bioc\R\bin\R.exe CMD INSTALL PREDAsampledata_0.31.0.zip && rm PREDAsampledata_0.31.0.tar.gz PREDAsampledata_0.31.0.zip
###
##############################################################################
##############################################################################


  % Total    % Received % Xferd  Average Speed   Time    Time     Time  Current
                                 Dload  Upload   Total   Spent    Left  Speed

  0     0    0     0    0     0      0      0 --:--:-- --:--:-- --:--:--     0
100 66.9M  100 66.9M    0     0  73.9M      0 --:--:-- --:--:-- --:--:-- 73.9M

install for i386

* installing *source* package 'PREDAsampledata' ...
** using staged installation
** R
** data
** inst
** byte-compile and prepare package for lazy loading
** help
*** installing help indices
  converting help for package 'PREDAsampledata'
    finding HTML links ... done
    AffybatchRCC                            html  
REDIRECT:topic	 AffybatchRCC -> AffybatchRCC.html [ SUCCESS ]
    ExpressionSetRCC                        html  
REDIRECT:topic	 ExpressionSetRCC -> ExpressionSetRCC.html [ SUCCESS ]
    GEanalysisResults                       html  
REDIRECT:topic	 GEanalysisResults -> GEanalysisResults.html [ SUCCESS ]
    SODEGIRCNDataForPREDA                   html  
REDIRECT:topic	 SODEGIRCNDataForPREDA -> SODEGIRCNDataForPREDA.html [ SUCCESS ]
    SODEGIRCNanalysisResults                html  
REDIRECT:topic	 SODEGIRCNanalysisResults -> SODEGIRCNanalysisResults.html [ SUCCESS ]
    SODEGIRGEDataForPREDA                   html  
REDIRECT:topic	 SODEGIRGEDataForPREDA -> SODEGIRGEDataForPREDA.html [ SUCCESS ]
    SODEGIRGEanalysisResults                html  
REDIRECT:topic	 SODEGIRGEanalysisResults -> SODEGIRGEanalysisResults.html [ SUCCESS ]
** building package indices
** testing if installed package can be loaded from temporary location
** testing if installed package can be loaded from final location
** testing if installed package keeps a record of temporary installation path

install for x64

* installing *source* package 'PREDAsampledata' ...
** testing if installed package can be loaded
* MD5 sums
packaged installation of 'PREDAsampledata' as PREDAsampledata_0.31.0.zip
* DONE (PREDAsampledata)
* installing to library 'D:/biocbuild/bbs-3.13-bioc/R/library'
package 'PREDAsampledata' successfully unpacked and MD5 sums checked