Back to Multiple platform build/check report for BioC 3.13 experimental data
ABCDEFGHIJKLMNO[P]QRSTUVWXYZ

CHECK report for PREDAsampledata on riesling1

This page was generated on 2021-01-14 15:59:10 -0500 (Thu, 14 Jan 2021).

TO THE DEVELOPERS/MAINTAINERS OF THE PREDAsampledata PACKAGE: Please make sure to use the following settings in order to reproduce any error or warning you see on this page.
Package 270/385HostnameOS / ArchINSTALLBUILDCHECK
PREDAsampledata 0.31.0
Francesco Ferrari
Snapshot Date: 2021-01-14 09:00:13 -0500 (Thu, 14 Jan 2021)
URL: https://git.bioconductor.org/packages/PREDAsampledata
Branch: master
Last Commit: 17ef1f0
Last Changed Date: 2020-10-27 09:53:39 -0500 (Tue, 27 Oct 2020)
malbec2 Linux (Ubuntu 20.04.1 LTS) / x86_64  OK  OK  OK UNNEEDED, same version exists in internal repository
riesling1 Windows Server 2019 Standard / x64  OK  OK [ OK ]

Summary

Package: PREDAsampledata
Version: 0.31.0
Command: D:\biocbuild\bbs-3.13-bioc\R\bin\R.exe CMD check --force-multiarch --install=check:PREDAsampledata.install-out.txt --library=D:\biocbuild\bbs-3.13-bioc\R\library --no-vignettes --timings PREDAsampledata_0.31.0.tar.gz
StartedAt: 2021-01-14 11:34:04 -0500 (Thu, 14 Jan 2021)
EndedAt: 2021-01-14 11:36:02 -0500 (Thu, 14 Jan 2021)
EllapsedTime: 117.7 seconds
RetCode: 0
Status:  OK  
CheckDir: PREDAsampledata.Rcheck
Warnings: 0

Command output

##############################################################################
##############################################################################
###
### Running command:
###
###   D:\biocbuild\bbs-3.13-bioc\R\bin\R.exe CMD check --force-multiarch --install=check:PREDAsampledata.install-out.txt --library=D:\biocbuild\bbs-3.13-bioc\R\library --no-vignettes --timings PREDAsampledata_0.31.0.tar.gz
###
##############################################################################
##############################################################################


* using log directory 'D:/biocbuild/bbs-3.13-data-experiment/meat/PREDAsampledata.Rcheck'
* using R Under development (unstable) (2020-12-30 r79736)
* using platform: x86_64-w64-mingw32 (64-bit)
* using session charset: ISO8859-1
* using option '--no-vignettes'
* checking for file 'PREDAsampledata/DESCRIPTION' ... OK
* this is package 'PREDAsampledata' version '0.31.0'
* checking package namespace information ... OK
* checking package dependencies ... OK
* checking if this is a source package ... OK
* checking if there is a namespace ... OK
* checking for hidden files and directories ... OK
* checking for portable file names ... OK
* checking whether package 'PREDAsampledata' can be installed ... OK
* checking installed package size ... NOTE
  installed size is 80.4Mb
  sub-directories of 1Mb or more:
    data        59.6Mb
    sampledata  20.7Mb
* checking package directory ... OK
* checking DESCRIPTION meta-information ... NOTE
Malformed Description field: should contain one or more complete sentences.
* checking top-level files ... OK
* checking for left-over files ... OK
* checking index information ... OK
* checking package subdirectories ... OK
* checking R files for non-ASCII characters ... OK
* checking R files for syntax errors ... OK
* loading checks for arch 'i386'
** checking whether the package can be loaded ... OK
** checking whether the package can be loaded with stated dependencies ... OK
** checking whether the package can be unloaded cleanly ... OK
** checking whether the namespace can be loaded with stated dependencies ... OK
** checking whether the namespace can be unloaded cleanly ... OK
* loading checks for arch 'x64'
** checking whether the package can be loaded ... OK
** checking whether the package can be loaded with stated dependencies ... OK
** checking whether the package can be unloaded cleanly ... OK
** checking whether the namespace can be loaded with stated dependencies ... OK
** checking whether the namespace can be unloaded cleanly ... OK
* checking dependencies in R code ... NOTE
Packages in Depends field not imported from:
  'Biobase' 'PREDA' 'affy' 'annotate' 'methods'
  These packages need to be imported from (in the NAMESPACE file)
  for when this namespace is loaded but not attached.
* checking S3 generic/method consistency ... OK
* checking replacement functions ... OK
* checking foreign function calls ... OK
* checking R code for possible problems ... OK
* checking Rd files ... OK
* checking Rd metadata ... OK
* checking Rd cross-references ... OK
* checking for missing documentation entries ... OK
* checking for code/documentation mismatches ... OK
* checking Rd \usage sections ... OK
* checking Rd contents ... OK
* checking for unstated dependencies in examples ... OK
* checking contents of 'data' directory ... OK
* checking data for non-ASCII characters ... OK
* checking data for ASCII and uncompressed saves ... OK
* checking examples ...
** running examples for arch 'i386' ... OK
** running examples for arch 'x64' ... OK
* checking PDF version of manual ... OK
* DONE

Status: 3 NOTEs
See
  'D:/biocbuild/bbs-3.13-data-experiment/meat/PREDAsampledata.Rcheck/00check.log'
for details.



Installation output

PREDAsampledata.Rcheck/00install.out

##############################################################################
##############################################################################
###
### Running command:
###
###   C:\cygwin\bin\curl.exe -O http://172.29.0.4/BBS/3.13/data-experiment/src/contrib/PREDAsampledata_0.31.0.tar.gz && rm -rf PREDAsampledata.buildbin-libdir && mkdir PREDAsampledata.buildbin-libdir && D:\biocbuild\bbs-3.13-bioc\R\bin\R.exe CMD INSTALL --merge-multiarch --build --library=PREDAsampledata.buildbin-libdir PREDAsampledata_0.31.0.tar.gz && D:\biocbuild\bbs-3.13-bioc\R\bin\R.exe CMD INSTALL PREDAsampledata_0.31.0.zip && rm PREDAsampledata_0.31.0.tar.gz PREDAsampledata_0.31.0.zip
###
##############################################################################
##############################################################################


  % Total    % Received % Xferd  Average Speed   Time    Time     Time  Current
                                 Dload  Upload   Total   Spent    Left  Speed

  0     0    0     0    0     0      0      0 --:--:-- --:--:-- --:--:--     0
100 66.9M  100 66.9M    0     0  73.9M      0 --:--:-- --:--:-- --:--:-- 73.9M

install for i386

* installing *source* package 'PREDAsampledata' ...
** using staged installation
** R
** data
** inst
** byte-compile and prepare package for lazy loading
** help
*** installing help indices
  converting help for package 'PREDAsampledata'
    finding HTML links ... done
    AffybatchRCC                            html  
REDIRECT:topic	 AffybatchRCC -> AffybatchRCC.html [ SUCCESS ]
    ExpressionSetRCC                        html  
REDIRECT:topic	 ExpressionSetRCC -> ExpressionSetRCC.html [ SUCCESS ]
    GEanalysisResults                       html  
REDIRECT:topic	 GEanalysisResults -> GEanalysisResults.html [ SUCCESS ]
    SODEGIRCNDataForPREDA                   html  
REDIRECT:topic	 SODEGIRCNDataForPREDA -> SODEGIRCNDataForPREDA.html [ SUCCESS ]
    SODEGIRCNanalysisResults                html  
REDIRECT:topic	 SODEGIRCNanalysisResults -> SODEGIRCNanalysisResults.html [ SUCCESS ]
    SODEGIRGEDataForPREDA                   html  
REDIRECT:topic	 SODEGIRGEDataForPREDA -> SODEGIRGEDataForPREDA.html [ SUCCESS ]
    SODEGIRGEanalysisResults                html  
REDIRECT:topic	 SODEGIRGEanalysisResults -> SODEGIRGEanalysisResults.html [ SUCCESS ]
** building package indices
** testing if installed package can be loaded from temporary location
** testing if installed package can be loaded from final location
** testing if installed package keeps a record of temporary installation path

install for x64

* installing *source* package 'PREDAsampledata' ...
** testing if installed package can be loaded
* MD5 sums
packaged installation of 'PREDAsampledata' as PREDAsampledata_0.31.0.zip
* DONE (PREDAsampledata)
* installing to library 'D:/biocbuild/bbs-3.13-bioc/R/library'
package 'PREDAsampledata' successfully unpacked and MD5 sums checked

Tests output


Example timings

PREDAsampledata.Rcheck/examples_i386/PREDAsampledata-Ex.timings

nameusersystemelapsed
AffybatchRCC4.810.174.98
ExpressionSetRCC0.770.020.78
GEanalysisResults0.150.030.19
SODEGIRCNDataForPREDA0.630.030.65
SODEGIRCNanalysisResults0.280.030.31
SODEGIRGEDataForPREDA0.270.020.28
SODEGIRGEanalysisResults0.470.010.48

PREDAsampledata.Rcheck/examples_x64/PREDAsampledata-Ex.timings

nameusersystemelapsed
AffybatchRCC4.010.124.14
ExpressionSetRCC0.630.020.65
GEanalysisResults0.140.030.17
SODEGIRCNDataForPREDA0.640.000.64
SODEGIRCNanalysisResults0.230.000.24
SODEGIRGEDataForPREDA0.220.020.24
SODEGIRGEanalysisResults0.550.020.56