Back to Multiple platform build/check report for BioC 3.13 experimental data
ABCDEFGHIJKLMNO[P]QRSTUVWXYZ

BUILD report for PREDAsampledata on riesling1

This page was generated on 2021-03-01 15:56:10 -0500 (Mon, 01 Mar 2021).

To the developers/maintainers of the PREDAsampledata package:
Please make sure to use the following settings in order to reproduce any error or warning you see on this page.
Package 274/391HostnameOS / ArchINSTALLBUILDCHECK
PREDAsampledata 0.31.0
Francesco Ferrari
Snapshot Date: 2021-03-01 09:00:05 -0500 (Mon, 01 Mar 2021)
URL: https://git.bioconductor.org/packages/PREDAsampledata
Branch: master
Last Commit: 17ef1f0
Last Changed Date: 2020-10-27 09:53:39 -0500 (Tue, 27 Oct 2020)
rex3Linux (Ubuntu 20.04.2 LTS) / x86_64  OK    OK    OK  UNNEEDED, same version exists in internal repository
riesling1Windows Server 2019 Standard / x64  OK    OK    OK  

Summary

Package: PREDAsampledata
Version: 0.31.0
Command: chmod a+r PREDAsampledata -R && D:\biocbuild\bbs-3.13-bioc\R\bin\R.exe CMD build --keep-empty-dirs --no-resave-data PREDAsampledata
StartedAt: 2021-03-01 11:04:59 -0500 (Mon, 01 Mar 2021)
EndedAt: 2021-03-01 11:05:16 -0500 (Mon, 01 Mar 2021)
EllapsedTime: 17.5 seconds
RetCode: 0
Status:   OK   
PackageFile: PREDAsampledata_0.31.0.tar.gz
PackageFileSize: 66.79 MiB

Command output

##############################################################################
##############################################################################
###
### Running command:
###
###   chmod a+r PREDAsampledata -R && D:\biocbuild\bbs-3.13-bioc\R\bin\R.exe CMD build --keep-empty-dirs --no-resave-data PREDAsampledata
###
##############################################################################
##############################################################################


* checking for file 'PREDAsampledata/DESCRIPTION' ... OK
* preparing 'PREDAsampledata':
* checking DESCRIPTION meta-information ... OK
* checking for LF line-endings in source and make files and shell scripts
* checking for empty or unneeded directories
* looking to see if a 'data/datalist' file should be added
* building 'PREDAsampledata_0.31.0.tar.gz'