Back to Multiple platform build/check report for BioC 3.13 experimental data
ABCDEFGHIJKLMNO[P]QRSTUVWXYZ

INSTALL report for PCHiCdata on riesling1

This page was generated on 2021-01-21 16:01:34 -0500 (Thu, 21 Jan 2021).

TO THE DEVELOPERS/MAINTAINERS OF THE PCHiCdata PACKAGE: Please make sure to use the following settings in order to reproduce any error or warning you see on this page.
Package 260/386HostnameOS / ArchINSTALLBUILDCHECK
PCHiCdata 1.19.0
Paula Freire-Pritchett
Snapshot Date: 2021-01-21 09:00:14 -0500 (Thu, 21 Jan 2021)
URL: https://git.bioconductor.org/packages/PCHiCdata
Branch: master
Last Commit: ee05a18
Last Changed Date: 2020-10-27 10:14:58 -0500 (Tue, 27 Oct 2020)
malbec2 Linux (Ubuntu 20.04.1 LTS) / x86_64  OK  OK  OK UNNEEDED, same version exists in internal repository
riesling1 Windows Server 2019 Standard / x64 [ OK ] OK  OK 

Summary

Package: PCHiCdata
Version: 1.19.0
Command: C:\cygwin\bin\curl.exe -O http://172.29.0.4/BBS/3.13/data-experiment/src/contrib/PCHiCdata_1.19.0.tar.gz && rm -rf PCHiCdata.buildbin-libdir && mkdir PCHiCdata.buildbin-libdir && D:\biocbuild\bbs-3.13-bioc\R\bin\R.exe CMD INSTALL --merge-multiarch --build --library=PCHiCdata.buildbin-libdir PCHiCdata_1.19.0.tar.gz && D:\biocbuild\bbs-3.13-bioc\R\bin\R.exe CMD INSTALL PCHiCdata_1.19.0.zip && rm PCHiCdata_1.19.0.tar.gz PCHiCdata_1.19.0.zip
StartedAt: 2021-01-21 10:19:23 -0500 (Thu, 21 Jan 2021)
EndedAt: 2021-01-21 10:21:53 -0500 (Thu, 21 Jan 2021)
EllapsedTime: 149.5 seconds
RetCode: 0
Status:  OK  

Command output

##############################################################################
##############################################################################
###
### Running command:
###
###   C:\cygwin\bin\curl.exe -O http://172.29.0.4/BBS/3.13/data-experiment/src/contrib/PCHiCdata_1.19.0.tar.gz && rm -rf PCHiCdata.buildbin-libdir && mkdir PCHiCdata.buildbin-libdir && D:\biocbuild\bbs-3.13-bioc\R\bin\R.exe CMD INSTALL --merge-multiarch --build --library=PCHiCdata.buildbin-libdir PCHiCdata_1.19.0.tar.gz && D:\biocbuild\bbs-3.13-bioc\R\bin\R.exe CMD INSTALL PCHiCdata_1.19.0.zip && rm PCHiCdata_1.19.0.tar.gz PCHiCdata_1.19.0.zip
###
##############################################################################
##############################################################################


  % Total    % Received % Xferd  Average Speed   Time    Time     Time  Current
                                 Dload  Upload   Total   Spent    Left  Speed

  0     0    0     0    0     0      0      0 --:--:-- --:--:-- --:--:--     0
  6  183M    6 12.6M    0     0  41.0M      0  0:00:04 --:--:--  0:00:04 40.9M
 37  183M   37 69.2M    0     0  52.9M      0  0:00:03  0:00:01  0:00:02 52.8M
 59  183M   59  109M    0     0  47.3M      0  0:00:03  0:00:02  0:00:01 47.3M
 61  183M   61  112M    0     0  33.4M      0  0:00:05  0:00:03  0:00:02 33.3M
 63  183M   63  116M    0     0  26.5M      0  0:00:06  0:00:04  0:00:02 26.4M
 66  183M   66  121M    0     0  22.5M      0  0:00:08  0:00:05  0:00:03 21.4M
 78  183M   78  143M    0     0  22.8M      0  0:00:08  0:00:06  0:00:02 14.9M
100  183M  100  183M    0     0  26.2M      0  0:00:06  0:00:06 --:--:-- 15.7M

install for i386

* installing *source* package 'PCHiCdata' ...
** using staged installation
** data
*** moving datasets to lazyload DB
** inst
** help
*** installing help indices
  converting help for package 'PCHiCdata'
    finding HTML links ... done
    PCHiCdata-package                       html  
REDIRECT:topic	 PCHiCdata-package -> PCHiCdata-package.html [ SUCCESS ]
REDIRECT:topic	 PCHiCdata -> PCHiCdata-package.html [ SUCCESS ]
    sGM12878                                html  
REDIRECT:topic	 sGM12878 -> sGM12878.html [ SUCCESS ]
    finding level-2 HTML links ... done

    smESC                                   html  
REDIRECT:topic	 smESC -> smESC.html [ SUCCESS ]
** building package indices
** installing vignettes
** testing if installed package can be loaded from temporary location
** testing if installed package can be loaded from final location
** testing if installed package keeps a record of temporary installation path

install for x64

* installing *source* package 'PCHiCdata' ...
** testing if installed package can be loaded
* MD5 sums
packaged installation of 'PCHiCdata' as PCHiCdata_1.19.0.zip
* DONE (PCHiCdata)
* installing to library 'D:/biocbuild/bbs-3.13-bioc/R/library'
package 'PCHiCdata' successfully unpacked and MD5 sums checked