Back to Multiple platform build/check report for BioC 3.13 experimental data
ABCDEFGHIJKLMNO[P]QRSTUVWXYZ

BUILD report for PCHiCdata on riesling1

This page was generated on 2021-01-14 15:59:10 -0500 (Thu, 14 Jan 2021).

TO THE DEVELOPERS/MAINTAINERS OF THE PCHiCdata PACKAGE: Please make sure to use the following settings in order to reproduce any error or warning you see on this page.
Package 260/385HostnameOS / ArchINSTALLBUILDCHECK
PCHiCdata 1.19.0
Paula Freire-Pritchett
Snapshot Date: 2021-01-14 09:00:13 -0500 (Thu, 14 Jan 2021)
URL: https://git.bioconductor.org/packages/PCHiCdata
Branch: master
Last Commit: ee05a18
Last Changed Date: 2020-10-27 10:14:58 -0500 (Tue, 27 Oct 2020)
malbec2 Linux (Ubuntu 20.04.1 LTS) / x86_64  OK  OK  OK UNNEEDED, same version exists in internal repository
riesling1 Windows Server 2019 Standard / x64  OK [ OK ] OK 

Summary

Package: PCHiCdata
Version: 1.19.0
Command: chmod a+r PCHiCdata -R && D:\biocbuild\bbs-3.13-bioc\R\bin\R.exe CMD build --keep-empty-dirs --no-resave-data PCHiCdata
StartedAt: 2021-01-14 10:49:05 -0500 (Thu, 14 Jan 2021)
EndedAt: 2021-01-14 10:51:03 -0500 (Thu, 14 Jan 2021)
EllapsedTime: 118.6 seconds
RetCode: 0
Status:  OK  
PackageFile: PCHiCdata_1.19.0.tar.gz
PackageFileSize: 183.3 MiB

Command output

##############################################################################
##############################################################################
###
### Running command:
###
###   chmod a+r PCHiCdata -R && D:\biocbuild\bbs-3.13-bioc\R\bin\R.exe CMD build --keep-empty-dirs --no-resave-data PCHiCdata
###
##############################################################################
##############################################################################


* checking for file 'PCHiCdata/DESCRIPTION' ... OK
* preparing 'PCHiCdata':
* checking DESCRIPTION meta-information ... OK
* installing the package to build vignettes
* creating vignettes ... OK
* checking for LF line-endings in source and make files and shell scripts
* checking for empty or unneeded directories
* building 'PCHiCdata_1.19.0.tar.gz'