Back to Multiple platform build/check report for BioC 3.13 experimental data
ABCDEFGHIJKLMN[O]PQRSTUVWXYZ

INSTALL report for OMICsPCAdata on riesling1

This page was generated on 2021-01-14 15:59:10 -0500 (Thu, 14 Jan 2021).

TO THE DEVELOPERS/MAINTAINERS OF THE OMICsPCAdata PACKAGE: Please make sure to use the following settings in order to reproduce any error or warning you see on this page.
Package 252/385HostnameOS / ArchINSTALLBUILDCHECK
OMICsPCAdata 1.9.0
Subhadeep Das
Snapshot Date: 2021-01-14 09:00:13 -0500 (Thu, 14 Jan 2021)
URL: https://git.bioconductor.org/packages/OMICsPCAdata
Branch: master
Last Commit: e1aa246
Last Changed Date: 2020-10-27 10:27:55 -0500 (Tue, 27 Oct 2020)
malbec2 Linux (Ubuntu 20.04.1 LTS) / x86_64  OK  OK  OK UNNEEDED, same version exists in internal repository
riesling1 Windows Server 2019 Standard / x64 [ OK ] OK  OK 

Summary

Package: OMICsPCAdata
Version: 1.9.0
Command: C:\cygwin\bin\curl.exe -O http://172.29.0.4/BBS/3.13/data-experiment/src/contrib/OMICsPCAdata_1.9.0.tar.gz && rm -rf OMICsPCAdata.buildbin-libdir && mkdir OMICsPCAdata.buildbin-libdir && D:\biocbuild\bbs-3.13-bioc\R\bin\R.exe CMD INSTALL --merge-multiarch --build --library=OMICsPCAdata.buildbin-libdir OMICsPCAdata_1.9.0.tar.gz && D:\biocbuild\bbs-3.13-bioc\R\bin\R.exe CMD INSTALL OMICsPCAdata_1.9.0.zip && rm OMICsPCAdata_1.9.0.tar.gz OMICsPCAdata_1.9.0.zip
StartedAt: 2021-01-14 10:08:54 -0500 (Thu, 14 Jan 2021)
EndedAt: 2021-01-14 10:09:45 -0500 (Thu, 14 Jan 2021)
EllapsedTime: 50.7 seconds
RetCode: 0
Status:  OK  

Command output

##############################################################################
##############################################################################
###
### Running command:
###
###   C:\cygwin\bin\curl.exe -O http://172.29.0.4/BBS/3.13/data-experiment/src/contrib/OMICsPCAdata_1.9.0.tar.gz && rm -rf OMICsPCAdata.buildbin-libdir && mkdir OMICsPCAdata.buildbin-libdir && D:\biocbuild\bbs-3.13-bioc\R\bin\R.exe CMD INSTALL --merge-multiarch --build --library=OMICsPCAdata.buildbin-libdir OMICsPCAdata_1.9.0.tar.gz && D:\biocbuild\bbs-3.13-bioc\R\bin\R.exe CMD INSTALL OMICsPCAdata_1.9.0.zip && rm OMICsPCAdata_1.9.0.tar.gz OMICsPCAdata_1.9.0.zip
###
##############################################################################
##############################################################################


  % Total    % Received % Xferd  Average Speed   Time    Time     Time  Current
                                 Dload  Upload   Total   Spent    Left  Speed

  0     0    0     0    0     0      0      0 --:--:-- --:--:-- --:--:--     0
  0     0    0     0    0     0      0      0 --:--:-- --:--:-- --:--:--     0
 89 42.1M   89 37.9M    0     0  36.1M      0  0:00:01  0:00:01 --:--:-- 36.0M
100 42.1M  100 42.1M    0     0  38.7M      0  0:00:01  0:00:01 --:--:-- 38.7M

install for i386

* installing *source* package 'OMICsPCAdata' ...
** using staged installation
** data
*** moving datasets to lazyload DB
** inst
** help
*** installing help indices
  converting help for package 'OMICsPCAdata'
    finding HTML links ... done
    clustered_data                          html  
REDIRECT:topic	 clustered_data -> clustered_data.html [ SUCCESS ]
    groupinfo_ext                           html  
REDIRECT:topic	 groupinfo_ext -> groupinfo_ext.html [ SUCCESS ]
    multi_assay                             html  
REDIRECT:topic	 multi_assay -> multi_assay.html [ SUCCESS ]
    transcript_details                      html  
REDIRECT:topic	 transcript_details -> transcript_details.html [ SUCCESS ]
** building package indices
** installing vignettes
** testing if installed package can be loaded from temporary location
** testing if installed package can be loaded from final location
** testing if installed package keeps a record of temporary installation path

install for x64

* installing *source* package 'OMICsPCAdata' ...
** testing if installed package can be loaded
* MD5 sums
packaged installation of 'OMICsPCAdata' as OMICsPCAdata_1.9.0.zip
* DONE (OMICsPCAdata)
* installing to library 'D:/biocbuild/bbs-3.13-bioc/R/library'
package 'OMICsPCAdata' successfully unpacked and MD5 sums checked