Back to Multiple platform build/check report for BioC 3.13 experimental data
ABCDEFGHIJKLMN[O]PQRSTUVWXYZ

CHECK report for OMICsPCAdata on riesling1

This page was generated on 2021-01-21 16:01:33 -0500 (Thu, 21 Jan 2021).

TO THE DEVELOPERS/MAINTAINERS OF THE OMICsPCAdata PACKAGE: Please make sure to use the following settings in order to reproduce any error or warning you see on this page.
Package 252/386HostnameOS / ArchINSTALLBUILDCHECK
OMICsPCAdata 1.9.0
Subhadeep Das
Snapshot Date: 2021-01-21 09:00:14 -0500 (Thu, 21 Jan 2021)
URL: https://git.bioconductor.org/packages/OMICsPCAdata
Branch: master
Last Commit: e1aa246
Last Changed Date: 2020-10-27 10:27:55 -0500 (Tue, 27 Oct 2020)
malbec2 Linux (Ubuntu 20.04.1 LTS) / x86_64  OK  OK  OK UNNEEDED, same version exists in internal repository
riesling1 Windows Server 2019 Standard / x64  OK  OK [ OK ]

Summary

Package: OMICsPCAdata
Version: 1.9.0
Command: D:\biocbuild\bbs-3.13-bioc\R\bin\R.exe CMD check --force-multiarch --install=check:OMICsPCAdata.install-out.txt --library=D:\biocbuild\bbs-3.13-bioc\R\library --no-vignettes --timings OMICsPCAdata_1.9.0.tar.gz
StartedAt: 2021-01-21 11:38:00 -0500 (Thu, 21 Jan 2021)
EndedAt: 2021-01-21 11:39:30 -0500 (Thu, 21 Jan 2021)
EllapsedTime: 90.2 seconds
RetCode: 0
Status:  OK  
CheckDir: OMICsPCAdata.Rcheck
Warnings: 0

Command output

##############################################################################
##############################################################################
###
### Running command:
###
###   D:\biocbuild\bbs-3.13-bioc\R\bin\R.exe CMD check --force-multiarch --install=check:OMICsPCAdata.install-out.txt --library=D:\biocbuild\bbs-3.13-bioc\R\library --no-vignettes --timings OMICsPCAdata_1.9.0.tar.gz
###
##############################################################################
##############################################################################


* using log directory 'D:/biocbuild/bbs-3.13-data-experiment/meat/OMICsPCAdata.Rcheck'
* using R Under development (unstable) (2020-12-30 r79736)
* using platform: x86_64-w64-mingw32 (64-bit)
* using session charset: ISO8859-1
* using option '--no-vignettes'
* checking for file 'OMICsPCAdata/DESCRIPTION' ... OK
* checking extension type ... Package
* this is package 'OMICsPCAdata' version '1.9.0'
* package encoding: UTF-8
* checking package namespace information ... OK
* checking package dependencies ... OK
* checking if this is a source package ... OK
* checking if there is a namespace ... OK
* checking for hidden files and directories ... OK
* checking for portable file names ... OK
* checking whether package 'OMICsPCAdata' can be installed ... OK
* checking installed package size ... NOTE
  installed size is 50.8Mb
  sub-directories of 1Mb or more:
    data  50.5Mb
* checking package directory ... OK
* checking 'build' directory ... OK
* checking DESCRIPTION meta-information ... NOTE
Malformed Description field: should contain one or more complete sentences.
* checking top-level files ... OK
* checking for left-over files ... OK
* checking index information ... OK
* checking package subdirectories ... OK
* loading checks for arch 'i386'
** checking whether the package can be loaded ... OK
** checking whether the package can be loaded with stated dependencies ... OK
** checking whether the package can be unloaded cleanly ... OK
** checking whether the namespace can be loaded with stated dependencies ... OK
** checking whether the namespace can be unloaded cleanly ... OK
* loading checks for arch 'x64'
** checking whether the package can be loaded ... OK
** checking whether the package can be loaded with stated dependencies ... OK
** checking whether the package can be unloaded cleanly ... OK
** checking whether the namespace can be loaded with stated dependencies ... OK
** checking whether the namespace can be unloaded cleanly ... OK
* checking Rd files ... OK
* checking Rd metadata ... OK
* checking Rd cross-references ... OK
* checking for missing documentation entries ... OK
* checking for code/documentation mismatches ... OK
* checking Rd \usage sections ... OK
* checking Rd contents ... OK
* checking for unstated dependencies in examples ... OK
* checking contents of 'data' directory ... OK
* checking data for non-ASCII characters ... OK
* checking data for ASCII and uncompressed saves ... OK
* checking files in 'vignettes' ... OK
* checking examples ...
** running examples for arch 'i386' ... OK
** running examples for arch 'x64' ... OK
* checking for unstated dependencies in vignettes ... OK
* checking package vignettes in 'inst/doc' ... OK
* checking running R code from vignettes ... SKIPPED
* checking re-building of vignette outputs ... SKIPPED
* checking PDF version of manual ... OK
* DONE

Status: 2 NOTEs
See
  'D:/biocbuild/bbs-3.13-data-experiment/meat/OMICsPCAdata.Rcheck/00check.log'
for details.



Installation output

OMICsPCAdata.Rcheck/00install.out

##############################################################################
##############################################################################
###
### Running command:
###
###   C:\cygwin\bin\curl.exe -O http://172.29.0.4/BBS/3.13/data-experiment/src/contrib/OMICsPCAdata_1.9.0.tar.gz && rm -rf OMICsPCAdata.buildbin-libdir && mkdir OMICsPCAdata.buildbin-libdir && D:\biocbuild\bbs-3.13-bioc\R\bin\R.exe CMD INSTALL --merge-multiarch --build --library=OMICsPCAdata.buildbin-libdir OMICsPCAdata_1.9.0.tar.gz && D:\biocbuild\bbs-3.13-bioc\R\bin\R.exe CMD INSTALL OMICsPCAdata_1.9.0.zip && rm OMICsPCAdata_1.9.0.tar.gz OMICsPCAdata_1.9.0.zip
###
##############################################################################
##############################################################################


  % Total    % Received % Xferd  Average Speed   Time    Time     Time  Current
                                 Dload  Upload   Total   Spent    Left  Speed

  0     0    0     0    0     0      0      0 --:--:-- --:--:-- --:--:--     0
 57 42.1M   57 24.4M    0     0  56.2M      0 --:--:-- --:--:-- --:--:-- 56.2M
100 42.1M  100 42.1M    0     0  65.9M      0 --:--:-- --:--:-- --:--:-- 65.8M

install for i386

* installing *source* package 'OMICsPCAdata' ...
** using staged installation
** data
*** moving datasets to lazyload DB
** inst
** help
*** installing help indices
  converting help for package 'OMICsPCAdata'
    finding HTML links ... done
    clustered_data                          html  
REDIRECT:topic	 clustered_data -> clustered_data.html [ SUCCESS ]
    groupinfo_ext                           html  
REDIRECT:topic	 groupinfo_ext -> groupinfo_ext.html [ SUCCESS ]
    multi_assay                             html  
REDIRECT:topic	 multi_assay -> multi_assay.html [ SUCCESS ]
    transcript_details                      html  
REDIRECT:topic	 transcript_details -> transcript_details.html [ SUCCESS ]
** building package indices
** installing vignettes
** testing if installed package can be loaded from temporary location
** testing if installed package can be loaded from final location
** testing if installed package keeps a record of temporary installation path

install for x64

* installing *source* package 'OMICsPCAdata' ...
** testing if installed package can be loaded
* MD5 sums
packaged installation of 'OMICsPCAdata' as OMICsPCAdata_1.9.0.zip
* DONE (OMICsPCAdata)
* installing to library 'D:/biocbuild/bbs-3.13-bioc/R/library'
package 'OMICsPCAdata' successfully unpacked and MD5 sums checked

Tests output


Example timings

OMICsPCAdata.Rcheck/examples_i386/OMICsPCAdata-Ex.timings

nameusersystemelapsed
clustered_data000
groupinfo_ext0.020.000.02
multi_assay0.020.000.02
transcript_details000

OMICsPCAdata.Rcheck/examples_x64/OMICsPCAdata-Ex.timings

nameusersystemelapsed
clustered_data000
groupinfo_ext0.000.010.02
multi_assay0.000.020.01
transcript_details000