Back to Multiple platform build/check report for BioC 3.13 experimental data
ABCDEFGHIJKLM[N]OPQRSTUVWXYZ

BUILD report for NanoporeRNASeq on riesling1

This page was generated on 2021-01-21 16:01:32 -0500 (Thu, 21 Jan 2021).

TO THE DEVELOPERS/MAINTAINERS OF THE NanoporeRNASeq PACKAGE: Please make sure to use the following settings in order to reproduce any error or warning you see on this page.
Package 245/386HostnameOS / ArchINSTALLBUILDCHECK
NanoporeRNASeq 1.1.0
Ying Chen Developer
Snapshot Date: 2021-01-21 09:00:14 -0500 (Thu, 21 Jan 2021)
URL: https://git.bioconductor.org/packages/NanoporeRNASeq
Branch: master
Last Commit: 2f70e73
Last Changed Date: 2020-10-27 10:32:40 -0500 (Tue, 27 Oct 2020)
malbec2 Linux (Ubuntu 20.04.1 LTS) / x86_64  OK  OK  OK UNNEEDED, same version exists in internal repository
riesling1 Windows Server 2019 Standard / x64  OK [ OK ] OK 

Summary

Package: NanoporeRNASeq
Version: 1.1.0
Command: chmod a+r NanoporeRNASeq -R && D:\biocbuild\bbs-3.13-bioc\R\bin\R.exe CMD build --keep-empty-dirs --no-resave-data NanoporeRNASeq
StartedAt: 2021-01-21 10:52:01 -0500 (Thu, 21 Jan 2021)
EndedAt: 2021-01-21 10:53:51 -0500 (Thu, 21 Jan 2021)
EllapsedTime: 110.2 seconds
RetCode: 0
Status:  OK  
PackageFile: NanoporeRNASeq_1.1.0.tar.gz
PackageFileSize: 134.6 KiB

Command output

##############################################################################
##############################################################################
###
### Running command:
###
###   chmod a+r NanoporeRNASeq -R && D:\biocbuild\bbs-3.13-bioc\R\bin\R.exe CMD build --keep-empty-dirs --no-resave-data NanoporeRNASeq
###
##############################################################################
##############################################################################


* checking for file 'NanoporeRNASeq/DESCRIPTION' ... OK
* preparing 'NanoporeRNASeq':
* checking DESCRIPTION meta-information ... OK
* installing the package to build vignettes
* creating vignettes ... OK
* checking for LF line-endings in source and make files and shell scripts
* checking for empty or unneeded directories
* building 'NanoporeRNASeq_1.1.0.tar.gz'