Back to Multiple platform build/check report for BioC 3.13 experimental data
ABCDEFGHIJKLM[N]OPQRSTUVWXYZ

INSTALL report for NGScopyData on riesling1

This page was generated on 2021-01-14 15:59:10 -0500 (Thu, 14 Jan 2021).

TO THE DEVELOPERS/MAINTAINERS OF THE NGScopyData PACKAGE: Please make sure to use the following settings in order to reproduce any error or warning you see on this page.
Package 250/385HostnameOS / ArchINSTALLBUILDCHECK
NGScopyData 1.11.0
Xiaobei Zhao
Snapshot Date: 2021-01-14 09:00:13 -0500 (Thu, 14 Jan 2021)
URL: https://git.bioconductor.org/packages/NGScopyData
Branch: master
Last Commit: 0e1ad8d
Last Changed Date: 2020-10-27 10:10:21 -0500 (Tue, 27 Oct 2020)
malbec2 Linux (Ubuntu 20.04.1 LTS) / x86_64  OK  OK  OK UNNEEDED, same version exists in internal repository
riesling1 Windows Server 2019 Standard / x64 [ OK ] OK  OK 

Summary

Package: NGScopyData
Version: 1.11.0
Command: C:\cygwin\bin\curl.exe -O http://172.29.0.4/BBS/3.13/data-experiment/src/contrib/NGScopyData_1.11.0.tar.gz && rm -rf NGScopyData.buildbin-libdir && mkdir NGScopyData.buildbin-libdir && D:\biocbuild\bbs-3.13-bioc\R\bin\R.exe CMD INSTALL --merge-multiarch --build --library=NGScopyData.buildbin-libdir NGScopyData_1.11.0.tar.gz && D:\biocbuild\bbs-3.13-bioc\R\bin\R.exe CMD INSTALL NGScopyData_1.11.0.zip && rm NGScopyData_1.11.0.tar.gz NGScopyData_1.11.0.zip
StartedAt: 2021-01-14 09:50:31 -0500 (Thu, 14 Jan 2021)
EndedAt: 2021-01-14 09:50:44 -0500 (Thu, 14 Jan 2021)
EllapsedTime: 12.3 seconds
RetCode: 0
Status:  OK  

Command output

##############################################################################
##############################################################################
###
### Running command:
###
###   C:\cygwin\bin\curl.exe -O http://172.29.0.4/BBS/3.13/data-experiment/src/contrib/NGScopyData_1.11.0.tar.gz && rm -rf NGScopyData.buildbin-libdir && mkdir NGScopyData.buildbin-libdir && D:\biocbuild\bbs-3.13-bioc\R\bin\R.exe CMD INSTALL --merge-multiarch --build --library=NGScopyData.buildbin-libdir NGScopyData_1.11.0.tar.gz && D:\biocbuild\bbs-3.13-bioc\R\bin\R.exe CMD INSTALL NGScopyData_1.11.0.zip && rm NGScopyData_1.11.0.tar.gz NGScopyData_1.11.0.zip
###
##############################################################################
##############################################################################


  % Total    % Received % Xferd  Average Speed   Time    Time     Time  Current
                                 Dload  Upload   Total   Spent    Left  Speed

  0     0    0     0    0     0      0      0 --:--:-- --:--:-- --:--:--     0
  0 36.9M    0  9973    0     0  10643      0  1:00:44 --:--:--  1:00:44 10632
 15 36.9M   15 5938k    0     0  3612k      0  0:00:10  0:00:01  0:00:09 3609k
 58 36.9M   58 21.6M    0     0  7501k      0  0:00:05  0:00:02  0:00:03 7498k
 58 36.9M   58 21.7M    0     0  5653k      0  0:00:06  0:00:03  0:00:03 5652k
100 36.9M  100 36.9M    0     0  8894k      0  0:00:04  0:00:04 --:--:-- 8896k

install for i386

* installing *source* package 'NGScopyData' ...
** using staged installation
** R
** inst
** byte-compile and prepare package for lazy loading
** help
*** installing help indices
  converting help for package 'NGScopyData'
    finding HTML links ... done
    NGScopyData-package                     html  
REDIRECT:topic	 NGScopyData -> NGScopyData-package.html [ SUCCESS ]
REDIRECT:topic	 NGScopyData-package -> NGScopyData-package.html [ SUCCESS ]
    tps_27.chr6                             html  
REDIRECT:topic	 tps_27.chr6 -> tps_27.chr6.html [ SUCCESS ]
    tps_90.chr6                             html  
REDIRECT:topic	 tps_90.chr6 -> tps_90.chr6.html [ SUCCESS ]
    tps_N8.chr6                             html  
REDIRECT:topic	 tps_N8.chr6 -> tps_N8.chr6.html [ SUCCESS ]
** building package indices
** testing if installed package can be loaded from temporary location
** testing if installed package can be loaded from final location
** testing if installed package keeps a record of temporary installation path

install for x64

* installing *source* package 'NGScopyData' ...
** testing if installed package can be loaded
* MD5 sums
packaged installation of 'NGScopyData' as NGScopyData_1.11.0.zip
* DONE (NGScopyData)
* installing to library 'D:/biocbuild/bbs-3.13-bioc/R/library'
package 'NGScopyData' successfully unpacked and MD5 sums checked