Back to Multiple platform build/check report for BioC 3.13 experimental data |
|
This page was generated on 2021-01-14 15:59:10 -0500 (Thu, 14 Jan 2021).
TO THE DEVELOPERS/MAINTAINERS OF THE NGScopyData PACKAGE: Please make sure to use the following settings in order to reproduce any error or warning you see on this page. |
Package 250/385 | Hostname | OS / Arch | INSTALL | BUILD | CHECK | ||||||
NGScopyData 1.11.0 Xiaobei Zhao
| malbec2 | Linux (Ubuntu 20.04.1 LTS) / x86_64 | OK | OK | OK | ![]() | |||||
riesling1 | Windows Server 2019 Standard / x64 | OK | OK | [ OK ] |
Package: NGScopyData |
Version: 1.11.0 |
Command: D:\biocbuild\bbs-3.13-bioc\R\bin\R.exe CMD check --force-multiarch --install=check:NGScopyData.install-out.txt --library=D:\biocbuild\bbs-3.13-bioc\R\library --no-vignettes --timings NGScopyData_1.11.0.tar.gz |
StartedAt: 2021-01-14 11:32:25 -0500 (Thu, 14 Jan 2021) |
EndedAt: 2021-01-14 11:32:43 -0500 (Thu, 14 Jan 2021) |
EllapsedTime: 18.1 seconds |
RetCode: 0 |
Status: OK |
CheckDir: NGScopyData.Rcheck |
Warnings: 0 |
############################################################################## ############################################################################## ### ### Running command: ### ### D:\biocbuild\bbs-3.13-bioc\R\bin\R.exe CMD check --force-multiarch --install=check:NGScopyData.install-out.txt --library=D:\biocbuild\bbs-3.13-bioc\R\library --no-vignettes --timings NGScopyData_1.11.0.tar.gz ### ############################################################################## ############################################################################## * using log directory 'D:/biocbuild/bbs-3.13-data-experiment/meat/NGScopyData.Rcheck' * using R Under development (unstable) (2020-12-30 r79736) * using platform: x86_64-w64-mingw32 (64-bit) * using session charset: ISO8859-1 * using option '--no-vignettes' * checking for file 'NGScopyData/DESCRIPTION' ... OK * checking extension type ... Package * this is package 'NGScopyData' version '1.11.0' * checking package namespace information ... OK * checking package dependencies ... OK * checking if this is a source package ... OK * checking if there is a namespace ... OK * checking for hidden files and directories ... OK * checking for portable file names ... OK * checking whether package 'NGScopyData' can be installed ... OK * checking installed package size ... NOTE installed size is 37.8Mb sub-directories of 1Mb or more: extdata 37.7Mb * checking package directory ... OK * checking DESCRIPTION meta-information ... OK * checking top-level files ... OK * checking for left-over files ... OK * checking index information ... OK * checking package subdirectories ... OK * checking R files for non-ASCII characters ... OK * checking R files for syntax errors ... OK * loading checks for arch 'i386' ** checking whether the package can be loaded ... OK ** checking whether the package can be loaded with stated dependencies ... OK ** checking whether the package can be unloaded cleanly ... OK ** checking whether the namespace can be loaded with stated dependencies ... OK ** checking whether the namespace can be unloaded cleanly ... OK * loading checks for arch 'x64' ** checking whether the package can be loaded ... OK ** checking whether the package can be loaded with stated dependencies ... OK ** checking whether the package can be unloaded cleanly ... OK ** checking whether the namespace can be loaded with stated dependencies ... OK ** checking whether the namespace can be unloaded cleanly ... OK * checking dependencies in R code ... OK * checking S3 generic/method consistency ... OK * checking replacement functions ... OK * checking foreign function calls ... OK * checking R code for possible problems ... OK * checking Rd files ... OK * checking Rd metadata ... OK * checking Rd cross-references ... OK * checking for missing documentation entries ... OK * checking for code/documentation mismatches ... OK * checking Rd \usage sections ... OK * checking Rd contents ... OK * checking for unstated dependencies in examples ... OK * checking examples ... ** running examples for arch 'i386' ... OK ** running examples for arch 'x64' ... OK * checking PDF version of manual ... OK * DONE Status: 1 NOTE See 'D:/biocbuild/bbs-3.13-data-experiment/meat/NGScopyData.Rcheck/00check.log' for details.
NGScopyData.Rcheck/00install.out
############################################################################## ############################################################################## ### ### Running command: ### ### C:\cygwin\bin\curl.exe -O http://172.29.0.4/BBS/3.13/data-experiment/src/contrib/NGScopyData_1.11.0.tar.gz && rm -rf NGScopyData.buildbin-libdir && mkdir NGScopyData.buildbin-libdir && D:\biocbuild\bbs-3.13-bioc\R\bin\R.exe CMD INSTALL --merge-multiarch --build --library=NGScopyData.buildbin-libdir NGScopyData_1.11.0.tar.gz && D:\biocbuild\bbs-3.13-bioc\R\bin\R.exe CMD INSTALL NGScopyData_1.11.0.zip && rm NGScopyData_1.11.0.tar.gz NGScopyData_1.11.0.zip ### ############################################################################## ############################################################################## % Total % Received % Xferd Average Speed Time Time Time Current Dload Upload Total Spent Left Speed 0 0 0 0 0 0 0 0 --:--:-- --:--:-- --:--:-- 0 0 36.9M 0 9973 0 0 10643 0 1:00:44 --:--:-- 1:00:44 10632 15 36.9M 15 5938k 0 0 3612k 0 0:00:10 0:00:01 0:00:09 3609k 58 36.9M 58 21.6M 0 0 7501k 0 0:00:05 0:00:02 0:00:03 7498k 58 36.9M 58 21.7M 0 0 5653k 0 0:00:06 0:00:03 0:00:03 5652k 100 36.9M 100 36.9M 0 0 8894k 0 0:00:04 0:00:04 --:--:-- 8896k install for i386 * installing *source* package 'NGScopyData' ... ** using staged installation ** R ** inst ** byte-compile and prepare package for lazy loading ** help *** installing help indices converting help for package 'NGScopyData' finding HTML links ... done NGScopyData-package html REDIRECT:topic NGScopyData -> NGScopyData-package.html [ SUCCESS ] REDIRECT:topic NGScopyData-package -> NGScopyData-package.html [ SUCCESS ] tps_27.chr6 html REDIRECT:topic tps_27.chr6 -> tps_27.chr6.html [ SUCCESS ] tps_90.chr6 html REDIRECT:topic tps_90.chr6 -> tps_90.chr6.html [ SUCCESS ] tps_N8.chr6 html REDIRECT:topic tps_N8.chr6 -> tps_N8.chr6.html [ SUCCESS ] ** building package indices ** testing if installed package can be loaded from temporary location ** testing if installed package can be loaded from final location ** testing if installed package keeps a record of temporary installation path install for x64 * installing *source* package 'NGScopyData' ... ** testing if installed package can be loaded * MD5 sums packaged installation of 'NGScopyData' as NGScopyData_1.11.0.zip * DONE (NGScopyData) * installing to library 'D:/biocbuild/bbs-3.13-bioc/R/library' package 'NGScopyData' successfully unpacked and MD5 sums checked
NGScopyData.Rcheck/examples_i386/NGScopyData-Ex.timings
|
NGScopyData.Rcheck/examples_x64/NGScopyData-Ex.timings
|